{"text_format":"1","workbook":"xlsx","n_sheets":8,"sheets":["效率前緣","四支股票","台灣美元兌新台幣匯率(元)(USD)","台灣重貼現率-月（百分比）","美國十年期公債殖利率（百分比）","消費者物價指數ＣＰＩ","PPP","UIRP"],"not_rendered":{"charts":5,"images":0,"macros":0,"external_links":0,"defined_names":57,"comments":0,"pivot_tables":0},"unopened":[],"bounds":{"document_bytes":16777216,"sheet_cells":100000,"rows_first":2000,"rows_last":500,"rows_between":2000,"halvings":0,"cell_chars":16384,"cell_head_chars":4096},"cells_cut":0,"cells_raw":0,"read":"whole","date_system":"1900"}

{"sheet":"效率前緣","index":0,"n_rows":521,"n_cols":34,"rows_kept":521,"cut":false,"hidden":false,"merged":[[0,22,0,23],[0,16,0,19]]}
[null,"日期","大盤報酬率-Ln","台積電報酬率-Ln","國泰金報酬率-Ln","統一報酬率-Ln","綠界科技報酬率-Ln",null,null,null,"2330台積電","2882國泰金","1216統一","6763綠界科技",null,null,"變數",null,null,null,"目標式",null,"限制式1",null,"限制式2",null,null,null,null,"2330台積電","2882國泰金","1216統一","6763綠界科技","和"]
[1,"2021-01-04",{"$f":"四支股票!D4","v":6.5547556984154815E-3},{"$f":"四支股票!H4","v":1.1131840368844199E-2},{"$f":"四支股票!L4","v":1.1883305446525072E-3},{"$f":"四支股票!P4","v":-8.9153340721531103E-3},0,null,null,null,{"$f":"AVERAGE(D2:D520)","v":-9.203192845298275E-5},{"$f":"AVERAGE(E2:E520)","v":6.3105032926045123E-5},{"$f":"AVERAGE(F2:F520)","v":-2.8523228991098741E-6},{"$f":"AVERAGE(G2:G520)","v":1.4607550284944895E-3},null,null,"2330台積電","2882國泰金","1216統一","6763綠界科技","投資組合變異最小（風險最小）","STD","規劃求解結果=","投資組合期望報酬（給定）","W1+W2+W3+W4=",null,null,null,"投資組合權重",0,0,0,0.99999999961953356,{"$f":"SUM(AD2:AG2)","v":0.99999999961953356}]
[2,"2021-01-05",{"$f":"四支股票!D5","v":-1.127325585555941E-3},{"$f":"四支股票!H5","v":1.2832440069884359E-2},{"$f":"四支股票!L5","v":-1.3150195948328138E-2},{"$f":"四支股票!P5","v":-1.352390279051202E-2},{"$f":"四支股票!T5","v":3.0089334235822329E-2},null,null,"標準差",{"$f":"_xlfn.STDEV.P(D2:D520)","v":1.8148104568614147E-2},{"$f":"_xlfn.STDEV.P(E2:E520)","v":1.6363147406410181E-2},{"$f":"_xlfn.STDEV.P(F2:F520)","v":1.0004884382061836E-2},{"$f":"_xlfn.STDEV.P(G2:G520)","v":3.6835015798267298E-2},null,1,0,0,2.7162359131708773E-2,0.97283764086829128,{"$f":"MMULT(Q3:T3,MMULT($K$5:$N$8,TRANSPOSE(Q3:T3)))","v":1.2886280001626026E-3},{"$f":"SQRT(U3)","v":3.5897465093828039E-2},{"$f":"SUMPRODUCT($K$2:$N$2,Q3:T3)","v":1.4209999999881275E-3},1.421E-3,{"$f":"SUM(Q3:T3)","v":1}]
[3,"2021-01-06",{"$f":"四支股票!D6","v":1.5291162860491942E-2},{"$f":"四支股票!H6","v":2.8727289636910271E-2},{"$f":"四支股票!L6","v":8.3883774267196586E-3},{"$f":"四支股票!P6","v":7.535830915858902E-3},{"$f":"四支股票!T6","v":-3.125007709809276E-3},null,null,"Var-Cov","2330台積電","2882國泰金","1216統一","6763綠界科技",null,2,0,0,7.7722367544852705E-2,0.92227763245514727,{"$f":"MMULT(Q4:T4,MMULT($K$5:$N$8,TRANSPOSE(Q4:T4)))","v":1.161869077049653E-3},{"$f":"SQRT(U4)","v":3.4086200683702682E-2},{"$f":"SUMPRODUCT($K$2:$N$2,Q4:T4)","v":1.3469999999881277E-3},1.3470000000000001E-3,{"$f":"SUM(Q4:T4)","v":1}]
[4,"2021-01-07",{"$f":"四支股票!D7","v":1.6295464619577673E-2},{"$f":"四支股票!H7","v":2.6202372394024117E-2},{"$f":"四支股票!L7","v":2.2419723708554235E-2},{"$f":"四支股票!P7","v":1.6381588088769012E-2},{"$f":"四支股票!T7","v":-1.1015056599637836E-2},null,null,"2330台積電",3.2998951738592771E-4,1.3371024459091772E-4,4.5064481806669608E-5,1.8069074924427546E-4,null,3,0,0,0.12772236754485269,0.87227763245514722,{"$f":"MMULT(Q5:T5,MMULT($K$5:$N$8,TRANSPOSE(Q5:T5)))","v":1.0435227859245633E-3},3.2303603296297508E-2,1.2738196324184477E-3,1.273E-3,0.99999999999999989,null,null,null,"投資組合報酬率",{"$f":"AD2*$K$2+AE2*$L$2+AF2*$M$2+AG2*$N$2","v":1.4607550279387212E-3}]
[5,"2021-01-08",{"$f":"四支股票!D8","v":6.0184481136918459E-3},{"$f":"四支股票!H8","v":6.8728792877620504E-3},{"$f":"四支股票!L8","v":-5.8513920423751559E-3},{"$f":"四支股票!P8","v":-5.9258543778777815E-3},{"$f":"四支股票!T8","v":-3.1695800066377428E-3},null,null,"2882國泰金",1.3371024459091772E-4,2.6826948994167595E-4,6.1474375778468294E-5,1.0621988606662833E-4,null,4,0,0,0.17952562771996364,0.82047437228003628,{"$f":"MMULT(Q6:T6,MMULT($K$5:$N$8,TRANSPOSE(Q6:T6)))","v":9.2825949009603306E-4},3.0467351215621503E-2,1.1980000000000001E-3,1.199E-3,0.99999999999999989,null,null,null,"投資組合風險",{"$f":"SQRT(AD2*AD2*$K$5+AE2*AE2*$L$6+AF2*AF2*$M$7+AG2*AG2*$N$8+2*(AD2*AE2*$K$6+AD2*AF2*$K$7+AD2*AG2*$K$8+AE2*AF2*$L$7+AE2*AG2*$L$8+AF2*AG2*$M$8))","v":3.6873695890075497E-2}]
[6,"2021-01-11",{"$f":"四支股票!D9","v":-3.6447725325188247E-3},{"$f":"四支股票!H9","v":1.1915034577871244E-2},{"$f":"四支股票!L9","v":-7.0671439153967173E-3},{"$f":"四支股票!P9","v":-4.4676618362382049E-3},{"$f":"四支股票!T9","v":-1.5885344129329172E-3},null,null,"1216統一",4.5064481806669608E-5,6.1474375778468294E-5,1.0029095032371137E-4,3.3019666134424466E-5,null,5,0,0,0.22952562771996363,0.77047437228003623,{"$f":"MMULT(Q7:T7,MMULT($K$5:$N$8,TRANSPOSE(Q7:T7)))","v":8.2410376988263667E-4},2.8707207629489789E-2,1.1248196324303201E-3,1.1249999999999999E-3,0.99999999999999989]
[7,"2021-01-12",{"$f":"四支股票!D10","v":1.7222965707514623E-2},{"$f":"四支股票!H10","v":2.341244062474326E-2},{"$f":"四支股票!L10","v":2.3613469961523267E-3},{"$f":"四支股票!P10","v":0},{"$f":"四支股票!T10","v":-4.7808623527918594E-3},null,null,"6763綠界科技",1.8069074924427546E-4,1.0621988606662833E-4,3.3019666134424466E-5,1.3596694496283879E-3,null,6,0,1.4171517863361923E-3,0.27817233977592054,0.72041050843774312,{"$f":"MMULT(Q8:T8,MMULT($K$5:$N$8,TRANSPOSE(Q8:T8)))","v":7.2691717633186252E-4},2.6961401601768825E-2,1.0516392648562013E-3,1.0510000000000001E-3,0.99999999999999978]
[8,"2021-01-13",{"$f":"四支股票!D11","v":-3.9895658021679428E-3},{"$f":"四支股票!H11","v":-2.1721823146835798E-2},{"$f":"四支股票!L11","v":2.3556665226487968E-3},{"$f":"四支股票!P11","v":-2.9894939381873401E-3},{"$f":"四支股票!T11","v":-6.4102931540125285E-3},null,null,null,null,null,null,null,null,7,0,1.1943985347443464E-2,0.31911667896570151,0.66893933568685504,{"$f":"MMULT(Q9:T9,MMULT($K$5:$N$8,TRANSPOSE(Q9:T9)))","v":6.3493947654567971E-4},2.5198005408081009E-2,9.7700000014005377E-4,9.7700000000000109E-4,1]
[9,"2021-01-14",{"$f":"四支股票!D12","v":-5.7976154774999171E-3},{"$f":"四支股票!H12","v":1.5088299651201826E-2},{"$f":"四支股票!L12","v":-1.6607760323105774E-2},{"$f":"四支股票!P12","v":-1.2048383426353181E-2},{"$f":"四支股票!T12","v":-4.8348682899152402E-3},null,null,"標準差(SD)",{"$f":"K5^0.5","v":1.8165613597837197E-2},{"$f":"L6^0.5","v":1.6378934334738509E-2},{"$f":"M7^0.5","v":1.0014536950039746E-2},{"$f":"N8^0.5","v":3.6873695904104699E-2},null,8,0,2.2521695787599032E-2,0.36025890403463839,0.61721940017776267,{"$f":"MMULT(Q10:T10,MMULT($K$5:$N$8,TRANSPOSE(Q10:T10)))","v":5.4976694429070057E-4},2.3447109508225115E-2,9.020000001266601E-4,9.0300000000000102E-4,1]
[10,"2021-01-15",{"$f":"四支股票!D13","v":-2.8113188533841185E-4},{"$f":"四支股票!H13","v":9.9338565242906747E-3},{"$f":"四支股票!L13","v":-1.4458034979940254E-2},{"$f":"四支股票!P13","v":2.0990305565425898E-2},{"$f":"四支股票!T13","v":-8.1103264665411037E-3},null,null,"Correlation","2330台積電","2882國泰金","1216統一","6763綠界科技",null,9,0,3.2958369757036636E-2,0.40085256641135691,0.5661890638316065,{"$f":"MMULT(Q11:T11,MMULT($K$5:$N$8,TRANSPOSE(Q11:T11)))","v":4.7285252543850348E-4},2.1745172462836516E-2,8.2800000012497128E-4,8.2900000000000096E-4,1]
[11,"2021-01-18",{"$f":"四支股票!D14","v":1.685498302510521E-2},{"$f":"四支股票!H14","v":3.2417749573422534E-2},{"$f":"四支股票!L14","v":3.6340924747803056E-3},{"$f":"四支股票!P14","v":-4.4610334204750286E-3},{"$f":"四支股票!T14","v":-8.1766466299470087E-3},null,null,"2330台積電",1,0.44939575881263299,0.24771564497721496,0.26975479732532986,null,10,0,4.3395043568349688E-2,0.44144622893792024,0.51515872749373004,{"$f":"MMULT(Q12:T12,MMULT($K$5:$N$8,TRANSPOSE(Q12:T12)))","v":4.0301278433687085E-4},2.0075178313949563E-2,7.5400000012497122E-4,7.55000000000001E-4,1]
[12,"2021-01-19",{"$f":"四支股票!D15","v":-4.4938492841729953E-3},{"$f":"四支股票!H15","v":3.1399753867979885E-2},{"$f":"四支股票!L15","v":-1.7073487907795015E-2},{"$f":"四支股票!P15","v":-4.2624336271505123E-2},{"$f":"四支股票!T15","v":3.2787013660806122E-3},null,null,"2882國泰金",0.44939575881263299,1,0.3747810404014047,0.17587476077901368,null,11,0,5.369068179811811E-2,0.48149132792274552,0.46481799027913628,{"$f":"MMULT(Q13:T13,MMULT($K$5:$N$8,TRANSPOSE(Q13:T13)))","v":3.4104874162026129E-4},1.8467505018823233E-2,6.8100000013728631E-4,6.8100000000000202E-4,0.99999999999999989]
[13,"2021-01-20",{"$f":"四支股票!D16","v":2.1752446866334027E-2},{"$f":"四支股票!H16","v":3.9399035143827275E-2},{"$f":"四支股票!L16","v":0},{"$f":"四支股票!P16","v":2.7609038700582681E-2},{"$f":"四支股票!T16","v":4.0101598265201752E-2},null,null,"1216統一",0.24771564497721496,0.3747810404014047,1,8.9418037652944413E-2,null,12,0,6.4127356023875537E-2,0.52208499005238762,0.41378765392373679,{"$f":"MMULT(Q14:T14,MMULT($K$5:$N$8,TRANSPOSE(Q14:T14)))","v":2.8526275226273951E-4},1.6889723273717055E-2,6.070000001389751E-4,6.0700000000000196E-4,1]
[14,"2021-01-21",{"$f":"四支股票!D17","v":-8.3760223897332564E-3},{"$f":"四支股票!H17","v":-3.6312612940637791E-2},{"$f":"四支股票!L17","v":-2.4631292938012356E-3},{"$f":"四支股票!P17","v":9.0361913436115843E-3},{"$f":"四支股票!T17","v":2.6378595694373726E-2},null,null,"6763綠界科技",0.26975479732532986,0.17587476077901368,8.9418037652944413E-2,1.0000000000000002,null,13,0,7.4564030159131503E-2,0.56267865226960645,0.36275731757126195,{"$f":"MMULT(Q15:T15,MMULT($K$5:$N$8,TRANSPOSE(Q15:T15)))","v":2.3655144065259259E-4},1.5380228888173043E-2,5.3300000013897515E-4,5.3300000000000201E-4,0.99999999999999989]
[15,"2021-01-22",{"$f":"四支股票!D18","v":-4.5355272913229806E-3},{"$f":"四支股票!H18","v":-2.4962294559913834E-2},{"$f":"四支股票!L18","v":1.1036310803798561E-2},{"$f":"四支股票!P18","v":0},{"$f":"四支股票!T18","v":-3.0674962599651534E-3},null,null,null,null,null,null,null,null,14,0,8.5000704443064859E-2,0.60327231434484818,0.31172698121208692,{"$f":"MMULT(Q16:T16,MMULT($K$5:$N$8,TRANSPOSE(Q16:T16)))","v":1.9491480679117407E-4},1.3961189304324115E-2,4.5900000013897503E-4,4.59000000000002E-4,1]
[16,"2021-01-25",{"$f":"四支股票!D19","v":-1.8205652852815602E-2},{"$f":"四支股票!H19","v":-2.5601398238788337E-2},{"$f":"四支股票!L19","v":-1.2270092591814359E-2},{"$f":"四支股票!P19","v":4.4877114469003077E-3},{"$f":"四支股票!T19","v":-1.704147187409313E-2},null,null,null,null,null,null,null,null,15,0,9.543737842964678E-2,0.64386597670404244,0.26069664486631072,{"$f":"MMULT(Q17:T17,MMULT($K$5:$N$8,TRANSPOSE(Q17:T17)))","v":1.6035285067848327E-4},1.2663050607120042E-2,3.8500000013897318E-4,3.8499999999999998E-4,0.99999999999999989]
[17,"2021-01-26",{"$f":"四支股票!D20","v":2.7168498050162142E-3},{"$f":"四支股票!H20","v":-3.2467560988699812E-3},{"$f":"四支股票!L20","v":0},{"$f":"四支股票!P20","v":2.9805834952795051E-3},{"$f":"四支股票!T20","v":-9.4192459956652982E-3},null,null,null,null,null,null,null,null,16,0,0.10587405256490352,0.68445963892126072,0.2096663085138358,{"$f":"MMULT(Q18:T18,MMULT($K$5:$N$8,TRANSPOSE(Q18:T18)))","v":1.32865572314522E-4},1.1526732941927733E-2,3.1100000013897311E-4,3.1100000000000002E-4,1]
[18,"2021-01-27",{"$f":"四支股票!D21","v":-1.8354937824981227E-2},{"$f":"四支股票!H21","v":-2.3027333271310235E-2},{"$f":"四支股票!L21","v":-9.9256896752829855E-3},{"$f":"四支股票!P21","v":1.0362861133485385E-2},{"$f":"四支股票!T21","v":-2.2329464217415468E-2},null,null,null,null,null,null,null,null,17,0,0.11645176287246968,0.72560186411607419,0.15794637301145609,{"$f":"MMULT(Q19:T19,MMULT($K$5:$N$8,TRANSPOSE(Q19:T19)))","v":1.1222557359022412E-4},1.05936572339407E-2,2.360000001266589E-4,2.3699999999999999E-4,1]
[19,"2021-01-28",{"$f":"四支股票!D22","v":-1.816955083264157E-2},{"$f":"四支股票!H22","v":-1.6778917129109366E-2},{"$f":"四支股票!L22","v":-4.9999104160807521E-3},{"$f":"四支股票!P22","v":1.4716411563757863E-3},{"$f":"四支股票!T22","v":-1.4622515612436529E-2},null,null,null,null,null,null,null,null,18,3.6757791732012976E-2,0.10803795404324368,0.74451577579776129,0.11068847842698208,{"$f":"MMULT(Q20:T20,MMULT($K$5:$N$8,TRANSPOSE(Q20:T20)))","v":9.8698489599785284E-5},9.9347113495956828E-3,1.6300000025095258E-4,1.63E-4,1]
[20,"2021-01-29",{"$f":"四支股票!D23","v":1.7793891015975984E-2},{"$f":"四支股票!H23","v":3.3280941765497153E-2},{"$f":"四支股票!L23","v":0},{"$f":"四支股票!P23","v":0},{"$f":"四支股票!T23","v":3.062282994006027E-2},null,null,null,null,null,null,null,null,19,7.9853710580208126E-2,9.6539122138943889E-2,0.76033460991946877,6.3272557361379156E-2,{"$f":"MMULT(Q21:T21,MMULT($K$5:$N$8,TRANSPOSE(Q21:T21)))","v":9.0885874006735686E-5},9.5334083100817452E-3,8.9000000014888205E-5,8.89999999999999E-5,0.99999999999999989]
[21,"2021-02-01",{"$f":"四支股票!D24","v":2.2455765085343214E-2},{"$f":"四支股票!H24","v":3.3792434975262207E-2},{"$f":"四支股票!L24","v":9.9750701176112826E-3},{"$f":"四支股票!P24","v":-5.8997517129875101E-3},{"$f":"四支股票!T24","v":4.7506457137322169E-3},null,null,null,null,null,null,null,null,20,0.12294962027924289,8.5040306097993137E-2,0.77615343842586393,1.5856635196899917E-2,{"$f":"MMULT(Q22:T22,MMULT($K$5:$N$8,TRANSPOSE(Q22:T22)))","v":8.90027399486904E-5},9.4341263479291188E-3,1.5000000032723441E-5,1.5E-5,0.99999999999999989]
[22,"2021-02-02",{"$f":"四支股票!D25","v":7.1487591169065766E-4},{"$f":"四支股票!H25","v":-3.1695747612790672E-3},{"$f":"四支股票!L25","v":0},{"$f":"四支股票!P25","v":7.3692303237715313E-3},{"$f":"四支股票!T25","v":2.0329032446113462E-2},null,null,null,null,null,null,null,null,21,0.12469675480375726,8.4574137386139711E-2,0.77679474055106312,1.3934367259040188E-2,{"$f":"MMULT(Q23:T23,MMULT($K$5:$N$8,TRANSPOSE(Q23:T23)))","v":8.9051461552011141E-5},9.4367081947049278E-3,1.1999998524175709E-5,1.1E-5,1.0000000000000002]
[23,"2021-02-03",{"$f":"四支股票!D26","v":-4.1363256935224154E-3},{"$f":"四支股票!H26","v":-4.7732787526576599E-3},{"$f":"四支股票!L26","v":9.8766728798323055E-3},{"$f":"四支股票!P26","v":5.856561481289024E-3},{"$f":"四支股票!T26","v":-3.1007181577371971E-3},null,null,null,null,null,null,null,null,22,0.12758775109079595,8.3803625947796584E-2,0.77787959604547219,1.0729026915935228E-2,{"$f":"MMULT(Q24:T24,MMULT($K$5:$N$8,TRANSPOSE(Q24:T24)))","v":8.9154320542049047E-5},9.4421565620386241E-3,7.000000028646838E-6,6.9999999999999999E-6,1]
[24,"2021-02-04",{"$f":"四支股票!D27","v":6.1050571160864448E-3},{"$f":"四支股票!H27","v":7.9428535139367314E-3},{"$f":"四支股票!L27","v":-2.4600996719715833E-3},{"$f":"四支股票!P27","v":2.9154102920006639E-3},{"$f":"四支股票!T27","v":0},null,null,null,null,null,null,null,null,23,0.12989093720838504,8.3193441950570407E-2,0.77875173317631252,8.1638876647319551E-3,{"$f":"MMULT(Q25:T25,MMULT($K$5:$N$8,TRANSPOSE(Q25:T25)))","v":8.925609882859418E-5},9.4475445925697628E-3,3.0000000107298425E-6,3.0000000000000001E-6,0.99999999999999989]
[25,"2021-02-05",{"$f":"四支股票!D28","v":3.4817447337859117E-2},{"$f":"四支股票!H28","v":4.7885596039005121E-2},{"$f":"四支股票!L28","v":3.2710439404515172E-2},{"$f":"四支股票!P28","v":1.4546329837677753E-3},{"$f":"四支股票!T28","v":3.1007181577371676E-3},null,null,null,null,null,null,null,null,24,0.13224984218569558,8.2559224735057349E-2,0.77958770657155496,5.603226507692083E-3,{"$f":"MMULT(Q26:T26,MMULT($K$5:$N$8,TRANSPOSE(Q26:T26)))","v":8.9375200962942363E-5},9.453845829234914E-3,-9.999999891114073E-7,-9.999999999999989E-7,0.99999999999999989]
[26,"2021-02-17",{"$f":"四支股票!D29","v":3.7954177937858683E-3},{"$f":"四支股票!H29","v":-4.5351551653912622E-3},{"$f":"四支股票!L29","v":5.9417879875311658E-3},{"$f":"四支股票!P29","v":-1.454632983767902E-3},{"$f":"四支股票!T29","v":-1.5491594256203489E-3},null,null,null,null,null,null,null,null,25,0.13456632952020978,8.1942882360807587E-2,0.78045161286212317,3.0391752568595149E-3,{"$f":"MMULT(Q27:T27,MMULT($K$5:$N$8,TRANSPOSE(Q27:T27)))","v":8.9511628891300544E-5},9.4610585502522149E-3,-4.9999999892309421E-6,-5.0000000000000004E-6,1]
[27,"2021-02-18",{"$f":"四支股票!D30","v":-5.0741830760492775E-3},{"$f":"四支股票!H30","v":-1.2195273093818243E-2},{"$f":"四支股票!L30","v":-8.3284955928903132E-3},{"$f":"四支股票!P30","v":-4.3763016919099651E-3},{"$f":"四支股票!T30","v":5.2842512496549518E-2},null,null,null,null,null,null,null,null,26,0.13757720942361776,8.0954439158429592E-2,0.78146835141795268,0,{"$f":"MMULT(Q28:T28,MMULT($K$5:$N$8,TRANSPOSE(Q28:T28)))","v":8.9697475055758476E-5},9.470875094507291E-3,-9.7818634195122651E-6,-9.0000000000000002E-6,1]
[28,"2021-02-19",{"$f":"四支股票!D31","v":4.2001306827932324E-3},{"$f":"四支股票!H31","v":-3.0721990369701403E-3},{"$f":"四支股票!L31","v":4.7676134919860105E-3},{"$f":"四支股票!P31","v":1.4608913999091121E-3},{"$f":"四支股票!T31","v":0},null,null,null,null,null,null,null,null,27,0.18807716963337312,2.4636686826551433E-2,0.78728614354007553,0,{"$f":"MMULT(Q29:T29,MMULT($K$5:$N$8,TRANSPOSE(Q29:T29)))","v":9.0967134088867734E-5},9.5376692167881208E-3,-1.7999999981331167E-5,-1.8E-5,1]
[29,"2021-02-22",{"$f":"四支股票!D32","v":2.0235399627314037E-3},{"$f":"四支股票!H32","v":-1.394290596901275E-2},{"$f":"四支股票!L32","v":1.5339581016038434E-2},{"$f":"四支股票!P32","v":7.2727593290798781E-3},{"$f":"四支股票!T32","v":7.3260274817601757E-3},null,null,null,null,null,null,null,null,28,0.2768761164729403,0,0.7231238835270597,0,{"$f":"MMULT(Q30:T30,MMULT($K$5:$N$8,TRANSPOSE(Q30:T30)))","v":9.5785314943731473E-5},9.7869972383633312E-3,-2.7544025753454856E-5,-2.6999999999999999E-5,1]
[30,"2021-02-23",{"$f":"四支股票!D33","v":-1.4139787772117104E-2},{"$f":"四支股票!H33","v":-2.5277807184268541E-2},{"$f":"四支股票!L33","v":-1.1716228227775737E-3},{"$f":"四支股票!P33","v":1.4481972328044118E-3},{"$f":"四支股票!T33","v":-1.3225763214863217E-2},null,null,null,null,null,null,null,null,29,0.37687611647294028,0,0.62312388352705972,0,{"$f":"MMULT(Q31:T31,MMULT($K$5:$N$8,TRANSPOSE(Q31:T31)))","v":1.069775017746087E-4},1.0342992882846274E-2,-3.6461986308842144E-5,-3.6000000000000001E-5,1]
[31,"2021-02-24",{"$f":"四支股票!D34","v":1.4673555359577806E-2},{"$f":"四支股票!H34","v":1.5873349156290163E-2},{"$f":"四支股票!L34","v":2.2029783652423193E-2},{"$f":"四支股票!P34","v":1.1510976022003678E-2},{"$f":"四支股票!T34","v":0},null,null,null,null,null,null,null,null,30,0.47687611647294026,0,0.52312388352705974,0,{"$f":"MMULT(Q32:T32,MMULT($K$5:$N$8,TRANSPOSE(Q32:T32)))","v":1.2497271868741193E-4},1.1179119763532903E-2,-4.5379946864229425E-5,-4.5000000000000003E-5,1]
[32,"2021-02-25",{"$f":"四支股票!D35","v":-3.0760939116861726E-2},{"$f":"四支股票!H35","v":-4.6745012823377181E-2},{"$f":"四支股票!L35","v":-3.8578647732310727E-2},{"$f":"四支股票!P35","v":-3.9392474965821843E-2},{"$f":"四支股票!T35","v":-1.1904930206983652E-2},null,null,null,null,null,null,null,null,31,0.57687611647294035,0,0.42312388352705971,0,{"$f":"MMULT(Q33:T33,MMULT($K$5:$N$8,TRANSPOSE(Q33:T33)))","v":1.4977096568214118E-4},1.2238094855088401E-2,-5.429790741961672E-5,-5.3999999999999998E-5,1]
[33,"2021-02-26",{"$f":"四支股票!D36","v":-4.3384167210342573E-4},{"$f":"四支股票!H36","v":4.9382816405825767E-3},{"$f":"四支股票!L36","v":-1.1925820903292968E-3},{"$f":"四支股票!P36","v":1.1834502289861029E-2},{"$f":"四支股票!T36","v":3.5297803061080366E-2},null,null,null,null,null,null,null,null,32,0.67687611647294044,0,0.32312388352705967,0,{"$f":"MMULT(Q34:T34,MMULT($K$5:$N$8,TRANSPOSE(Q34:T34)))","v":1.8137224275879645E-4},1.3467451234691605E-2,-6.3215867975004029E-5,-6.3E-5,1]
[34,"2021-03-02",{"$f":"四支股票!D37","v":1.6471891752575147E-2},{"$f":"四支股票!H37","v":2.1121825029282504E-2},{"$f":"四支股票!L37","v":1.5393956856832472E-2},{"$f":"四支股票!P37","v":1.6046996653957105E-2},{"$f":"四支股票!T37","v":-1.7493137120993724E-2},null,null,null,null,null,null,null,null,33,0.77687611647294053,0,0.22312388352705964,0,{"$f":"MMULT(Q35:T35,MMULT($K$5:$N$8,TRANSPOSE(Q35:T35)))","v":2.1977654991737778E-4},1.4824862559814097E-2,-7.2133828530391317E-5,-7.2000000000000002E-5,1.0000000000000002]
[35,"2021-03-03",{"$f":"四支股票!D38","v":-1.9012900780252483E-2},{"$f":"四支股票!H38","v":-3.4345158203971861E-2},{"$f":"四支股票!L38","v":-4.7114576450597292E-3},{"$f":"四支股票!P38","v":-8.7209565618841349E-3},{"$f":"四支股票!T38","v":2.3256855169503168E-2},null,null,null,null,null,null,null,null,34,0.87687611647294061,0,0.12312388352705962,0,{"$f":"MMULT(Q36:T36,MMULT($K$5:$N$8,TRANSPOSE(Q36:T36)))","v":2.6498388715788502E-4},1.6278325686565096E-2,-8.1051789085778619E-5,-8.1000000000000004E-5,1.0000000000000002]
[36,"2021-03-04",{"$f":"四支股票!D39","v":-3.2227385165937289E-3},{"$f":"四支股票!H39","v":0},{"$f":"四支股票!L39","v":4.7114576450597353E-3},{"$f":"四支股票!P39","v":-1.4608913999091995E-3},{"$f":"四支股票!T39","v":-1.7391783174928829E-2},null,null,null,null,null,null,null,null,35,0.9768761164729407,0,2.3123883527059602E-2,0,{"$f":"MMULT(Q37:T37,MMULT($K$5:$N$8,TRANSPOSE(Q37:T37)))","v":3.1699425448031835E-4},1.7804332463766181E-2,-8.9969749641165907E-5,-9.0000000000000006E-5,1.0000000000000002]
[37,"2021-03-05",{"$f":"四支股票!D40","v":-2.2175061408121663E-3},{"$f":"四支股票!H40","v":-5.0041805845758387E-3},{"$f":"四支股票!L40","v":8.1920410363966259E-3},{"$f":"四支股票!P40","v":5.8309346756777293E-3},{"$f":"四支股票!T40","v":2.9197149212501607E-3},null,null,null,null,null,null,null,null,36,1,0,0,0,{"$f":"MMULT(Q38:T38,MMULT($K$5:$N$8,TRANSPOSE(Q38:T38)))","v":3.2998951738592771E-4},1.8165613597837197E-2,-9.203192845298275E-5,-9.2E-5,1]
[38,"2021-03-08",{"$f":"四支股票!D41","v":2.082486374257468E-3},{"$f":"四支股票!H41","v":-5.0293484050019733E-3},{"$f":"四支股票!L41","v":3.2112781923709428E-2},{"$f":"四支股票!P41","v":1.8718976965925234E-2},{"$f":"四支股票!T41","v":1.8773129259644042E-2}]
[39,"2021-03-09",{"$f":"四支股票!D42","v":3.6883732061742986E-3},{"$f":"四支股票!H42","v":3.3557078469723151E-3},{"$f":"四支股票!L42","v":5.6274769924027331E-3},{"$f":"四支股票!P42","v":1.4255027868481684E-3},{"$f":"四支股票!T42","v":-2.755791617546853E-2}]
[40,"2021-03-10",{"$f":"四支股票!D43","v":1.6695893247393755E-2},{"$f":"四支股票!H43","v":1.9901154317295021E-2},{"$f":"四支股票!L43","v":2.6579660251401405E-2},{"$f":"四支股票!P43","v":-5.7142155484531621E-3},{"$f":"四支股票!T43","v":-2.9455149645271025E-3}]
[41,"2021-03-11",{"$f":"四支股票!D44","v":4.6629173994289482E-3},{"$f":"四支股票!H44","v":8.1766604372455389E-3},{"$f":"四支股票!L44","v":3.2733689179528565E-3},{"$f":"四支股票!P44","v":2.8611893010903138E-3},{"$f":"四支股票!T44","v":-4.4346412526297683E-3}]
[42,"2021-03-12",{"$f":"四支股票!D45","v":-3.599260598151589E-4},{"$f":"四支股票!H45","v":-4.8979689755471421E-3},{"$f":"四支股票!L45","v":1.727902544864442E-2},{"$f":"四支股票!P45","v":-4.2949673244886306E-3},{"$f":"四支股票!T45","v":1.480420484053729E-3}]
[43,"2021-03-15",{"$f":"四支股票!D46","v":3.9204716406820812E-3},{"$f":"四支股票!H46","v":3.267976764616013E-3},{"$f":"四支股票!L46","v":-5.3676992997549865E-3},{"$f":"四支股票!P46","v":-5.7553252389703751E-3},{"$f":"四支股票!T46","v":5.8997357331029643E-3}]
[44,"2021-03-16",{"$f":"四支股票!D47","v":-5.9848253551562092E-3},{"$f":"四支股票!H47","v":-1.4790738001396497E-2},{"$f":"四支股票!L47","v":-1.4092417502294646E-2},{"$f":"四支股票!P47","v":1.4419468453021804E-3},{"$f":"四支股票!T47","v":-1.4815122177112497E-2}]
[45,"2021-03-17",{"$f":"四支股票!D48","v":4.4314793172281182E-3},{"$f":"四支股票!H48","v":-3.3167526259939265E-3},{"$f":"四支股票!L48","v":-7.6712266603900263E-3},{"$f":"四支股票!P48","v":1.0035869178671414E-2},{"$f":"四支股票!T48","v":1.4815122177112533E-2}]
[46,"2021-03-18",{"$f":"四支股票!D49","v":-1.3449678699620196E-2},{"$f":"四支股票!H49","v":-1.8441427902722792E-2},{"$f":"四支股票!L49","v":-1.8879028442719777E-2},{"$f":"四支股票!P49","v":-2.3089020241693924E-2},{"$f":"四支股票!T49","v":0}]
[47,"2021-03-19",{"$f":"四支股票!D50","v":7.3764429184580106E-3},{"$f":"四支股票!H50","v":3.3783815916271906E-3},{"$f":"四支股票!L50","v":2.2173858477722245E-2},{"$f":"四支股票!P50","v":7.2727593290798781E-3},{"$f":"四支股票!T50","v":-8.8627097875524415E-3}]
[48,"2021-03-22",{"$f":"四支股票!D51","v":-7.1863020511732574E-4},{"$f":"四支股票!H51","v":1.6849203649194455E-3},{"$f":"四支股票!L51","v":2.5975508895389056E-2},{"$f":"四支股票!P51","v":-1.4502975500706673E-3},{"$f":"四支股票!T51","v":1.6188737269312629E-2}]
[49,"2021-03-23",{"$f":"四支股票!D52","v":-9.0327243709452613E-3},{"$f":"四支股票!H52","v":-3.077165866675366E-2},{"$f":"四支股票!L52","v":-6.4308689627687972E-3},{"$f":"四支股票!P52","v":-5.8224617790090735E-3},{"$f":"四支股票!T52","v":-4.3892241846614135E-3}]
[50,"2021-03-24",{"$f":"四支股票!D53","v":1.746186670858514E-3},{"$f":"四支股票!H53","v":-1.7376198985408486E-3},{"$f":"四支股票!L53","v":7.4986534016852789E-3},{"$f":"四支股票!P53","v":1.7366529456690823E-2},{"$f":"四支股票!T53","v":5.6995500011668684E-2}]
[51,"2021-03-25",{"$f":"四支股票!D54","v":1.5185367910961839E-2},{"$f":"四支股票!H54","v":2.5752496102414764E-2},{"$f":"四支股票!L54","v":1.5881753225570748E-2},{"$f":"四支股票!P54","v":2.1292501558227248E-2},{"$f":"四支股票!T54","v":4.601628911413376E-2}]
[52,"2021-03-26",{"$f":"四支股票!D55","v":1.0377226626026512E-2},{"$f":"四支股票!H55","v":1.5139061215684306E-2},{"$f":"四支股票!L55","v":8.368291687324201E-3},{"$f":"四支股票!P55","v":6.9979294814718884E-3},{"$f":"四支股票!T55","v":4.0186829027428692E-2}]
[53,"2021-03-29",{"$f":"四支股票!D56","v":4.7791557181156748E-3},{"$f":"四支股票!H56","v":-3.3444847228472486E-3},{"$f":"四支股票!L56","v":0},{"$f":"四支股票!P56","v":1.7968735383821523E-2},{"$f":"四支股票!T56","v":0}]
[54,"2021-03-30",{"$f":"四支股票!D57","v":-7.5043955370881835E-3},{"$f":"四支股票!H57","v":-1.6892293564505636E-2},{"$f":"四支股票!L57","v":-1.0421887233865615E-3},{"$f":"四支股票!P57","v":0},{"$f":"四支股票!T57","v":-5.0955643203245511E-3}]
[55,"2021-03-31",{"$f":"四支股票!D58","v":8.4932754797189067E-3},{"$f":"四支股票!H58","v":2.52326254807245E-2},{"$f":"四支股票!L58","v":0},{"$f":"四支股票!P58","v":-6.8728792877620643E-3},{"$f":"四支股票!T58","v":2.5510825910381551E-3}]
[56,"2021-04-01",{"$f":"四支股票!D59","v":1.4621683179673299E-2},{"$f":"四支股票!H59","v":1.3201511858535981E-2},{"$f":"四支股票!L59","v":1.0421887233866456E-3},{"$f":"四支股票!P59","v":6.8728792877620504E-3},{"$f":"四支股票!T59","v":6.0549644497129358E-2}]
[57,"2021-04-07",{"$f":"四支股票!D60","v":6.5841468530998312E-3},{"$f":"四支股票!H60","v":4.9059787688544056E-3},{"$f":"四支股票!L60","v":-7.3183388349629813E-3},{"$f":"四支股票!P60","v":0},{"$f":"四支股票!T60","v":7.282241593067959E-2}]
[58,"2021-04-08",{"$f":"四支股票!D61","v":-4.2829366605410379E-3},{"$f":"四支股票!H61","v":-4.9059787688545183E-3},{"$f":"四支股票!L61","v":-8.4300181331761967E-3},{"$f":"四支股票!P61","v":-2.7434447369604153E-3},{"$f":"四支股票!T61","v":0.12850206575600304}]
[59,"2021-04-09",{"$f":"四支股票!D62","v":3.3218505455625316E-4},{"$f":"四支股票!H62","v":-8.23049913651548E-3},{"$f":"四支股票!L62","v":3.2277638427546239E-2},{"$f":"四支股票!P62","v":-4.1294345508015766E-3},{"$f":"四支股票!T62","v":0.15078369075023376}]
[60,"2021-04-12",{"$f":"四支股票!D63","v":-2.0655768919255698E-3},{"$f":"四支股票!H63","v":0},{"$f":"四支股票!L63","v":4.0900057433286841E-3},{"$f":"四支股票!P63","v":2.7547814133692017E-3},{"$f":"四支股票!T63","v":-8.9928427939625188E-2}]
[61,"2021-04-13",{"$f":"四支股票!D64","v":2.4374885003113286E-3},{"$f":"四支股票!H64","v":1.1503824481484713E-2},{"$f":"四支股票!L64","v":-9.2261239706152576E-3},{"$f":"四支股票!P64","v":4.1180978743929073E-3},{"$f":"四支股票!T64","v":3.9788270500211748E-2}]
[62,"2021-04-14",{"$f":"四支股票!D65","v":1.2418721398794987E-2},{"$f":"四支股票!H65","v":1.1372990172269981E-2},{"$f":"四支股票!L65","v":2.5420789810274323E-2},{"$f":"四支股票!P65","v":1.3688982475602801E-3},{"$f":"四支股票!T65","v":2.7973844605162824E-2}]
[63,"2021-04-15",{"$f":"四支股票!D66","v":4.7950307097057851E-3},{"$f":"四支股票!H66","v":-1.4646315517239189E-2},{"$f":"四支股票!L66","v":1.0034923371997867E-3},{"$f":"四支股票!P66","v":1.3670405877070895E-3},{"$f":"四支股票!T66","v":8.1103171095398718E-2}]
[64,"2021-04-16",{"$f":"四支股票!D67","v":6.0698854266469891E-3},{"$f":"四支股票!H67","v":-1.1541760440171458E-2},{"$f":"四支股票!L67","v":3.4503177440341024E-2},{"$f":"四支股票!P67","v":2.0284671994469684E-2},{"$f":"四支股票!T67","v":-9.5847602909037623E-3}]
[65,"2021-04-19",{"$f":"四支股票!D68","v":3.5036080576760376E-3},{"$f":"四支股票!H68","v":-1.6597514183643968E-3},{"$f":"四支股票!L68","v":-3.8834223562018372E-3},{"$f":"四支股票!P68","v":1.4618280248033397E-2},{"$f":"四支股票!T68","v":-1.6063952159006435E-3}]
[66,"2021-04-20",{"$f":"四支股票!D69","v":-7.0532553174546134E-3},{"$f":"四支股票!H69","v":-1.6750810424815354E-2},{"$f":"四支股票!L69","v":-9.7752485224174082E-3},{"$f":"四支股票!P69","v":-1.4618280248033459E-2},{"$f":"四支股票!T69","v":-3.6010455293861106E-2}]
[67,"2021-04-21",{"$f":"四支股票!D70","v":-6.1307184373451144E-3},{"$f":"四支股票!H70","v":-1.6906174779074388E-3},{"$f":"四支股票!L70","v":-3.9370325282039476E-3},{"$f":"四支股票!P70","v":1.7253288308202896E-2},{"$f":"四支股票!T70","v":-4.7790632373796202E-2}]
[68,"2021-04-22",{"$f":"四支股票!D71","v":1.1820785264935765E-2},{"$f":"四支股票!H71","v":1.8441427902722931E-2},{"$f":"四支股票!L71","v":3.9370325282038999E-3},{"$f":"四支股票!P71","v":-5.2770835558705485E-3},{"$f":"四支股票!T71","v":2.4180782090106111E-2}]
[69,"2021-04-23",{"$f":"四支股票!D72","v":1.5601094974142643E-2},{"$f":"四支股票!H72","v":1.3201511858535981E-2},{"$f":"四支股票!L72","v":2.3301947522397351E-2},{"$f":"四支股票!P72","v":-1.3236004754814644E-3},{"$f":"四支股票!T72","v":3.4071662043846985E-3}]
[70,"2021-04-26",{"$f":"四支股票!D73","v":1.3427663985105169E-3},{"$f":"四支股票!H73","v":0},{"$f":"四支股票!L73","v":1.5238466299831849E-2},{"$f":"四支股票!P73","v":-3.9814651928027226E-3},{"$f":"四支股票!T73","v":-1.7021686724715398E-3}]
[71,"2021-04-27",{"$f":"四支股票!D74","v":-1.6136708169880879E-3},{"$f":"四支股票!H74","v":-1.3201511858535842E-2},{"$f":"四支股票!L74","v":1.8885368806854882E-3},{"$f":"四支股票!P74","v":7.9471411639853266E-3},{"$f":"四支股票!T74","v":-1.3722300380584283E-2}]
[72,"2021-04-28",{"$f":"四支股票!D75","v":-4.9475511671515795E-5},{"$f":"四支股票!H75","v":-3.327790092674691E-3},{"$f":"四支股票!L75","v":-1.3295561601703716E-2},{"$f":"四支股票!P75","v":-9.2778000872313603E-3},{"$f":"四支股票!T75","v":-5.1384211233404996E-2}]
[73,"2021-04-29",{"$f":"四支股票!D76","v":-1.979486004566729E-2},{"$f":"四支股票!H76","v":-2.0202707317519466E-2},{"$f":"四支股票!L76","v":5.7197297704316263E-3},{"$f":"四支股票!P76","v":-8.0214067534164126E-3},{"$f":"四支股票!T76","v":5.4832498458548679E-2}]
[74,"2021-05-03",{"$f":"四支股票!D77","v":-1.6897534200748479E-2},{"$f":"四支股票!H77","v":5.0890695074712281E-3},{"$f":"四支股票!L77","v":-1.7258280864106731E-2},{"$f":"四支股票!P77","v":-5.3836200740263315E-3},{"$f":"四支股票!T77","v":1.5371778658378401E-2}]
[75,"2021-05-04",{"$f":"四支股票!D78","v":-5.349170994872093E-3},{"$f":"四支股票!H78","v":-1.0204170174241736E-2},{"$f":"四支股票!L78","v":3.6091229906579828E-2},{"$f":"四支股票!P78","v":-1.4956064163096347E-2},{"$f":"四支股票!T78","v":3.6609692218106518E-2}]
[76,"2021-05-05",{"$f":"四支股票!D79","v":8.9202565156761716E-3},{"$f":"四支股票!H79","v":3.4129725962399426E-3},{"$f":"四支股票!L79","v":1.4815159863279454E-2},{"$f":"四支股票!P79","v":2.3020610829737023E-2},{"$f":"四支股票!T79","v":1.9418133375095452E-2}]
[77,"2021-05-06",{"$f":"四支股票!D80","v":1.695758584624716E-2},{"$f":"四支股票!H80","v":2.0236778287352916E-2},{"$f":"四支股票!L80","v":1.2785489234625348E-2},{"$f":"四支股票!P80","v":-1.3395715780649166E-3},{"$f":"四支股票!T80","v":0.15826312048051647}]
[78,"2021-05-07",{"$f":"四支股票!D81","v":-2.8615171977693791E-3},{"$f":"四支股票!H81","v":-1.6835414463862688E-2},{"$f":"四支股票!L81","v":5.4735692058295121E-2},{"$f":"四支股票!P81","v":8.0107106621130179E-3},{"$f":"四支股票!T81","v":3.0978838717838703E-2}]
[79,"2021-05-10",{"$f":"四支股票!D82","v":-3.8591590821400699E-2},{"$f":"四支股票!H82","v":-3.1036973995576443E-2},{"$f":"四支股票!L82","v":-2.7876422046075006E-2},{"$f":"四支股票!P82","v":-6.6711390840481265E-3},{"$f":"四支股票!T82","v":-7.4312037552960036E-2}]
[80,"2021-05-11",{"$f":"四支股票!D83","v":-4.1917803274896304E-2},{"$f":"四支股票!H83","v":-1.9452425926815294E-2},{"$f":"四支股票!L83","v":-7.9012597923029421E-2},{"$f":"四支股票!P83","v":-2.8515157695587514E-2},{"$f":"四支股票!T83","v":9.950384591187942E-3}]
[81,"2021-05-12",{"$f":"四支股票!D84","v":-1.4713749063001649E-2},{"$f":"四支股票!H84","v":-2.3487981307213742E-2},{"$f":"四支股票!L84","v":-2.3211893879703439E-2},{"$f":"四支股票!P84","v":1.3764489914576813E-3},{"$f":"四支股票!T84","v":2.2378551440209553E-2}]
[82,"2021-05-13",{"$f":"四支股票!D85","v":9.9686059470603695E-3},{"$f":"四支股票!H85","v":1.8116437505302785E-2},{"$f":"四支股票!L85","v":7.7973495989756818E-3},{"$f":"四支股票!P85","v":2.0422766468068756E-2},{"$f":"四支股票!T85","v":-3.5190113381312317E-2}]
[83,"2021-05-14",{"$f":"四支股票!D86","v":-3.0354179766194561E-2},{"$f":"四支股票!H86","v":-1.4466798417753376E-2},{"$f":"四支股票!L86","v":-5.6929957927707997E-2},{"$f":"四支股票!P86","v":-2.179921545952641E-2},{"$f":"四支股票!T86","v":0.10850744529434156}]
[84,"2021-05-17",{"$f":"四支股票!D87","v":5.0302292125257761E-2},{"$f":"四支股票!H87","v":4.1040549870267173E-2},{"$f":"四支股票!L87","v":9.5029804159978554E-2},{"$f":"四支股票!P87","v":1.9100198921629123E-2},{"$f":"四支股票!T87","v":0}]
[85,"2021-05-18",{"$f":"四支股票!D88","v":-8.2533300648385862E-4},{"$f":"四支股票!H88","v":-8.779687652045837E-3},{"$f":"四支股票!L88","v":1.484255462172248E-2},{"$f":"四支股票!P88","v":-8.1411303357438198E-3},{"$f":"四支股票!T88","v":-1.2936876690296296E-2}]
[86,"2021-05-19",{"$f":"四支股票!D89","v":-5.6130525891825824E-3},{"$f":"四支股票!H89","v":0},{"$f":"四支股票!L89","v":-1.8587896113610718E-2},{"$f":"四支股票!P89","v":1.4875162517087924E-2},{"$f":"四支股票!T89","v":3.2033484950767667E-2}]
[87,"2021-05-20",{"$f":"四支股票!D90","v":1.6058708091476883E-2},{"$f":"四支股票!H90","v":1.0526412986987603E-2},{"$f":"四支股票!L90","v":1.6744614485712222E-2},{"$f":"四支股票!P90","v":6.6889881507967101E-3},{"$f":"四支股票!T90","v":7.5377957535287332E-3}]
[88,"2021-05-21",{"$f":"四支股票!D91","v":2.2199813613279274E-3},{"$f":"四支股票!H91","v":-8.764297993588242E-3},{"$f":"四支股票!L91","v":-5.5504118750826477E-3},{"$f":"四支股票!P91","v":-1.884311497539334E-2},{"$f":"四支股票!T91","v":0}]
[89,"2021-05-24",{"$f":"四支股票!D92","v":1.5630378083650809E-2},{"$f":"四支股票!H92","v":2.6065767629340941E-2},{"$f":"四支股票!L92","v":7.3936935029811001E-3},{"$f":"四支股票!P92","v":-5.4496185772586851E-3},{"$f":"四支股票!T92","v":0}]
[90,"2021-05-25",{"$f":"四支股票!D93","v":2.8893194880503905E-3},{"$f":"四支股票!H93","v":3.4246608813641747E-3},{"$f":"四支股票!L93","v":1.8399821029189032E-3},{"$f":"四支股票!P93","v":-5.4793835722276767E-3},{"$f":"四支股票!T93","v":0}]
[91,"2021-05-26",{"$f":"四支股票!D94","v":-2.5314917871574667E-3},{"$f":"四支股票!H94","v":-5.1413995004186523E-3},{"$f":"四支股票!L94","v":0},{"$f":"四支股票!P94","v":-1.1049877395375355E-2},{"$f":"四支股票!T94","v":0}]
[92,"2021-05-27",{"$f":"四支股票!D95","v":1.6088195315663027E-2},{"$f":"四支股票!H95","v":1.3652089168327263E-2},{"$f":"四支股票!L95","v":2.001883012578658E-2},{"$f":"四支股票!P95","v":1.1049877395375411E-2},{"$f":"四支股票!T95","v":0}]
[93,"2021-05-28",{"$f":"四支股票!D96","v":1.1642703793326315E-2},{"$f":"四支股票!H96","v":1.1794576492836877E-2},{"$f":"四支股票!L96","v":7.181395186839367E-3},{"$f":"四支股票!P96","v":1.092900214948642E-2},{"$f":"四支股票!T96","v":0}]
[94,"2021-05-31",{"$f":"四支股票!D97","v":5.489289059315572E-3},{"$f":"四支股票!H97","v":1.6736405580296937E-3},{"$f":"四支股票!L97","v":-1.7905644731100261E-3},{"$f":"四支股票!P97","v":6.770506750570498E-3},{"$f":"四支股票!T97","v":0}]
[95,"2021-06-01",{"$f":"四支股票!D98","v":1.5487350994357067E-4},{"$f":"四支股票!H98","v":-5.0293484050019733E-3},{"$f":"四支股票!L98","v":8.9206659175369869E-3},{"$f":"四支股票!P98","v":5.38362007402623E-3},{"$f":"四支股票!T98","v":0}]
[96,"2021-06-02",{"$f":"四支股票!D99","v":4.7148164036409238E-3},{"$f":"四支股票!H99","v":1.6792615197199939E-3},{"$f":"四支股票!L99","v":-8.9206659175370059E-3},{"$f":"四支股票!P99","v":-5.3836200740263315E-3},{"$f":"四支股票!T99","v":0}]
[97,"2021-06-03",{"$f":"四支股票!D100","v":-5.7423681495756742E-3},{"$f":"四支股票!H100","v":-1.6792615197200253E-3},{"$f":"四支股票!L100","v":-1.4440666233647195E-2},{"$f":"四支股票!P100","v":-6.770506750570387E-3},{"$f":"四支股票!T100","v":0}]
[98,"2021-06-04",{"$f":"四支股票!D101","v":-3.7100568869957657E-3},{"$f":"四支股票!H101","v":-5.0547706616240603E-3},{"$f":"四支股票!L101","v":-5.4694575229998583E-3},{"$f":"四支股票!P101","v":-8.1855574125259817E-3},{"$f":"四支股票!T101","v":0}]
[99,"2021-06-07",{"$f":"四支股票!D102","v":-4.5077229727527699E-4},{"$f":"四支股票!H102","v":-5.0804512324189519E-3},{"$f":"四支股票!L102","v":1.8264479963234748E-3},{"$f":"四支股票!P102","v":5.4645217200347419E-3},{"$f":"四支股票!T102","v":5.9519651313120155E-2}]
[100,"2021-06-08",{"$f":"四支股票!D103","v":-6.4619718649311366E-3},{"$f":"四支股票!H103","v":-5.1063940745741387E-3},{"$f":"四支股票!L103","v":-9.165967182111226E-3},{"$f":"四支股票!P103","v":-1.3633130481265402E-3},{"$f":"四支股票!T103","v":-9.4787661469675401E-3}]
[101,"2021-06-09",{"$f":"四支股票!D104","v":1.1311329603062407E-2},{"$f":"四支股票!H104","v":2.1941808538436729E-2},{"$f":"四支股票!L104","v":7.3395191857877299E-3},{"$f":"四支股票!P104","v":-2.7323104243481455E-3},{"$f":"四支股票!T104","v":-1.3181743627641148E-2}]
[102,"2021-06-10",{"$f":"四支股票!D105","v":3.1594148617467162E-3},{"$f":"四支股票!H105","v":4.9958471933716697E-3},{"$f":"四支股票!L105","v":-3.6630260402726426E-3},{"$f":"四支股票!P105","v":6.8166591649658076E-3},{"$f":"四支股票!T105","v":7.2116382225182298E-3}]
[103,"2021-06-11",{"$f":"四支股票!D106","v":9.1236952194300742E-3},{"$f":"四支股票!H106","v":1.1560822401076006E-2},{"$f":"四支股票!L106","v":-3.6764931455150573E-3},{"$f":"四支股票!P106","v":0},{"$f":"四支股票!T106","v":0.13323195214956002}]
[104,"2021-06-15",{"$f":"四支股票!D107","v":-3.6580920576030451E-3},{"$f":"四支股票!H107","v":-6.5898096790555525E-3},{"$f":"四支股票!L107","v":0},{"$f":"四支股票!P107","v":6.770506750570498E-3},{"$f":"四支股票!T107","v":4.0066978168597243E-2}]
[105,"2021-06-16",{"$f":"四支股票!D108","v":4.7696719687993685E-3},{"$f":"四支股票!H108","v":1.6515280384729392E-3},{"$f":"四支股票!L108","v":-5.5401619594089126E-3},{"$f":"四支股票!P108","v":-1.2220125327829102E-2},{"$f":"四支股票!T108","v":4.6245333880216954E-2}]
[106,"2021-06-17",{"$f":"四支股票!D109","v":-4.1528195775370012E-3},{"$f":"四支股票!H109","v":-4.9627893421290139E-3},{"$f":"四支股票!L109","v":-7.4350158009515782E-3},{"$f":"四支股票!P109","v":6.8073785060684183E-3},{"$f":"四支股票!T109","v":0.12204739959085388}]
[107,"2021-06-18",{"$f":"四支股票!D110","v":-1.4866317961313243E-2},{"$f":"四支股票!H110","v":-3.3730010376693022E-2},{"$f":"四支股票!L110","v":-3.0305312181895448E-2},{"$f":"四支股票!P110","v":-1.5037864207186263E-2},{"$f":"四支股票!T110","v":6.9843549173017563E-2}]
[108,"2021-06-21",{"$f":"四支股票!D111","v":7.3642960653765705E-4},{"$f":"四支股票!H111","v":-8.6133176781149467E-3},{"$f":"四支股票!L111","v":1.1472363139422433E-2},{"$f":"四支股票!P111","v":-1.3783324219115024E-3},{"$f":"四支股票!T111","v":-1.6000310985822549E-2}]
[109,"2021-06-22",{"$f":"四支股票!D112","v":1.5178611227353695E-2},{"$f":"四支股票!H112","v":2.8987536873252187E-2},{"$f":"四支股票!L112","v":2.8118067163008704E-2},{"$f":"四支股票!P112","v":1.0974087959670295E-2},{"$f":"四支股票!T112","v":-3.6965231146644385E-2}]
[110,"2021-06-23",{"$f":"四支股票!D113","v":4.1013540222549476E-3},{"$f":"四支股票!H113","v":-8.4388686458645949E-3},{"$f":"四支股票!L113","v":-5.5607003034804812E-3},{"$f":"四支股票!P113","v":1.3633130481265105E-3},{"$f":"四支股票!T113","v":8.4218095012757427E-2}]
[111,"2021-06-24",{"$f":"四支股票!D114","v":5.4441100868815751E-3},{"$f":"四支股票!H114","v":1.6934805063331477E-3},{"$f":"四支股票!L114","v":9.2507599433052732E-3},{"$f":"四支股票!P114","v":1.3614433503651581E-3},{"$f":"四支股票!T114","v":6.3335916232846595E-2}]
[112,"2021-06-25",{"$f":"四支股票!D115","v":5.0140053144055617E-3},{"$f":"四支股票!H115","v":-1.6934805063330315E-3},{"$f":"四支股票!L115","v":0},{"$f":"四支股票!P115","v":4.073366038041557E-3},{"$f":"四支股票!T115","v":-7.2464565734814681E-3}]
[113,"2021-06-28",{"$f":"四支股票!D116","v":4.1028260232748236E-4},{"$f":"四支股票!H116","v":8.4388686458646035E-3},{"$f":"四支股票!L116","v":-1.111118838689051E-2},{"$f":"四支股票!P116","v":-4.0733660380414972E-3},{"$f":"四支股票!T116","v":7.2464565734813953E-3}]
[114,"2021-06-29",{"$f":"四支股票!D117","v":8.8971023193493703E-3},{"$f":"四支股票!H117","v":0},{"$f":"四支股票!L117","v":3.7174948839094062E-3},{"$f":"四支股票!P117","v":-4.0900262351325741E-3},{"$f":"四支股票!T117","v":0.10932379704452341}]
[115,"2021-06-30",{"$f":"四支股票!D118","v":-2.3412577325192404E-3},{"$f":"四支股票!H118","v":-3.3670065479042954E-3},{"$f":"四支股票!L118","v":0},{"$f":"四支股票!P118","v":-6.8540367096602091E-3},{"$f":"四支股票!T118","v":-5.6587509657508327E-2}]
[116,"2021-07-01",{"$f":"四支股票!D119","v":-2.1392572292679206E-4},{"$f":"四支股票!H119","v":-8.4674510990984941E-3},{"$f":"四支股票!L119","v":0},{"$f":"四支股票!P119","v":9.5826195944276327E-3},{"$f":"四支股票!T119","v":-4.1964240621909205E-2}]
[117,"2021-07-02",{"$f":"四支股票!D120","v":1.1742079180118162E-2},{"$f":"四支股票!H120","v":5.0890695074712281E-3},{"$f":"四支股票!L120","v":5.5504118750827102E-3},{"$f":"四支股票!P120","v":6.7888921493293279E-3},{"$f":"四支股票!T120","v":-6.2635550414792615E-2}]
[118,"2021-07-05",{"$f":"四支股票!D121","v":-3.4939133272527843E-4},{"$f":"四支股票!H121","v":1.6906174779074521E-3},{"$f":"四支股票!L121","v":-1.8467780119264272E-3},{"$f":"四支股票!P121","v":-1.3540827609226801E-3},{"$f":"四支股票!T121","v":2.2557369501694728E-2}]
[119,"2021-07-06",{"$f":"四支股票!D122","v":-3.4884991774237145E-3},{"$f":"四支股票!H122","v":3.372684478639156E-3},{"$f":"四支股票!L122","v":-1.8501023195840703E-3},{"$f":"四支股票!P122","v":1.3540827609227137E-3},{"$f":"四支股票!T122","v":2.2059677574510734E-2}]
[120,"2021-07-07",{"$f":"四支股票!D123","v":8.6236173907700052E-4},{"$f":"四支股票!H123","v":-1.0152371464017962E-2},{"$f":"四支股票!L123","v":7.3801440623278433E-3},{"$f":"四支股票!P123","v":2.7026502937323553E-3},{"$f":"四支股票!T123","v":0.1214128553245379}]
[121,"2021-07-08",{"$f":"四支股票!D124","v":-1.1518470607901144E-2},{"$f":"四支股票!H124","v":-6.8259650703998706E-3},{"$f":"四支股票!L124","v":-1.1090742046224254E-2},{"$f":"四支股票!P124","v":-4.0567330546550035E-3},{"$f":"四支股票!T124","v":-3.3901559355566262E-2}]
[122,"2021-07-09",{"$f":"四支股票!D125","v":8.6171705435720402E-3},{"$f":"四支股票!H125","v":1.52934161694984E-2},{"$f":"四支股票!L125","v":3.4706716306181558E-2},{"$f":"四支股票!P125","v":-1.2270105807378197E-2},{"$f":"四支股票!T125","v":-4.7067521638140673E-2}]
[123,"2021-07-12",{"$f":"四支股票!D126","v":1.8613427484123241E-3},{"$f":"四支股票!H126","v":2.3334392061772839E-2},{"$f":"四支股票!L126","v":7.1556119914665288E-3},{"$f":"四支股票!P126","v":1.3624188568300945E-2},{"$f":"四支股票!T126","v":-1.2121363146288403E-2}]
[124,"2021-07-13",{"$f":"四支股票!D127","v":-9.9152082434678619E-5},{"$f":"四支股票!H127","v":9.8361448767131897E-3},{"$f":"四支股票!L127","v":1.5915490956524069E-2},{"$f":"四支股票!P127","v":-9.5174750340967645E-3},{"$f":"四支股票!T127","v":-4.5746012075567777E-2}]
[125,"2021-07-14",{"$f":"四支股票!D128","v":1.0503985707430958E-2},{"$f":"四支股票!H128","v":1.62999221093097E-3},{"$f":"四支股票!L128","v":1.9114361599906846E-2},{"$f":"四支股票!P128","v":2.7285828847675932E-3},{"$f":"四支股票!T128","v":7.7748789611183408E-2}]
[126,"2021-07-15",{"$f":"四支股票!D129","v":-7.7340558426199166E-3},{"$f":"四支股票!H129","v":-4.1568744495555775E-2},{"$f":"四支股票!L129","v":2.8840014799720932E-2},{"$f":"四支股票!P129","v":-4.0956234724746007E-3},{"$f":"四支股票!T129","v":2.7186107248813596E-2}]
[127,"2021-07-16",{"$f":"四支股票!D130","v":-5.9409722301643998E-3},{"$f":"四支股票!H130","v":-1.1955735920148884E-2},{"$f":"四支股票!L130","v":-1.6736070852028514E-3},{"$f":"四支股票!P130","v":1.3670405877070895E-3},{"$f":"四支股票!T130","v":-2.3256866953989954E-2}]
[128,"2021-07-19",{"$f":"四支股票!D131","v":-1.475250935629841E-2},{"$f":"四支股票!H131","v":-1.7196908795265881E-3},{"$f":"四支股票!L131","v":-3.061461802771168E-2},{"$f":"四支股票!P131","v":-9.6088181230293713E-3},{"$f":"四支股票!T131","v":3.9138617717337024E-3}]
[129,"2021-07-20",{"$f":"四支股票!D132","v":-3.9986398359818922E-3},{"$f":"四支股票!H132","v":6.8610903799451606E-3},{"$f":"四支股票!L132","v":6.8846570825245043E-3},{"$f":"四支股票!P132","v":2.7547814133692017E-3},{"$f":"四支股票!T132","v":-6.4538498622727272E-2}]
[130,"2021-07-21",{"$f":"四支股票!D133","v":6.4823171723191412E-3},{"$f":"四支股票!H133","v":1.0204170174241668E-2},{"$f":"四支股票!L133","v":3.0407732059503152E-2},{"$f":"四支股票!P133","v":1.0944062944792747E-2},{"$f":"四支股票!T133","v":6.8437216423217331E-2}]
[131,"2021-07-22",{"$f":"四支股票!D134","v":3.3566072232168601E-5},{"$f":"四支股票!H134","v":-1.0204170174241736E-2},{"$f":"四支股票!L134","v":3.3222788861006582E-3},{"$f":"四支股票!P134","v":-4.0900262351325741E-3},{"$f":"四支股票!T134","v":1.5444287381766286E-2}]
[132,"2021-07-23",{"$f":"四支股票!D135","v":-9.6842619005711797E-3},{"$f":"四支股票!H135","v":-8.5837436913914419E-3},{"$f":"四支股票!L135","v":-7.0415312456152096E-2},{"$f":"四支股票!P135","v":-9.6088181230293713E-3},{"$f":"四支股票!T135","v":-3.838739317025512E-3}]
[133,"2021-07-26",{"$f":"四支股票!D136","v":-7.7114995386236658E-3},{"$f":"四支股票!H136","v":0},{"$f":"四支股票!L136","v":-2.1583589460768576E-2},{"$f":"四支股票!P136","v":1.0974087959670295E-2},{"$f":"四支股票!T136","v":-2.3347367931788092E-2}]
[134,"2021-07-27",{"$f":"四支股票!D137","v":-7.8272793973696402E-3},{"$f":"四支股票!H137","v":-1.7256259674697252E-3},{"$f":"四支股票!L137","v":-2.2059736652092963E-2},{"$f":"四支股票!P137","v":-9.595755537758776E-3},{"$f":"四支股票!T137","v":1.5625282480723524E-2}]
[135,"2021-07-28",{"$f":"四支股票!D138","v":1.5495683377534189E-2},{"$f":"四支股票!H138","v":6.8847087774972331E-3},{"$f":"四支股票!L138","v":1.8416727125416584E-2},{"$f":"四支股票!P138","v":1.2320511936250299E-2},{"$f":"四支股票!T138","v":-3.8834626136761983E-3}]
[136,"2021-07-29",{"$f":"四支股票!D139","v":-8.9697225444780402E-3},{"$f":"四支股票!H139","v":-5.1590828100273357E-3},{"$f":"四支股票!L139","v":-9.165967182111226E-3},{"$f":"四支股票!P139","v":-4.0900262351325741E-3},{"$f":"四支股票!T139","v":-1.1741819867047346E-2}]
[137,"2021-07-30",{"$f":"四支股票!D140","v":1.4726255452664472E-2},{"$f":"四支股票!H140","v":1.709443335930004E-2},{"$f":"四支股票!L140","v":2.7249642942434919E-2},{"$f":"四支股票!P140","v":2.0284671994469684E-2},{"$f":"四支股票!T140","v":7.843102066557122E-3}]
[138,"2021-08-02",{"$f":"四支股票!D141","v":2.8799068740014639E-3},{"$f":"四支股票!H141","v":6.7567824628796871E-3},{"$f":"四支股票!L141","v":-7.1942216117976141E-3},{"$f":"四支股票!P141","v":4.0080615581823487E-3},{"$f":"四支股票!T141","v":-1.574832285746201E-2}]
[139,"2021-08-03",{"$f":"四支股票!D142","v":3.9872448064539844E-3},{"$f":"四支股票!H142","v":3.3613477027049274E-3},{"$f":"四支股票!L142","v":-3.6166584553289972E-3},{"$f":"四支股票!P142","v":6.6445427186685108E-3},{"$f":"四支股票!T142","v":1.5748322857461999E-2}]
[140,"2021-08-04",{"$f":"四支股票!D143","v":-1.1792931926539177E-3},{"$f":"四支股票!H143","v":0},{"$f":"四支股票!L143","v":0},{"$f":"四支股票!P143","v":-2.6524816084943651E-3},{"$f":"四支股票!T143","v":7.7821804141662886E-3}]
[141,"2021-08-05",{"$f":"四支股票!D144","v":-4.3746816035741681E-3},{"$f":"四支股票!H144","v":-8.424649659251578E-3},{"$f":"四支股票!L144","v":-1.8132915377640224E-3},{"$f":"四支股票!P144","v":-1.3289835843082812E-3},{"$f":"四支股票!T144","v":3.8684396540986168E-3}]
[142,"2021-08-06",{"$f":"四支股票!D145","v":-2.3494570364955124E-3},{"$f":"四支股票!H145","v":6.7453881395316551E-3},{"$f":"四支股票!L145","v":1.8132915377640911E-3},{"$f":"四支股票!P145","v":-8.0107106621129607E-3},{"$f":"四支股票!T145","v":-2.7398942925726921E-2}]
[143,"2021-08-09",{"$f":"四支股票!D146","v":-9.2798928280815526E-3},{"$f":"四支股票!H146","v":-6.745388139531538E-3},{"$f":"四支股票!L146","v":-5.4495864536346517E-3},{"$f":"四支股票!P146","v":5.3476331362471629E-3},{"$f":"四支股票!T146","v":-8.2691713978015585E-2}]
[144,"2021-08-10",{"$f":"四支股票!D147","v":-5.5837277811488254E-3},{"$f":"四支股票!H147","v":-1.6934805063330315E-3},{"$f":"四支股票!L147","v":1.9838305789792371E-2},{"$f":"四支股票!P147","v":-8.0321448155442118E-3},{"$f":"四支股票!T147","v":2.9726145321568514E-2}]
[145,"2021-08-11",{"$f":"四支股票!D148","v":-4.2036810550010953E-4},{"$f":"四支股票!H148","v":-6.8027473227525231E-3},{"$f":"四支股票!L148","v":0},{"$f":"四支股票!P148","v":-1.8996527572375133E-2},{"$f":"四支股票!T148","v":5.2965568656446908E-2}]
[146,"2021-08-12",{"$f":"四支股票!D149","v":-1.3907582707991976E-2},{"$f":"四支股票!H149","v":-8.5690327251014033E-3},{"$f":"四支股票!L149","v":-1.8018505502678365E-2},{"$f":"四支股票!P149","v":-4.4825388400122554E-2},{"$f":"四支股票!T149","v":3.9603641895814097E-3}]
[147,"2021-08-13",{"$f":"四支股票!D150","v":-7.2894318430122302E-3},{"$f":"四支股票!H150","v":5.1502259763158611E-3},{"$f":"四支股票!L150","v":-1.2808976708787546E-2},{"$f":"四支股票!P150","v":4.2887127616048903E-3},{"$f":"四支股票!T150","v":-5.2750539954846777E-2}]
[148,"2021-08-16",{"$f":"四支股票!D151","v":-1.177873980840281E-2},{"$f":"四支股票!H151","v":0},{"$f":"四支股票!L151","v":0},{"$f":"四支股票!P151","v":0},{"$f":"四支股票!T151","v":-6.8992844677576715E-2}]
[149,"2021-08-17",{"$f":"四支股票!D152","v":9.8490991733009153E-3},{"$f":"四支股票!H152","v":-1.7271586508660595E-2},{"$f":"四支股票!L152","v":1.8399821029189032E-3},{"$f":"四支股票!P152","v":0},{"$f":"四支股票!T152","v":-4.4743032966163736E-3}]
[150,"2021-08-18",{"$f":"四支股票!D153","v":-2.7161095140185977E-2},{"$f":"四支股票!H153","v":-2.6479923164467265E-2},{"$f":"四支股票!L153","v":-1.1090742046224254E-2},{"$f":"四支股票!P153","v":-1.4368063679809813E-2},{"$f":"四支股票!T153","v":-0.11688656292388061}]
[151,"2021-08-19",{"$f":"四支股票!D154","v":-2.0453968339573898E-3},{"$f":"四支股票!H154","v":-1.260142687800382E-2},{"$f":"四支股票!L154","v":-1.8604284435852117E-3},{"$f":"四支股票!P154","v":-2.8984947828750991E-3},{"$f":"四支股票!T154","v":8.0321549091191356E-3}]
[152,"2021-08-20",{"$f":"四支股票!D155","v":2.4176130323769199E-2},{"$f":"四支股票!H155","v":2.5046031926087516E-2},{"$f":"四支股票!L155","v":2.573665972443465E-2},{"$f":"四支股票!P155","v":8.6705455235577284E-3},{"$f":"四支股票!T155","v":6.765864121752975E-2}]
[153,"2021-08-23",{"$f":"四支股票!D156","v":4.582208157957326E-3},{"$f":"四支股票!H156","v":1.054491317661504E-2},{"$f":"四支股票!L156","v":1.262417160489074E-2},{"$f":"四支股票!P156","v":1.4285957247476434E-2},{"$f":"四支股票!T156","v":0.11882094622252611}]
[154,"2021-08-24",{"$f":"四支股票!D157","v":1.3414148101134456E-2},{"$f":"四支股票!H157","v":2.2472855852058576E-2},{"$f":"四支股票!L157","v":3.5778392690312007E-3},{"$f":"四支股票!P157","v":1.4174063523611394E-3},{"$f":"四支股票!T157","v":3.2655950715741559E-2}]
[155,"2021-08-25",{"$f":"四支股票!D158","v":1.2371633595722068E-3},{"$f":"四支股票!H158","v":1.5267472130788381E-2},{"$f":"四支股票!L158","v":0},{"$f":"四支股票!P158","v":-1.1396063422315516E-2},{"$f":"四支股票!T158","v":-1.1714958046753965E-2}]
[156,"2021-08-26",{"$f":"四支股票!D159","v":8.342038993794279E-3},{"$f":"四支股票!H159","v":8.3822787528044385E-3},{"$f":"四支股票!L159","v":2.9905500109926937E-2},{"$f":"四支股票!P159","v":9.9786570699543446E-3},{"$f":"四支股票!T159","v":5.897402542735565E-2}]
[157,"2021-08-27",{"$f":"四支股票!D160","v":1.0783634574966543E-2},{"$f":"四支股票!H160","v":9.9668599153920744E-3},{"$f":"四支股票!L160","v":3.0719121706507896E-2},{"$f":"四支股票!P160","v":1.5482336215415712E-2},{"$f":"四支股票!T160","v":5.1513503011846491E-2}]
[158,"2021-08-30",{"$f":"四支股票!D161","v":5.375656965437587E-3},{"$f":"四支股票!H161","v":1.4766470116300995E-2},{"$f":"四支股票!L161","v":1.6792279626724686E-3},{"$f":"四支股票!P161","v":9.7291246248555705E-3},{"$f":"四支股票!T161","v":-8.4034060731127645E-3}]
[159,"2021-08-31",{"$f":"四支股票!D162","v":-9.3231323558200382E-4},{"$f":"四支股票!H162","v":-1.6299922109310643E-3},{"$f":"四支股票!L162","v":-6.733981732404761E-3},{"$f":"四支股票!P162","v":-1.2526273301751382E-2},{"$f":"四支股票!T162","v":-1.2738962900118084E-2}]
[160,"2021-09-01",{"$f":"四支股票!D163","v":-8.8654702734871152E-3},{"$f":"四支股票!H163","v":-9.836144876713129E-3},{"$f":"四支股票!L163","v":-8.4818149120260127E-3},{"$f":"四支股票!P163","v":2.7971486768958238E-3},{"$f":"四支股票!T163","v":4.2643407128086638E-3}]
[161,"2021-09-02",{"$f":"四支股票!D164","v":1.1319233799409531E-2},{"$f":"四支股票!H164","v":2.1190686979639054E-2},{"$f":"四支股票!L164","v":1.521579664443074E-2},{"$f":"四支股票!P164","v":5.5710729824167571E-3},{"$f":"四支股票!T164","v":1.2685206175625501E-2}]
[162,"2021-09-03",{"$f":"四支股票!D165","v":-1.2349484444872472E-3},{"$f":"四支股票!H165","v":1.7586384502075988E-2},{"$f":"四支股票!L165","v":-6.733981732404761E-3},{"$f":"四支股票!P165","v":-6.9686693160933158E-3},{"$f":"四支股票!T165","v":9.6073771268338187E-2}]
[163,"2021-09-06",{"$f":"四支股票!D166","v":-3.8043406769861874E-3},{"$f":"四支股票!H166","v":-1.2759343753759986E-2},{"$f":"四支股票!L166","v":0},{"$f":"四支股票!P166","v":-1.1251919230250615E-2},{"$f":"四支股票!T166","v":0}]
[164,"2021-09-07",{"$f":"四支股票!D167","v":-9.1286991865137702E-3},{"$f":"四支股票!H167","v":-6.4412461028569932E-3},{"$f":"四支股票!L167","v":-1.1894804544040989E-2},{"$f":"四支股票!P167","v":2.8249312771146278E-3},{"$f":"四支股票!T167","v":6.6445152847083883E-2}]
[165,"2021-09-08",{"$f":"四支股票!D168","v":1.9574855053540964E-3},{"$f":"四支股票!H168","v":0},{"$f":"四支股票!L168","v":3.4129896320149221E-3},{"$f":"四支股票!P168","v":-5.3597258860580421E-2},{"$f":"四支股票!T168","v":-2.8987612336488097E-2}]
[166,"2021-09-09",{"$f":"四支股票!D169","v":9.7899354364939083E-3},{"$f":"四支股票!H169","v":4.8348200545833111E-3},{"$f":"四支股票!L169","v":8.4818149120258982E-3},{"$f":"四支股票!P169","v":1.7699650982024834E-2},{"$f":"四支股票!T169","v":2.1819127249961687E-2}]
[167,"2021-09-10",{"$f":"四支股票!D170","v":-1.6185028254176114E-3},{"$f":"四支股票!H170","v":-1.1317824932661572E-2},{"$f":"四支股票!L170","v":1.1754979728532938E-2},{"$f":"四支股票!P170","v":1.0181847961793337E-2},{"$f":"四支股票!T170","v":-2.550232342257891E-2}]
[168,"2021-09-13",{"$f":"四支股票!D171","v":-6.5422937450534339E-4},{"$f":"四支股票!H171","v":-3.2573318703065105E-3},{"$f":"四支股票!L171","v":-1.6708942762068977E-3},{"$f":"四支股票!P171","v":4.3321945011383827E-3},{"$f":"四支股票!T171","v":-6.4784562708536386E-2}]
[169,"2021-09-14",{"$f":"四支股票!D172","v":-4.6509395768187974E-3},{"$f":"四支股票!H172","v":-9.836144876713129E-3},{"$f":"四支股票!L172","v":-5.0293316825937564E-3},{"$f":"四支股票!P172","v":0},{"$f":"四支股票!T172","v":1.5625308167684246E-2}]
[170,"2021-09-15",{"$f":"四支股票!D173","v":-4.3485435070605314E-3},{"$f":"四支股票!H173","v":-1.1599135843351918E-2},{"$f":"四支股票!L173","v":3.3557245973909263E-3},{"$f":"四支股票!P173","v":-4.3321945011384711E-3},{"$f":"四支股票!T173","v":0}]
[171,"2021-09-16",{"$f":"四支股票!D174","v":-1.105558680783069E-4},{"$f":"四支股票!H174","v":0},{"$f":"四支股票!L174","v":-1.3490912535577188E-2},{"$f":"四支股票!P174","v":7.2098367746776778E-3},{"$f":"四支股票!T174","v":5.2842450713469345E-2}]
[172,"2021-09-17",{"$f":"四支股票!D175","v":-2.0523642839098417E-2},{"$f":"四支股票!H175","v":-2.3609865639133736E-2},{"$f":"四支股票!L175","v":-3.630481649192617E-2},{"$f":"四支股票!P175","v":-1.5930793336561791E-2},{"$f":"四支股票!T175","v":-3.6831961726172774E-3}]
[173,"2021-09-22",{"$f":"四支股票!D176","v":8.9637234794201943E-3},{"$f":"四支股票!H176","v":3.4071583216143558E-3},{"$f":"四支股票!L176","v":1.2248639681832969E-2},{"$f":"四支股票!P176","v":4.3700432757686255E-3},{"$f":"四支股票!T176","v":2.1898671893620627E-2}]
[174,"2021-09-23",{"$f":"四支股票!D177","v":1.0598653378027447E-2},{"$f":"四支股票!H177","v":1.6863806052004725E-2},{"$f":"四支股票!L177","v":5.2038105739887833E-3},{"$f":"四支股票!P177","v":4.3509132861154834E-3},{"$f":"四支股票!T177","v":-2.1898671893620689E-2}]
[175,"2021-09-24",{"$f":"四支股票!D178","v":3.0994495549825107E-3},{"$f":"四支股票!H178","v":6.6666913581892974E-3},{"$f":"四支股票!L178","v":1.545098549253218E-2},{"$f":"四支股票!P178","v":5.7720507406826913E-3},{"$f":"四支股票!T178","v":-3.759838956158864E-2}]
[176,"2021-09-27",{"$f":"四支股票!D179","v":-7.6724119691461501E-3},{"$f":"四支股票!H179","v":-1.3378125946176087E-2},{"$f":"四支股票!L179","v":5.0977000358936883E-3},{"$f":"四支股票!P179","v":-1.1577597010566031E-2},{"$f":"四支股票!T179","v":-3.9067545191871909E-2}]
[177,"2021-09-28",{"$f":"四支股票!D180","v":-1.915500403224293E-2},{"$f":"四支股票!H180","v":-2.3851215822179909E-2},{"$f":"四支股票!L180","v":-1.7094433359300068E-2},{"$f":"四支股票!P180","v":-1.4566499828602042E-3},{"$f":"四支股票!T180","v":-3.651513941528628E-2}]
[178,"2021-09-29",{"$f":"四支股票!D181","v":4.694181574485686E-3},{"$f":"四支股票!H181","v":0},{"$f":"四支股票!L181","v":-1.7255914251560701E-3},{"$f":"四支股票!P181","v":-4.3826950767114374E-3},{"$f":"四支股票!T181","v":3.2523171510849568E-2}]
[179,"2021-09-30",{"$f":"四支股票!D182","v":-2.1721297902930339E-2},{"$f":"四支股票!H182","v":-1.0398707220898622E-2},{"$f":"四支股票!L182","v":-1.7422042839593754E-2},{"$f":"四支股票!P182","v":-1.7725796329232428E-2},{"$f":"四支股票!T182","v":-4.4997390863622998E-2}]
[180,"2021-10-01",{"$f":"四支股票!D183","v":-9.8572514683920986E-3},{"$f":"四支股票!H183","v":-3.4904049397684908E-3},{"$f":"四支股票!L183","v":-5.2864264082219626E-3},{"$f":"四支股票!P183","v":5.9435837071077323E-3},{"$f":"四支股票!T183","v":-4.192822084796404E-3}]
[181,"2021-10-04",{"$f":"四支股票!D184","v":3.1884314456805331E-3},{"$f":"四支股票!H184","v":0},{"$f":"四支股票!L184","v":-3.5397559084420905E-3},{"$f":"四支股票!P184","v":-1.1922689934418414E-2},{"$f":"四支股票!T184","v":-4.7320680927049975E-2}]
[182,"2021-10-05",{"$f":"四支股票!D185","v":-4.1145750405663598E-3},{"$f":"四支股票!H185","v":-1.7497817237877064E-3},{"$f":"四支股票!L185","v":1.2334887670688756E-2},{"$f":"四支股票!P185","v":8.955373283138432E-3},{"$f":"四支股票!T185","v":1.7467681895016348E-2}]
[183,"2021-10-06",{"$f":"四支股票!D186","v":1.9374093762109572E-2},{"$f":"四支股票!H186","v":1.5638893884454729E-2},{"$f":"四支股票!L186","v":0},{"$f":"四支股票!P186","v":1.034742394890254E-2},{"$f":"四支股票!T186","v":8.6207380653660921E-3}]
[184,"2021-10-07",{"$f":"四支股票!D187","v":-4.4030202826702124E-3},{"$f":"四支股票!H187","v":-8.6580627431145415E-3},{"$f":"四支股票!L187","v":0},{"$f":"四支股票!P187","v":0},{"$f":"四支股票!T187","v":1.7021676978351004E-2}]
[185,"2021-10-08",{"$f":"四支股票!D188","v":-1.0729547276335445E-2},{"$f":"四支股票!H188","v":0},{"$f":"四支股票!L188","v":-1.2334887670688658E-2},{"$f":"四支股票!P188","v":-1.1834502289861082E-2},{"$f":"四支股票!T188","v":-8.4746221873093323E-3}]
[186,"2021-10-12",{"$f":"四支股票!D189","v":-7.0007420595736853E-3},{"$f":"四支股票!H189","v":-6.980831141340205E-3},{"$f":"四支股票!L189","v":-3.5524192717659351E-3},{"$f":"四支股票!P189","v":0},{"$f":"四支股票!T189","v":1.6878028260421993E-2}]
[187,"2021-10-13",{"$f":"四支股票!D190","v":2.4004129141526106E-3},{"$f":"四支股票!H190","v":3.496507058729306E-3},{"$f":"四支股票!L190","v":7.0921751802080725E-3},{"$f":"四支股票!P190","v":7.4129327188364015E-3},{"$f":"四支股票!T190","v":-4.192822084796404E-3}]
[188,"2021-10-14",{"$f":"四支股票!D191","v":2.3753202453669336E-2},{"$f":"四支股票!H191","v":4.6043938501406798E-2},{"$f":"四支股票!L191","v":2.9593126330340273E-2},{"$f":"四支股票!P191","v":5.8910481818084948E-3},{"$f":"四支股票!T191","v":5.7158377957596311E-2}]
[189,"2021-10-15",{"$f":"四支股票!D192","v":-4.5229154431644459E-3},{"$f":"四支股票!H192","v":-1.6807118316381289E-2},{"$f":"四支股票!L192","v":6.8376676660379231E-3},{"$f":"四支股票!P192","v":0},{"$f":"四支股票!T192","v":3.1252524850258069E-2}]
[190,"2021-10-18",{"$f":"四支股票!D193","v":1.1617593253832164E-2},{"$f":"四支股票!H193","v":1.6807118316381191E-2},{"$f":"四支股票!L193","v":-5.1238197890696021E-3},{"$f":"四支股票!P193","v":-4.4149445927540651E-3},{"$f":"四支股票!T193","v":-7.7220417423897996E-3}]
[191,"2021-10-19",{"$f":"四支股票!D194","v":-7.6059093082214431E-4},{"$f":"四支股票!H194","v":-3.3389012655145986E-3},{"$f":"四支股票!L194","v":-1.713847876968275E-3},{"$f":"四支股票!P194","v":-5.9171916022851476E-3},{"$f":"四支股票!T194","v":1.1560864979263492E-2}]
[192,"2021-10-20",{"$f":"四支股票!D195","v":1.0003472728347528E-4},{"$f":"四支股票!H195","v":-3.3500868852819744E-3},{"$f":"四支股票!L195","v":6.8376676660379231E-3},{"$f":"四支股票!P195","v":-5.9524282008853345E-3},{"$f":"四支股票!T195","v":0}]
[193,"2021-10-21",{"$f":"四支股票!D196","v":-4.5563757751345548E-5},{"$f":"四支股票!H196","v":6.6889881507967101E-3},{"$f":"四支股票!L196","v":-6.8376676660379084E-3},{"$f":"四支股票!P196","v":4.467661836238165E-3},{"$f":"四支股票!T196","v":3.390148239981871E-2}]
[194,"2021-10-22",{"$f":"四支股票!D197","v":3.2560774522560199E-4},{"$f":"四支股票!H197","v":-1.1735256218420965E-2},{"$f":"四支股票!L197","v":1.7138478769682687E-3},{"$f":"四支股票!P197","v":-2.9762670558279017E-3},{"$f":"四支股票!T197","v":1.4706233024731901E-2}]
[195,"2021-10-25",{"$f":"四支股票!D198","v":8.2585481592232796E-3},{"$f":"四支股票!H198","v":1.0067199117723941E-2},{"$f":"四支股票!L198","v":1.1914966490348337E-2},{"$f":"四支股票!P198","v":2.9762670558278492E-3},{"$f":"四支股票!T198","v":-2.5879478802631414E-2}]
[196,"2021-10-26",{"$f":"四支股票!D199","v":2.3577990894240765E-3},{"$f":"四支股票!H199","v":0},{"$f":"四支股票!L199","v":-6.791146701278658E-3},{"$f":"四支股票!P199","v":-1.4870783409585979E-3},{"$f":"四支股票!T199","v":-1.1299597028703919E-2}]
[197,"2021-10-27",{"$f":"四支股票!D200","v":-1.9298720217074395E-3},{"$f":"四支股票!H200","v":-6.700192569819562E-3},{"$f":"四支股票!L200","v":-1.0274114435368782E-2},{"$f":"四支股票!P200","v":0},{"$f":"四支股票!T200","v":3.7807690963385134E-3}]
[198,"2021-10-28",{"$f":"四支股票!D201","v":-3.1867338760204257E-3},{"$f":"四支股票!H201","v":-8.4388686458645949E-3},{"$f":"四支股票!L201","v":0},{"$f":"四支股票!P201","v":-8.9686553699327137E-3},{"$f":"四支股票!T201","v":-7.5757892586334969E-3}]
[199,"2021-10-29",{"$f":"四支股票!D202","v":4.7469497047653445E-3},{"$f":"四支股票!H202","v":0},{"$f":"四支股票!L202","v":-8.6430964548343293E-3},{"$f":"四支股票!P202","v":4.4944495132355211E-3},{"$f":"四支股票!T202","v":7.5757892586334067E-3}]
[200,"2021-11-01",{"$f":"四支股票!D203","v":-1.3297691325191917E-4},{"$f":"四支股票!H203","v":3.3840979842404942E-3},{"$f":"四支股票!L203","v":-3.478194810896962E-3},{"$f":"四支股票!P203","v":7.4460505623027765E-3},{"$f":"四支股票!T203","v":-5.8268921785862279E-2}]
[201,"2021-11-02",{"$f":"四支股票!D204","v":3.2870766655865146E-3},{"$f":"四支股票!H204","v":0},{"$f":"四支股票!L204","v":3.4781948108970843E-3},{"$f":"四支股票!P204","v":1.4825502866326298E-3},{"$f":"四支股票!T204","v":7.9681650091768461E-3}]
[202,"2021-11-03",{"$f":"四支股票!D205","v":-2.5321352830872754E-3},{"$f":"四支股票!H205","v":-8.4818150559092306E-3},{"$f":"四支股票!L205","v":5.1948861416406993E-3},{"$f":"四支股票!P205","v":-1.0424472425705444E-2},{"$f":"四支股票!T205","v":-7.9681650091768391E-3}]
[203,"2021-11-04",{"$f":"四支股票!D206","v":1.2685912493646829E-2},{"$f":"四支股票!H206","v":2.1904835388049829E-2},{"$f":"四支股票!L206","v":1.0309335116547445E-2},{"$f":"四支股票!P206","v":4.4808887185976802E-3},{"$f":"四支股票!T206","v":1.9802666067943429E-2}]
[204,"2021-11-05",{"$f":"四支股票!D207","v":6.821857743153698E-3},{"$f":"四支股票!H207","v":3.3277900926747457E-3},{"$f":"四支股票!L207","v":3.4129896320149221E-3},{"$f":"四支股票!P207","v":4.4610334204750373E-3},{"$f":"四支股票!T207","v":-2.3810736563314686E-2}]
[205,"2021-11-08",{"$f":"四支股票!D208","v":7.2123103222029097E-3},{"$f":"四支股票!H208","v":1.4839513862774217E-2},{"$f":"四支股票!L208","v":-3.4129896320149603E-3},{"$f":"四支股票!P208","v":-1.4847663646472521E-3},{"$f":"四支股票!T208","v":1.5936685060564747E-2}]
[206,"2021-11-09",{"$f":"四支股票!D209","v":1.0421932461503294E-3},{"$f":"四支股票!H209","v":1.635323340730838E-3},{"$f":"四支股票!L209","v":1.7079082154627073E-3},{"$f":"四支股票!P209","v":0},{"$f":"四支股票!T209","v":-4.4451786076043068E-2}]
[207,"2021-11-10",{"$f":"四支股票!D210","v":-6.1196546559415645E-3},{"$f":"四支股票!H210","v":-9.8522964430115944E-3},{"$f":"四支股票!L210","v":0},{"$f":"四支股票!P210","v":-1.4870783409585979E-3},{"$f":"四支股票!T210","v":4.1236619787807672E-3}]
[208,"2021-11-11",{"$f":"四支股票!D211","v":3.752369730259613E-3},{"$f":"四支股票!H211","v":-3.3057881344995439E-3},{"$f":"四支股票!L211","v":5.1064621601243755E-3},{"$f":"四支股票!P211","v":1.4870783409584574E-3},{"$f":"四支股票!T211","v":-4.1236619787808114E-3}]
[209,"2021-11-12",{"$f":"四支股票!D212","v":6.6191555446098692E-3},{"$f":"四支股票!H212","v":6.6006840313520927E-3},{"$f":"四支股票!L212","v":1.3490912535577158E-2},{"$f":"四支股票!P212","v":1.034742394890254E-2},{"$f":"四支股票!T212","v":2.0450546365324687E-2}]
[210,"2021-11-15",{"$f":"四支股票!D213","v":3.3209279610151949E-3},{"$f":"四支股票!H213","v":3.2840752011900187E-3},{"$f":"四支股票!L213","v":5.0125250731257323E-3},{"$f":"四支股票!P213","v":8.7848004012135612E-3},{"$f":"四支股票!T213","v":-1.6326884386543825E-2}]
[211,"2021-11-16",{"$f":"四支股票!D214","v":3.9996592330478172E-3},{"$f":"四支股票!H214","v":0},{"$f":"四支股票!L214","v":3.6010453600203371E-2},{"$f":"四支股票!P214","v":-2.9196517090496884E-3},{"$f":"四支股票!T214","v":0}]
[212,"2021-11-17",{"$f":"四支股票!D215","v":4.3437333534098836E-3},{"$f":"四支股票!H215","v":4.9059787688544056E-3},{"$f":"四支股票!L215","v":1.2779710569228584E-2},{"$f":"四支股票!P215","v":1.4608913999091121E-3},{"$f":"四支股票!T215","v":-1.6597881331554164E-2}]
[213,"2021-11-18",{"$f":"四支股票!D216","v":-1.2932587962411644E-3},{"$f":"四支股票!H216","v":8.1235215214793474E-3},{"$f":"四支股票!L216","v":-1.9231378109117465E-2},{"$f":"四支股票!P216","v":-4.3892244070339956E-3},{"$f":"四支股票!T216","v":-2.9726107256797758E-2}]
[214,"2021-11-19",{"$f":"四支股票!D217","v":-8.2934968332087184E-4},{"$f":"四支股票!H217","v":-4.8661896511728994E-3},{"$f":"四支股票!L217","v":-1.1391514838090281E-2},{"$f":"四支股票!P217","v":-1.0316922982661415E-2},{"$f":"四支股票!T217","v":-2.1787395755048677E-2}]
[215,"2021-11-22",{"$f":"四支股票!D218","v":-7.7486289143776912E-3},{"$f":"四支股票!H218","v":-4.8899852941917919E-3},{"$f":"四支股票!L218","v":-4.922060919572104E-3},{"$f":"四支股票!P218","v":-5.9435837071077626E-3},{"$f":"四支股票!T218","v":-1.3304014896737992E-2}]
[216,"2021-11-23",{"$f":"四支股票!D219","v":-1.3367614499934027E-3},{"$f":"四支股票!H219","v":-1.4815085785140587E-2},{"$f":"四支股票!L219","v":4.9220609195720043E-3},{"$f":"四支股票!P219","v":5.9435837071077323E-3},{"$f":"四支股票!T219","v":-4.4742205210416466E-3}]
[217,"2021-11-24",{"$f":"四支股票!D220","v":6.6124705453457098E-4},{"$f":"四支股票!H220","v":0},{"$f":"四支股票!L220","v":8.1500046276161212E-3},{"$f":"四支股票!P220","v":8.8495859084065358E-3},{"$f":"四支股票!T220","v":6.5098916344829644E-2}]
[218,"2021-11-25",{"$f":"四支股票!D221","v":-1.6263620389794918E-2},{"$f":"四支股票!H221","v":-1.1676529661835629E-2},{"$f":"四支股票!L221","v":-2.2989469145870169E-2},{"$f":"四支股票!P221","v":-1.0332136195039228E-2},{"$f":"四支股票!T221","v":-1.6949546888434381E-2}]
[219,"2021-11-26",{"$f":"四支股票!D222","v":-2.3806224513876809E-3},{"$f":"四支股票!H222","v":-5.0462680676242721E-3},{"$f":"四支股票!L222","v":-1.5063079785797646E-2},{"$f":"四支股票!P222","v":-1.4847663646472521E-3},{"$f":"四支股票!T222","v":-4.2827140782329505E-3}]
[220,"2021-11-29",{"$f":"四支股票!D223","v":5.7354486419707905E-3},{"$f":"四支股票!H223","v":5.0462680676242192E-3},{"$f":"四支股票!L223","v":1.1735273081827424E-2},{"$f":"四支股票!P223","v":-2.8637992183011909E-2},{"$f":"四支股票!T223","v":2.1232260966667332E-2}]
[221,"2021-11-30",{"$f":"四支股票!D224","v":9.0382518383434075E-3},{"$f":"四支股票!H224","v":6.6889881507967101E-3},{"$f":"四支股票!L224","v":-1.6680237117158863E-3},{"$f":"四支股票!P224","v":2.5661725127184006E-2},{"$f":"四支股票!T224","v":2.4897535616423678E-2}]
[222,"2021-12-01",{"$f":"四支股票!D225","v":7.8667751309394376E-3},{"$f":"四支股票!H225","v":2.4692612590371414E-2},{"$f":"四支股票!L225","v":-6.7002259588006428E-3},{"$f":"四支股票!P225","v":8.9021214337055895E-3},{"$f":"四支股票!T225","v":8.1633057621120688E-3}]
[223,"2021-12-02",{"$f":"四支股票!D226","v":-1.5662708399389435E-3},{"$f":"四支股票!H226","v":-1.1447385840350835E-2},{"$f":"四支股票!L226","v":6.7002259588006263E-3},{"$f":"四支股票!P226","v":-2.9585377265979335E-3},{"$f":"四支股票!T226","v":-8.1633057621119283E-3}]
[224,"2021-12-03",{"$f":"四支股票!D227","v":-5.0471094931238913E-4},{"$f":"四支股票!H227","v":-1.324522675002068E-2},{"$f":"四支股票!L227","v":1.668023711716E-3},{"$f":"四支股票!P227","v":-2.9673166512799495E-3},{"$f":"四支股票!T227","v":-2.4897535616423713E-2}]
[225,"2021-12-06",{"$f":"四支股票!D228","v":6.1270352650917492E-3},{"$f":"四支股票!H228","v":1.159913584335194E-2},{"$f":"四支股票!L228","v":1.1599152317816431E-2},{"$f":"四支股票!P228","v":1.767346404097539E-2},{"$f":"四支股票!T228","v":-1.2685206175625572E-2}]
[226,"2021-12-07",{"$f":"四支股票!D229","v":1.9927403596596517E-3},{"$f":"四支股票!H229","v":-8.2713457506771934E-3},{"$f":"四支股票!L229","v":0},{"$f":"四支股票!P229","v":-1.4608913999091995E-3},{"$f":"四支股票!T229","v":2.1053450713789456E-2}]
[227,"2021-12-08",{"$f":"四支股票!D230","v":4.5710361560009427E-3},{"$f":"四支股票!H230","v":9.9174366573459242E-3},{"$f":"四支股票!L230","v":0},{"$f":"四支股票!P230","v":7.2833531789181652E-3},{"$f":"四支股票!T230","v":-1.2578828526480117E-2}]
[228,"2021-12-09",{"$f":"四支股票!D231","v":-4.9165428385354384E-3},{"$f":"四支股票!H231","v":-4.9464239353255741E-3},{"$f":"四支股票!L231","v":-3.3003495031212436E-3},{"$f":"四支股票!P231","v":0},{"$f":"四支股票!T231","v":1.6736782987384711E-2}]
[229,"2021-12-10",{"$f":"四支股票!D232","v":-3.2960859618992653E-3},{"$f":"四支股票!H232","v":-6.633523495633906E-3},{"$f":"四支股票!L232","v":3.3003495031213074E-3},{"$f":"四支股票!P232","v":-7.2833531789182658E-3},{"$f":"四支股票!T232","v":-4.1579544609045534E-3}]
[230,"2021-12-13",{"$f":"四支股票!D233","v":-9.5134948102384882E-3},{"$f":"四支股票!H233","v":-3.3333364197582274E-3},{"$f":"四支股票!L233","v":-8.271345613846081E-3},{"$f":"四支股票!P233","v":5.8309346756777293E-3},{"$f":"四支股票!T233","v":-2.531779142659818E-2}]
[231,"2021-12-14",{"$f":"四支股票!D234","v":3.4447783933116136E-3},{"$f":"四支股票!H234","v":1.6680571006970134E-3},{"$f":"四支股票!L234","v":-6.6667246918930469E-3},{"$f":"四支股票!P234","v":-5.8309346756778386E-3},{"$f":"四支股票!T234","v":4.2643407128086638E-3}]
[232,"2021-12-15",{"$f":"四支股票!D235","v":7.0891902545106716E-3},{"$f":"四支股票!H235","v":8.2988028146950641E-3},{"$f":"四支股票!L235","v":8.3264429152137137E-3},{"$f":"四支股票!P235","v":1.4608913999091121E-3},{"$f":"四支股票!T235","v":2.1053450713789456E-2}]
[233,"2021-12-16",{"$f":"四支股票!D236","v":1.5084761016892893E-3},{"$f":"四支股票!H236","v":3.3003330286566998E-3},{"$f":"四支股票!L236","v":3.3112778874041034E-3},{"$f":"四支股票!P236","v":-8.7976812484486123E-3},{"$f":"四支股票!T236","v":-8.3682445381637865E-3}]
[234,"2021-12-17",{"$f":"四支股票!D237","v":-8.0876200543197885E-3},{"$f":"四支股票!H237","v":-1.4938037108866493E-2},{"$f":"四支股票!L237","v":-9.9668265264110743E-3},{"$f":"四支股票!P237","v":-4.4281105566119144E-3},{"$f":"四支股票!T237","v":4.1928220847964673E-3}]
[235,"2021-12-20",{"$f":"四支股票!D238","v":6.7775583471671218E-3},{"$f":"四支股票!H238","v":-1.6736405580296484E-3},{"$f":"四支股票!L238","v":6.6555486390068343E-3},{"$f":"四支股票!P238","v":4.4281105566117739E-3},{"$f":"四支股票!T238","v":-8.4034060731127645E-3}]
[236,"2021-12-21",{"$f":"四支股票!D239","v":2.1091900200707839E-3},{"$f":"四支股票!H239","v":5.0125418235441935E-3},{"$f":"四支股票!L239","v":0},{"$f":"四支股票!P239","v":4.408456841414503E-3},{"$f":"四支股票!T239","v":-8.4746221873093323E-3}]
[237,"2021-12-22",{"$f":"四支股票!D240","v":6.6994036869422917E-3},{"$f":"四支股票!H240","v":9.950330853168092E-3},{"$f":"四支股票!L240","v":3.3112778874041034E-3},{"$f":"四支股票!P240","v":1.4652896394631251E-3},{"$f":"四支股票!T240","v":1.2685206175625501E-2}]
[238,"2021-12-23",{"$f":"四支股票!D241","v":8.3437364304442209E-4},{"$f":"四支股票!H241","v":-3.3057881344995439E-3},{"$f":"四支股票!L241","v":9.8684684075291407E-3},{"$f":"四支股票!P241","v":2.9239347675708255E-3},{"$f":"四支股票!T241","v":4.1928220847964673E-3}]
[239,"2021-12-24",{"$f":"四支股票!D242","v":4.8485194534643632E-3},{"$f":"四支股票!H242","v":3.3057881344994103E-3},{"$f":"四支股票!L242","v":3.2679931846269117E-3},{"$f":"四支股票!P242","v":-1.4608913999091995E-3},{"$f":"四支股票!T242","v":-8.4034060731127645E-3}]
[240,"2021-12-27",{"$f":"四支股票!D243","v":8.1594070690761168E-3},{"$f":"四支股票!H243","v":1.4742281737203431E-2},{"$f":"四支股票!L243","v":1.6181583113090994E-2},{"$f":"四支股票!P243","v":4.3763016919098393E-3},{"$f":"四支股票!T243","v":1.6736782987384711E-2}]
[241,"2021-12-28",{"$f":"四支股票!D244","v":2.8244564322124108E-3},{"$f":"四支股票!H244","v":1.6246957270019829E-3},{"$f":"四支股票!L244","v":1.1173316649489796E-2},{"$f":"四支股票!P244","v":1.0137740771021872E-2},{"$f":"四支股票!T244","v":-2.9475745887502677E-2}]
[242,"2021-12-29",{"$f":"四支股票!D245","v":-1.6145755457971822E-3},{"$f":"四支股票!H245","v":-1.624695727001922E-3},{"$f":"四支股票!L245","v":-7.9681696491768449E-3},{"$f":"四支股票!P245","v":-1.1594390753882033E-2},{"$f":"四支股票!T245","v":0.15048085866736838}]
[243,"2021-12-30",{"$f":"四支股票!D246","v":2.8320568652129949E-3},{"$f":"四支股票!H246","v":2.5683594734695381E-2},{"$f":"四支股票!L246","v":-1.4504718670414779E-2},{"$f":"四支股票!P246","v":-2.9196517090496884E-3},{"$f":"四支股票!T246","v":3.2552630741198178E-2}]
[244,"2022-01-03",{"$f":"四支股票!D247","v":1.3905750108878977E-2},{"$f":"四支股票!H247","v":3.885492640287587E-2},{"$f":"四支股票!L247","v":6.4725469731504249E-3},{"$f":"四支股票!P247","v":5.8309346756777293E-3},{"$f":"四支股票!T247","v":-2.5226501050853469E-2}]
[245,"2022-01-04",{"$f":"四支股票!D248","v":-1.4254012931954182E-3},{"$f":"四支股票!H248","v":-9.1884260544062551E-3},{"$f":"四支股票!L248","v":-1.6141730443638928E-3},{"$f":"四支股票!P248","v":1.45241850324037E-3},{"$f":"四支股票!T248","v":-7.3261296903445964E-3}]
[246,"2022-01-05",{"$f":"四支股票!D249","v":-7.1629601421504194E-3},{"$f":"四支股票!H249","v":-9.2736367853292149E-3},{"$f":"四支股票!L249","v":1.6141730443639426E-3},{"$f":"四支股票!P249","v":-7.2833531789182658E-3},{"$f":"四支股票!T249","v":-3.7457540510595841E-2}]
[247,"2022-01-06",{"$f":"四支股票!D250","v":-1.0846999623716196E-2},{"$f":"四支股票!H250","v":-1.5649771667127665E-2},{"$f":"四支股票!L250","v":0},{"$f":"四支股票!P250","v":-5.8651486921637297E-3},{"$f":"四支股票!T250","v":-7.5283067851987656E-2}]
[248,"2022-01-07",{"$f":"四支股票!D251","v":3.8243790795743199E-3},{"$f":"四支股票!H251","v":1.4095769800393376E-2},{"$f":"四支股票!L251","v":1.611571688221784E-3},{"$f":"四支股票!P251","v":1.0241450384073664E-2},{"$f":"四支股票!T251","v":6.7620199391503849E-2}]
[249,"2022-01-10",{"$f":"四支股票!D252","v":2.673601279734047E-3},{"$f":"四支股票!H252","v":1.2364917970949935E-2},{"$f":"四支股票!L252","v":3.791926706841342E-2},{"$f":"四支股票!P252","v":0},{"$f":"四支股票!T252","v":-4.3228760354806162E-2}]
[250,"2022-01-11",{"$f":"四支股票!D253","v":4.7561936318642533E-3},{"$f":"四支股票!H253","v":1.3730192811902037E-2},{"$f":"四支股票!L253","v":3.0959313372753185E-3},{"$f":"四支股票!P253","v":8.6957939257195187E-3},{"$f":"四支股票!T253","v":-1.2121301074512486E-2}]
[251,"2022-01-12",{"$f":"四支股票!D254","v":3.3428665974610905E-3},{"$f":"四支股票!H254","v":1.5140048312150113E-3},{"$f":"四支股票!L254","v":4.0883892452849388E-2},{"$f":"四支股票!P254","v":7.1891032623686993E-3},{"$f":"四支股票!T254","v":-2.0534642379467487E-2}]
[252,"2022-01-13",{"$f":"四支股票!D255","v":-1.8240707057748354E-3},{"$f":"四支股票!H255","v":1.6504500671463199E-2},{"$f":"四支股票!L255","v":4.4410880132307066E-3},{"$f":"四支股票!P255","v":-7.1891032623687089E-3},{"$f":"四支股票!T255","v":1.2371336617355412E-2}]
[253,"2022-01-14",{"$f":"四支股票!D256","v":6.6132623204458582E-3},{"$f":"四支股票!H256","v":1.6236519047640573E-2},{"$f":"四支股票!L256","v":-1.7884187943273615E-2},{"$f":"四支股票!P256","v":-7.2411609419517544E-3},{"$f":"四支股票!T256","v":-4.1068322000731754E-3}]
[254,"2022-01-17",{"$f":"四支股票!D257","v":-7.9557383344358457E-3},{"$f":"四支股票!H257","v":-3.1229303633781881E-2},{"$f":"四支股票!L257","v":5.9970493677401837E-3},{"$f":"四支股票!P257","v":-7.2939780433394523E-3},{"$f":"四支股票!T257","v":-8.2645044172823517E-3}]
[255,"2022-01-18",{"$f":"四支股票!D258","v":-8.2598550550890149E-3},{"$f":"四支股票!H258","v":-1.2158204479809519E-2},{"$f":"四支股票!L258","v":-1.2030280429094499E-2},{"$f":"四支股票!P258","v":0},{"$f":"四支股票!T258","v":0}]
[256,"2022-01-19",{"$f":"四支股票!D259","v":-5.038526387467952E-4},{"$f":"四支股票!H259","v":-4.5977092486294314E-3},{"$f":"四支股票!L259","v":-4.5488326764783933E-3},{"$f":"四支股票!P259","v":0},{"$f":"四支股票!T259","v":0}]
[257,"2022-01-20",{"$f":"四支股票!D260","v":-1.7663797461974096E-2},{"$f":"四支股票!H260","v":-1.5480185287899172E-2},{"$f":"四支股票!L260","v":-2.1506219757767592E-2},{"$f":"四支股票!P260","v":-7.3475713064721938E-3},{"$f":"四支股票!T260","v":-4.1579544609045534E-3}]
[258,"2022-01-21",{"$f":"四支股票!D261","v":5.0009819020988659E-3},{"$f":"四支股票!H261","v":1.854767235576105E-2},{"$f":"四支股票!L261","v":-1.5539862663367533E-3},{"$f":"四支股票!P261","v":4.4149445927540876E-3},{"$f":"四支股票!T261","v":-5.5688925465213736E-2}]
[259,"2022-01-24",{"$f":"四支股票!D262","v":-1.6134765585838904E-2},{"$f":"四支股票!H262","v":-1.8547672355761002E-2},{"$f":"四支股票!L262","v":-2.0424951508338625E-2},{"$f":"四支股票!P262","v":-7.3692303237715097E-3},{"$f":"四支股票!T262","v":-2.2272679997741445E-2}]
[260,"2022-01-25",{"$f":"四支股票!D263","v":-1.5105788089703508E-3},{"$f":"四支股票!H263","v":-7.830893580547945E-3},{"$f":"四支股票!L263","v":4.7505869608094461E-3},{"$f":"四支股票!P263","v":0},{"$f":"四支股票!T263","v":1.785760772289537E-2}]
[261,"2022-01-26",{"$f":"四支股票!D264","v":1.2700229036282214E-2},{"$f":"四支股票!H264","v":-1.573564447430552E-3},{"$f":"四支股票!L264","v":3.7213566476121208E-2},{"$f":"四支股票!P264","v":-8.9153340721531103E-3},{"$f":"四支股票!T264","v":4.4150722748459749E-3}]
[262,"2022-02-07",{"$f":"四支股票!D265","v":3.6947666410900404E-3},{"$f":"四支股票!H265","v":-1.108483242449293E-2},{"$f":"四支股票!L265","v":4.5558621979621813E-3},{"$f":"四支股票!P265","v":1.1869619803170434E-2},{"$f":"四支股票!T265","v":-1.3304014896737992E-2}]
[263,"2022-02-08",{"$f":"四支股票!D266","v":1.0255230060815374E-2},{"$f":"四支股票!H266","v":7.9302556759775645E-3},{"$f":"四支股票!L266","v":0},{"$f":"四支股票!P266","v":8.8106146741338855E-3},{"$f":"四支股票!T266","v":4.3675148935353542E-2}]
[264,"2022-02-09",{"$f":"四支股票!D267","v":1.0210665976462904E-2},{"$f":"四支股票!H267","v":2.4962294559913775E-2},{"$f":"四支股票!L267","v":-3.0348581024498018E-3},{"$f":"四支股票!P267","v":5.8309346756777293E-3},{"$f":"四支股票!T267","v":5.4067134691328872E-2}]
[265,"2022-02-10",{"$f":"四支股票!D268","v":-1.4795132292794897E-3},{"$f":"四支股票!H268","v":1.5396461855928362E-3},{"$f":"四支股票!L268","v":-3.0442184617377522E-3},{"$f":"四支股票!P268","v":0},{"$f":"四支股票!T268","v":-1.2220052186470685E-2}]
[266,"2022-02-11",{"$f":"四支股票!D269","v":-1.7256364823272845E-2},{"$f":"四支股票!H269","v":-2.0202707317519466E-2},{"$f":"四支股票!L269","v":-2.1572501495295639E-2},{"$f":"四支股票!P269","v":-1.022660475705758E-2},{"$f":"四支股票!T269","v":-5.4750534648457312E-2}]
[267,"2022-02-14",{"$f":"四支股票!D270","v":-2.5513247633950202E-3},{"$f":"四支股票!H270","v":-6.2992334279872008E-3},{"$f":"四支股票!L270","v":1.5565139329288024E-3},{"$f":"四支股票!P270","v":-2.9411197671595952E-3},{"$f":"四支股票!T270","v":1.290345214359913E-2}]
[268,"2022-02-15",{"$f":"四支股票!D271","v":1.5458284337330031E-2},{"$f":"四支股票!H271","v":2.032908163842569E-2},{"$f":"四支股票!L271","v":7.7459717546529364E-3},{"$f":"四支股票!P271","v":7.336789848539341E-3},{"$f":"四支股票!T271","v":1.6949546888434298E-2}]
[269,"2022-02-16",{"$f":"四支股票!D272","v":2.0328537581586425E-3},{"$f":"四支股票!H272","v":-1.5491869868293781E-3},{"$f":"四支股票!L272","v":-1.5444945155221755E-3},{"$f":"四支股票!P272","v":1.4608913999091121E-3},{"$f":"四支股票!T272","v":-6.5098916344829658E-2}]
[270,"2022-02-17",{"$f":"四支股票!D273","v":-1.9846467413046171E-3},{"$f":"四支股票!H273","v":-1.2480661223609144E-2},{"$f":"四支股票!L273","v":-1.5467753101987163E-3},{"$f":"四支股票!P273","v":-1.322579180506041E-2},{"$f":"四支股票!T273","v":1.7778235417779589E-2}]
[271,"2022-02-18",{"$f":"四支股票!D274","v":-5.9578773418613199E-4},{"$f":"四支股票!H274","v":-7.8802614253059757E-3},{"$f":"四支股票!L274","v":0},{"$f":"四支股票!P274","v":1.3225791805060496E-2},{"$f":"四支股票!T274","v":1.3129227122503867E-2}]
[272,"2022-02-21",{"$f":"四支股票!D275","v":-1.393754202031558E-2},{"$f":"四支股票!H275","v":-7.9428535139367696E-3},{"$f":"四支股票!L275","v":-1.4029801552098669E-2},{"$f":"四支股票!P275","v":-1.322579180506041E-2},{"$f":"四支股票!T275","v":-3.0907462540283592E-2}]
[273,"2022-02-22",{"$f":"四支股票!D276","v":4.7989743250371128E-3},{"$f":"四支股票!H276","v":-3.1948908965191767E-3},{"$f":"四支股票!L276","v":0},{"$f":"四支股票!P276","v":5.8997517129875327E-3},{"$f":"四支股票!T276","v":8.9286253954226468E-3}]
[274,"2022-02-23",{"$f":"四支股票!D277","v":-2.5873872512829871E-2},{"$f":"四支股票!H277","v":-3.417745180158651E-2},{"$f":"四支股票!L277","v":-1.1049851885171984E-2},{"$f":"四支股票!P277","v":-1.780457972332793E-2},{"$f":"四支股票!T277","v":-0.11778302200638385}]
[275,"2022-02-24",{"$f":"四支股票!D278","v":3.2700314375735734E-3},{"$f":"四支股票!H278","v":0},{"$f":"四支股票!L278","v":-1.1173316649489713E-2},{"$f":"四支股票!P278","v":4.4808887185976802E-3},{"$f":"四支股票!T278","v":4.4016858141894454E-2}]
[276,"2022-02-25",{"$f":"四支股票!D279","v":1.3843671878997434E-2},{"$f":"四支股票!H279","v":0},{"$f":"四支股票!L279","v":4.8038364151276533E-3},{"$f":"四支股票!P279","v":5.9435837071077323E-3},{"$f":"四支股票!T279","v":-8.9014248055684253E-2}]
[277,"2022-03-01",{"$f":"四支股票!D280","v":-1.7139477372037999E-3},{"$f":"四支股票!H280","v":-4.9792633996073379E-3},{"$f":"四支股票!L280","v":-9.6308611120789964E-3},{"$f":"四支股票!P280","v":7.38010729762246E-3},{"$f":"四支股票!T280","v":-8.4034455025659045E-3}]
[278,"2022-03-02",{"$f":"四支股票!D281","v":3.7316831193382437E-3},{"$f":"四支股票!H281","v":1.6625107736134572E-3},{"$f":"四支股票!L281","v":1.611571688221784E-3},{"$f":"四支股票!P281","v":0},{"$f":"四支股票!T281","v":-8.4745952666248642E-3}]
[279,"2022-03-03",{"$f":"四支股票!D282","v":-1.1094913745354363E-2},{"$f":"四支股票!H282","v":-1.1696039763191298E-2},{"$f":"四支股票!L282","v":-1.4598750875163831E-2},{"$f":"四支股票!P282","v":-1.1834502289861082E-2},{"$f":"四支股票!T282","v":4.0651794875940263E-2}]
[280,"2022-03-04",{"$f":"四支股票!D283","v":-3.1956133989154201E-2},{"$f":"四支股票!H283","v":-3.2453744849738515E-2},{"$f":"四支股票!L283","v":-2.9852945819517241E-2},{"$f":"四支股票!P283","v":-1.4992785260504822E-2},{"$f":"四支股票!T283","v":-3.8526369827077543E-2}]
[281,"2022-03-07",{"$f":"四支股票!D284","v":-2.0788896090451883E-2},{"$f":"四支股票!H284","v":-2.2828032556200833E-2},{"$f":"四支股票!L284","v":-1.5267505800821504E-2},{"$f":"四支股票!P284","v":-1.2158128581548591E-2},{"$f":"四支股票!T284","v":-3.7862870427314399E-2}]
[282,"2022-03-08",{"$f":"四支股票!D285","v":1.1235694538056337E-2},{"$f":"四支股票!H285","v":8.8417905814610117E-3},{"$f":"四支股票!L285","v":8.5106896679086105E-3},{"$f":"四支股票!P285","v":-4.597770551635477E-3},{"$f":"四支股票!T285","v":2.0731827863379525E-2}]
[283,"2022-03-09",{"$f":"四支股票!D286","v":2.425996059091784E-2},{"$f":"四支股票!H286","v":3.2903401106945E-2},{"$f":"四支股票!L286","v":2.1794643243672245E-2},{"$f":"四支股票!P286","v":1.3730223533868689E-2},{"$f":"四支股票!T286","v":2.2424857959174555E-2}]
[284,"2022-03-10",{"$f":"四支股票!D287","v":-9.7101044768514912E-3},{"$f":"四支股票!H287","v":-2.0654779030746025E-2},{"$f":"四支股票!L287","v":0},{"$f":"四支股票!P287","v":4.535200414259124E-3},{"$f":"四支股票!T287","v":-3.1101737649892131E-2}]
[285,"2022-03-11",{"$f":"四支股票!D288","v":-9.8539265253337239E-5},{"$f":"四支股票!H288","v":-5.2310494175525557E-3},{"$f":"四支股票!L288","v":1.4815118708757838E-2},{"$f":"四支股票!P288","v":-1.2139799799478424E-2},{"$f":"四支股票!T288","v":-1.980258765238925E-2}]
[286,"2022-03-14",{"$f":"四支股票!D289","v":-1.9713267247363879E-2},{"$f":"四支股票!H289","v":-2.4780028998486966E-2},{"$f":"四支股票!L289","v":1.6326207708023744E-3},{"$f":"四支股票!P289","v":-3.0580604170148194E-3},{"$f":"四支股票!T289","v":-0.15082288482373105}]
[287,"2022-03-15",{"$f":"四支股票!D290","v":8.7221068505331561E-4},{"$f":"四支股票!H290","v":0},{"$f":"四支股票!L290","v":1.135455841613971E-2},{"$f":"四支股票!P290","v":0},{"$f":"四支股票!T290","v":-1.693855461633538E-2}]
[288,"2022-03-16",{"$f":"四支股票!D291","v":2.9510988919511587E-2},{"$f":"四支股票!H291","v":4.2111485350126848E-2},{"$f":"四支股票!L291","v":1.7586352806354264E-2},{"$f":"四支股票!P291","v":3.0580604170148715E-3},{"$f":"四支股票!T291","v":1.3132130530586329E-3}]
[289,"2022-03-17",{"$f":"四支股票!D292","v":4.7551295902744506E-4},{"$f":"四支股票!H292","v":-1.7196908795265881E-3},{"$f":"四支股票!L292","v":3.1645755008962739E-3},{"$f":"四支股票!P292","v":0},{"$f":"四支股票!T292","v":-2.6281542841187161E-3}]
[290,"2022-03-18",{"$f":"四支股票!D293","v":5.9308625797431964E-3},{"$f":"四支股票!H293","v":8.5690327251013668E-3},{"$f":"四支股票!L293","v":4.7281255471930657E-3},{"$f":"四支股票!P293","v":3.0487371872569349E-3},{"$f":"四支股票!T293","v":4.1242968009727023E-2}]
[291,"2022-03-21",{"$f":"四支股票!D294","v":-3.6926862292402621E-5},{"$f":"四支股票!H294","v":-5.1326032265202022E-3},{"$f":"四支股票!L294","v":0},{"$f":"四支股票!P294","v":-3.0487371872570676E-3},{"$f":"四支股票!T294","v":-2.5576827048324442E-2}]
[292,"2022-03-22",{"$f":"四支股票!D295","v":9.7282121373226497E-3},{"$f":"四支股票!H295","v":1.1935350549272854E-2},{"$f":"四支股票!L295","v":1.869221075498919E-2},{"$f":"四支股票!P295","v":6.0883292162684545E-3},{"$f":"四支股票!T295","v":-5.1947966101435154E-3}]
[293,"2022-03-23",{"$f":"四支股票!D296","v":-1.8237770887799395E-3},{"$f":"四支股票!H296","v":1.6934805063331477E-3},{"$f":"四支股票!L296","v":-7.7459717546530735E-3},{"$f":"四支股票!P296","v":-4.5628063952367522E-3},{"$f":"四支股票!T296","v":-7.8431900671402845E-3}]
[294,"2022-03-24",{"$f":"四支股票!D297","v":-1.2500748968403315E-3},{"$f":"四支股票!H297","v":1.1774736544533537E-2},{"$f":"四支股票!L297","v":-1.2519772001225322E-2},{"$f":"四支股票!P297","v":-1.5255228210317633E-3},{"$f":"四支股票!T297","v":7.8431900671402516E-3}]
[295,"2022-03-25",{"$f":"四支股票!D298","v":-8.9178439054798577E-3},{"$f":"四支股票!H298","v":-2.3689771122404665E-2},{"$f":"四支股票!L298","v":-3.1545925463039165E-3},{"$f":"四支股票!P298","v":0},{"$f":"四支股票!T298","v":-3.7139574891812875E-2}]
[296,"2022-03-28",{"$f":"四支股票!D299","v":1.6339596818480894E-3},{"$f":"四支股票!H299","v":8.5252008233596271E-3},{"$f":"四支股票!L299","v":7.8678613244208689E-3},{"$f":"四支股票!P299","v":1.5255228210317247E-3},{"$f":"四支股票!T299","v":-5.5569816735892189E-2}]
[297,"2022-03-29",{"$f":"四支股票!D300","v":1.0875971686518483E-2},{"$f":"四支股票!H300","v":1.8503471564559726E-2},{"$f":"四支股票!L300","v":9.3604894894452496E-3},{"$f":"四支股票!P300","v":1.5232143662253113E-3},{"$f":"四支股票!T300","v":3.7846153324364591E-2}]
[298,"2022-03-30",{"$f":"四支股票!D301","v":-2.6578896084086126E-3},{"$f":"四支股票!H301","v":-5.0125418235442863E-3},{"$f":"四支股票!L301","v":1.5515596355187592E-3},{"$f":"四支股票!P301","v":-1.5232143662252272E-3},{"$f":"四支股票!T301","v":-3.2148154471090221E-2}]
[299,"2022-03-31",{"$f":"四支股票!D302","v":-3.8438702235508394E-3},{"$f":"四支股票!H302","v":-1.3490929741015402E-2},{"$f":"四支股票!L302","v":7.7220460939103185E-3},{"$f":"四支股票!P302","v":7.5930511382159933E-3},{"$f":"四支股票!T302","v":-5.5488706919352697E-2}]
[300,"2022-04-01",{"$f":"四支股票!D303","v":-5.8660450722456264E-3},{"$f":"四支股票!H303","v":-1.8852314979209188E-2},{"$f":"四支股票!L303","v":7.6628727455690972E-3},{"$f":"四支股票!P303","v":-3.0302447429793214E-3},{"$f":"四支股票!T303","v":-5.0819278224145996E-2}]
[301,"2022-04-06",{"$f":"四支股票!D304","v":-1.9819549900202179E-2},{"$f":"四支股票!H304","v":-2.0979790469194522E-2},{"$f":"四支股票!L304","v":-1.0744492986681963E-2},{"$f":"四支股票!P304","v":-6.0883292162684875E-3},{"$f":"四支股票!T304","v":-3.5373380392551231E-2}]
[302,"2022-04-07",{"$f":"四支股票!D305","v":6.1461866470830136E-3},{"$f":"四支股票!H305","v":1.7652255245691492E-3},{"$f":"四支股票!L305","v":3.0816202411127862E-3},{"$f":"四支股票!P305","v":7.6045993852192125E-3},{"$f":"四支股票!T305","v":-1.6502014325422504E-2}]
[303,"2022-04-08",{"$f":"四支股票!D306","v":-1.3757858538851777E-2},{"$f":"四支股票!H306","v":-1.6000341346441189E-2},{"$f":"四支股票!L306","v":-3.0816202411128521E-3},{"$f":"四支股票!P306","v":-7.6045993852193036E-3},{"$f":"四支股票!T306","v":-5.0042402835712698E-3}]
[304,"2022-04-11",{"$f":"四支股票!D307","v":-3.3760432512988563E-3},{"$f":"四支股票!H307","v":-1.7937224540268775E-3},{"$f":"四支股票!L307","v":1.5420048721605389E-3},{"$f":"四支股票!P307","v":3.0487371872569349E-3},{"$f":"四支股票!T307","v":-3.3501276057497052E-3}]
[305,"2022-04-12",{"$f":"四支股票!D308","v":1.8123390928228837E-2},{"$f":"四支股票!H308","v":2.8320476787455515E-2},{"$f":"四支股票!L308","v":7.6746345175074671E-3},{"$f":"四支股票!P308","v":4.5558621979621813E-3},{"$f":"四支股票!T308","v":3.1381665306973887E-2}]
[306,"2022-04-13",{"$f":"四支股票!D309","v":-3.241934841780481E-3},{"$f":"四支股票!H309","v":0},{"$f":"四支股票!L309","v":-1.0761133905190151E-2},{"$f":"四支股票!P309","v":4.535200414259124E-3},{"$f":"四支股票!T309","v":-3.8115673335745677E-2}]
[307,"2022-04-14",{"$f":"四支股票!D310","v":-1.4100782598905456E-2},{"$f":"四支股票!H310","v":-1.9383866821048531E-2},{"$f":"四支股票!L310","v":-1.0878071779330213E-2},{"$f":"四支股票!P310","v":1.6455105151166896E-2},{"$f":"四支股票!T310","v":-7.3588358663324527E-2}]
[308,"2022-04-15",{"$f":"四支股票!D311","v":-6.2124728802067835E-3},{"$f":"四支股票!H311","v":-1.7809443709948087E-3},{"$f":"四支股票!L311","v":-1.8928025809085876E-2},{"$f":"四支股票!P311","v":-5.9524282008853345E-3},{"$f":"四支股票!T311","v":2.6907438272297034E-2}]
[309,"2022-04-18",{"$f":"四支股票!D312","v":5.5783514317884111E-3},{"$f":"四支股票!H312","v":7.1048256237445824E-3},{"$f":"四支股票!L312","v":-1.5935939627477829E-3},{"$f":"四支股票!P312","v":-2.9894939381873401E-3},{"$f":"四支股票!T312","v":7.0547885188729925E-3}]
[310,"2022-04-19",{"$f":"四支股票!D313","v":9.1078590594980829E-3},{"$f":"四支股票!H313","v":8.8106296821549059E-3},{"$f":"四支股票!L313","v":1.895792909455497E-2},{"$f":"四支股票!P313","v":7.4571557744254353E-3},{"$f":"四支股票!T313","v":-1.7590357526811626E-3}]
[311,"2022-04-20",{"$f":"四支股票!D314","v":-1.2213289591978883E-3},{"$f":"四支股票!H314","v":-8.8106296821549197E-3},{"$f":"四支股票!L314","v":0},{"$f":"四支股票!P314","v":2.9673166512798168E-3},{"$f":"四支股票!T314","v":1.7452437714701549E-2}]
[312,"2022-04-21",{"$f":"四支股票!D315","v":-6.0234572862296097E-3},{"$f":"四支股票!H315","v":-1.2466768765130047E-2},{"$f":"四支股票!L315","v":4.6837712845491999E-3},{"$f":"四支股票!P315","v":-1.4825502866327629E-3},{"$f":"四支股票!T315","v":-3.8805594888051721E-2}]
[313,"2022-04-22",{"$f":"四支股票!D316","v":-2.4027166091965681E-2},{"$f":"四支股票!H316","v":-1.9910159959329751E-2},{"$f":"四支股票!L316","v":-6.2499892901794864E-3},{"$f":"四支股票!P316","v":2.9629058712677694E-3},{"$f":"四支股票!T316","v":-6.5018212219112123E-2}]
[314,"2022-04-25",{"$f":"四支股票!D317","v":1.4362351418832778E-3},{"$f":"四支股票!H317","v":-1.829826677076116E-3},{"$f":"四支股票!L317","v":3.1299086829090685E-3},{"$f":"四支股票!P317","v":8.836567398026355E-3},{"$f":"四支股票!T317","v":5.7415885800048876E-3}]
[315,"2022-04-26",{"$f":"四支股票!D318","v":-2.0726614066522715E-2},{"$f":"四支股票!H318","v":-3.7317763007195165E-2},{"$f":"四支股票!L318","v":-3.1748698314580298E-2},{"$f":"四支股票!P318","v":-1.328423963394138E-2},{"$f":"四支股票!T318","v":-2.9043649326743814E-2}]
[316,"2022-04-27",{"$f":"四支股票!D319","v":7.0918126112669653E-3},{"$f":"四支股票!H319","v":9.4608085042288889E-3},{"$f":"四支股票!L319","v":1.611571688221784E-3},{"$f":"四支股票!P319","v":1.4749529273404659E-2},{"$f":"四支股票!T319","v":9.775243318041589E-3}]
[317,"2022-04-28",{"$f":"四支股票!D320","v":1.0469084429092069E-2},{"$f":"四支股票!H320","v":1.30965389198455E-2},{"$f":"四支股票!L320","v":6.4206000090423565E-3},{"$f":"四支股票!P320","v":1.4630433676617689E-3},{"$f":"四支股票!T320","v":-9.7752433180415491E-3}]
[318,"2022-04-29",{"$f":"四支股票!D321","v":-5.6377455099258884E-3},{"$f":"四支股票!H321","v":-1.3096538919845569E-2},{"$f":"四支股票!L321","v":-3.205147000312822E-3},{"$f":"四支股票!P321","v":2.9196517090496099E-3},{"$f":"四支股票!T321","v":-3.9369986820120299E-3}]
[319,"2022-05-03",{"$f":"四支股票!D322","v":4.0484091334350592E-3},{"$f":"四支股票!H322","v":5.6338177182560642E-3},{"$f":"四支股票!L322","v":9.5847857608537534E-3},{"$f":"四支股票!P322","v":-5.8479847161745802E-3},{"$f":"四支股票!T322","v":2.3392854231817844E-2}]
[320,"2022-05-04",{"$f":"四支股票!D323","v":7.8341608007221029E-3},{"$f":"四支股票!H323","v":1.4870162479451407E-2},{"$f":"四支股票!L323","v":-9.5847857608537413E-3},{"$f":"四支股票!P323","v":-2.9368156850389376E-3},{"$f":"四支股票!T323","v":8.1375789356700673E-2}]
[321,"2022-05-05",{"$f":"四支股票!D324","v":-1.7395143376603368E-2},{"$f":"四支股票!H324","v":-2.616971773338472E-2},{"$f":"四支股票!L324","v":-1.7814203883893421E-2},{"$f":"四支股票!P324","v":-1.0347423948902472E-2},{"$f":"四支股票!T324","v":-6.0402654685113882E-2}]
[322,"2022-05-06",{"$f":"四支股票!D325","v":-2.2139609541446618E-2},{"$f":"四支股票!H325","v":-1.5267472130788421E-2},{"$f":"四支股票!L325","v":-4.1707461988323778E-2},{"$f":"四支股票!P325","v":-1.1958333565395751E-2},{"$f":"四支股票!T325","v":-4.8318546749605007E-2}]
[323,"2022-05-09",{"$f":"四支股票!D326","v":7.9601537611391092E-4},{"$f":"四支股票!H326","v":-3.8535693159899662E-3},{"$f":"四支股票!L326","v":-1.1996733323406441E-2},{"$f":"四支股票!P326","v":5.9970493677401837E-3},{"$f":"四支股票!T326","v":1.9782006345379368E-3}]
[324,"2022-05-10",{"$f":"四支股票!D327","v":-3.4582971426193499E-3},{"$f":"四支股票!H327","v":5.7747994938839578E-3},{"$f":"四支股票!L327","v":-3.1526235853179846E-2},{"$f":"四支股票!P327","v":-9.0090545888638976E-3},{"$f":"四支股票!T327","v":-5.9465100087686771E-3}]
[325,"2022-05-11",{"$f":"四支股票!D328","v":-2.4639717139692398E-2},{"$f":"四支股票!H328","v":-3.1191612478007055E-2},{"$f":"四支股票!L328","v":-3.808262580938112E-2},{"$f":"四支股票!P328","v":-1.5197860216493213E-2},{"$f":"四支股票!T328","v":-6.9825294446081692E-3}]
[326,"2022-05-12",{"$f":"四支股票!D329","v":1.3727764491292588E-2},{"$f":"四支股票!H329","v":1.1811160928344619E-2},{"$f":"四支股票!L329","v":3.6900596398248705E-3},{"$f":"四支股票!P329","v":-1.5326593038552186E-3},{"$f":"四支股票!T329","v":4.0221201646370511E-2}]
[327,"2022-05-13",{"$f":"四支股票!D330","v":4.3172000275257701E-3},{"$f":"四支股票!H330","v":1.745922137176855E-2},{"$f":"四支股票!L330","v":-2.0465793379092261E-2},{"$f":"四支股票!P330","v":-1.0794199118609413E-2},{"$f":"四支股票!T330","v":-3.8535532712915608E-3}]
[328,"2022-05-16",{"$f":"四支股票!D331","v":9.7036887987287639E-3},{"$f":"四支股票!H331","v":1.9048194970694411E-2},{"$f":"四支股票!L331","v":-1.1342333423741224E-2},{"$f":"四支股票!P331","v":-4.6620598347844426E-3},{"$f":"四支股票!T331","v":4.713410605282968E-2}]
[329,"2022-05-17",{"$f":"四支股票!D332","v":1.4884265674516381E-2},{"$f":"四支股票!H332","v":1.4981553615616894E-2},{"$f":"四支股票!L332","v":2.8118067163008704E-2},{"$f":"四支股票!P332","v":1.3921354525614596E-2},{"$f":"四支股票!T332","v":9.1452071494047854E-2}]
[330,"2022-05-18",{"$f":"四支股票!D333","v":-1.7114536808456777E-2},{"$f":"四支股票!H333","v":-3.0190972279145682E-2},{"$f":"四支股票!L333","v":-2.621867436120991E-2},{"$f":"四支股票!P333","v":-9.2592946908300559E-3},{"$f":"四支股票!T333","v":-4.6440000435704148E-2}]
[331,"2022-05-19",{"$f":"四支股票!D334","v":7.7431531371105712E-3},{"$f":"四支股票!H334","v":1.5209418663528708E-2},{"$f":"四支股票!L334","v":3.7879021487877648E-3},{"$f":"四支股票!P334","v":1.5491560270765336E-3},{"$f":"四支股票!T334","v":6.4758589879015629E-2}]
[332,"2022-05-20",{"$f":"四支股票!D335","v":7.157954567534483E-4},{"$f":"四支股票!H335","v":-3.7807228399060443E-3},{"$f":"四支股票!L335","v":-1.14070247210182E-2},{"$f":"四支股票!P335","v":7.710138663753573E-3},{"$f":"四支股票!T335","v":-4.0409598088309538E-2}]
[333,"2022-05-23",{"$f":"四支股票!D336","v":-1.2003882163328147E-2},{"$f":"四支股票!H336","v":-1.5267472130788421E-2},{"$f":"四支股票!L336","v":-5.752633368990792E-3},{"$f":"四支股票!P336","v":-1.0810854326348847E-2},{"$f":"四支股票!T336","v":-5.6552182829195052E-2}]
[334,"2022-05-24",{"$f":"四支股票!D337","v":8.756565739091924E-3},{"$f":"四支股票!H337","v":7.6628727455690972E-3},{"$f":"四支股票!L337","v":-1.1605507209802874E-2},{"$f":"四支股票!P337","v":7.7339903604767357E-3},{"$f":"四支股票!T337","v":1.9802640060885716E-2}]
[335,"2022-05-25",{"$f":"四支股票!D338","v":-8.430866118560195E-3},{"$f":"四支股票!H338","v":-1.9268418865877032E-2},{"$f":"四支股票!L338","v":1.9435962980660466E-3},{"$f":"四支股票!P338","v":0},{"$f":"四支股票!T338","v":-1.6172827976710064E-2}]
[336,"2022-05-26",{"$f":"四支股票!D339","v":1.8451845953664326E-2},{"$f":"四支股票!H339","v":3.0653741091002305E-2},{"$f":"四支股票!L339","v":2.1134274051159363E-2},{"$f":"四支股票!P339","v":1.5396153689523709E-3},{"$f":"四支股票!T339","v":7.2202217809628827E-3}]
[337,"2022-05-27",{"$f":"四支股票!D340","v":2.0951650111821062E-2},{"$f":"四支股票!H340","v":3.1571795875813789E-2},{"$f":"四支股票!L340","v":2.6267964843424654E-2},{"$f":"四支股票!P340","v":1.5267472130788381E-2},{"$f":"四支股票!T340","v":1.4286015817427904E-2}]
[338,"2022-05-30",{"$f":"四支股票!D341","v":1.1799053459126772E-2},{"$f":"四支股票!H341","v":2.3487981307213759E-2},{"$f":"四支股票!L341","v":3.0996118322285101E-2},{"$f":"四支股票!P341","v":2.0990305565425898E-2},{"$f":"四支股票!T341","v":3.5397562170037477E-3}]
[339,"2022-05-31",{"$f":"四支股票!D342","v":-7.9252718520932183E-3},{"$f":"四支股票!H342","v":-1.9838342219664327E-2},{"$f":"四支股票!L342","v":-1.811643717708851E-2},{"$f":"四支股票!P342","v":-2.7069382129613465E-2},{"$f":"四支股票!T342","v":0}]
[340,"2022-06-01",{"$f":"四支股票!D343","v":-7.3745840473934373E-3},{"$f":"四支股票!H343","v":-1.6529301951210582E-2},{"$f":"四支股票!L343","v":-3.6630260402726426E-3},{"$f":"四支股票!P343","v":-7.6511469696810787E-3},{"$f":"四支股票!T343","v":-1.0657310249165174E-2}]
[341,"2022-06-02",{"$f":"四支股票!D344","v":3.2203278689587737E-3},{"$f":"四支股票!H344","v":0},{"$f":"四支股票!L344","v":5.4894740365960659E-3},{"$f":"四支股票!P344","v":1.5349044277792444E-3},{"$f":"四支股票!T344","v":-1.2578705474265133E-2}]
[342,"2022-06-06",{"$f":"四支股票!D345","v":-5.6209890820767654E-3},{"$f":"四支股票!H345","v":-9.3023926623135612E-3},{"$f":"四支股票!L345","v":0},{"$f":"四支股票!P345","v":-6.1537732658118903E-3},{"$f":"四支股票!T345","v":4.0749588534711619E-2}]
[343,"2022-06-07",{"$f":"四支股票!D346","v":9.5005416664918473E-3},{"$f":"四支股票!H346","v":1.6682499959936061E-2},{"$f":"四支股票!L346","v":0},{"$f":"四支股票!P346","v":7.6864325696670757E-3},{"$f":"四支股票!T346","v":-2.4605773610807229E-2}]
[344,"2022-06-08",{"$f":"四支股票!D347","v":-2.9538735953781527E-3},{"$f":"四支股票!H347","v":-5.5299680094610861E-3},{"$f":"四支股票!L347","v":0},{"$f":"四支股票!P347","v":-6.1444276975065465E-3},{"$f":"四支股票!T347","v":1.7637131256034295E-2}]
[345,"2022-06-09",{"$f":"四支股票!D348","v":-9.7469691072219894E-3},{"$f":"四支股票!H348","v":-2.0542272300314038E-2},{"$f":"四支股票!L348","v":0},{"$f":"四支股票!P348","v":-4.6332746978814988E-3},{"$f":"四支股票!T348","v":-1.9418096295192946E-2}]
[346,"2022-06-10",{"$f":"四支股票!D349","v":-2.392524316501525E-2},{"$f":"四支股票!H349","v":-2.677024106460478E-2},{"$f":"四支股票!L349","v":-1.8416727125416518E-2},{"$f":"四支股票!P349","v":-3.1007156625952898E-3},{"$f":"四支股票!T349","v":-6.6322627423051089E-2}]
[347,"2022-06-13",{"$f":"四支股票!D350","v":-1.4702097599705412E-3},{"$f":"四支股票!H350","v":-5.8309203107932096E-3},{"$f":"四支股票!L350","v":-7.4626651610460127E-3},{"$f":"四支股票!P350","v":-6.2305808065361724E-3},{"$f":"四支股票!T350","v":-2.702869430572782E-2}]
[348,"2022-06-14",{"$f":"四支股票!D351","v":-3.0031343704797807E-3},{"$f":"四支股票!H351","v":-7.8278286202467916E-3},{"$f":"四支股票!L351","v":3.7382473439906742E-3},{"$f":"四支股票!P351","v":1.5612493657039528E-3},{"$f":"四支股票!T351","v":0}]
[349,"2022-06-15",{"$f":"四支股票!D352","v":-1.0091193906392704E-2},{"$f":"四支股票!H352","v":-1.9665689720408269E-3},{"$f":"四支股票!L352","v":1.8639893734700012E-3},{"$f":"四支股票!P352","v":1.5588312415665804E-3},{"$f":"四支股票!T352","v":-1.5779423335262416E-2}]
[350,"2022-06-16",{"$f":"四支股票!D353","v":-1.2538372663138345E-2},{"$f":"四支股票!H353","v":-1.3875346493617068E-2},{"$f":"四支股票!L353","v":-1.3121106584670948E-2},{"$f":"四支股票!P353","v":-9.3897250674073347E-3},{"$f":"四支股票!T353","v":-1.6032410866792138E-2}]
[351,"2022-06-17",{"$f":"四支股票!D354","v":-1.7652178919042413E-2},{"$f":"四支股票!H354","v":-6.0060240602119218E-3},{"$f":"四支股票!L354","v":-2.2901783591703972E-2},{"$f":"四支股票!P354","v":-9.4787125080024303E-3},{"$f":"四支股票!T354","v":-5.502159921432985E-2}]
[352,"2022-06-20",{"$f":"四支股票!D355","v":2.3223131304744026E-2},{"$f":"四支股票!H355","v":1.3958352250706855E-2},{"$f":"四支股票!L355","v":4.5290796935367035E-2},{"$f":"四支股票!P355","v":2.6626428747469427E-2},{"$f":"四支股票!T355","v":2.8407952936275235E-2}]
[353,"2022-06-21",{"$f":"四支股票!D356","v":-2.4514348472508125E-2},{"$f":"四支股票!H356","v":-2.1011278212593038E-2},{"$f":"四支股票!L356","v":-2.2389013343662972E-2},{"$f":"四支股票!P356","v":-1.0878071779330213E-2},{"$f":"四支股票!T356","v":-4.4546072249485653E-2}]
[354,"2022-06-22",{"$f":"四支股票!D357","v":-1.1224629791892147E-2},{"$f":"四支股票!H357","v":-1.8367863331387208E-2},{"$f":"四支股票!L357","v":0},{"$f":"四支股票!P357","v":3.0771658666753687E-2},{"$f":"四支股票!T357","v":-1.9715822892211576E-2}]
[355,"2022-06-23",{"$f":"四支股票!D358","v":8.3255650829592055E-3},{"$f":"四支股票!H358","v":2.0576138946801622E-3},{"$f":"四支股票!L358","v":7.5188698672101935E-3},{"$f":"四支股票!P358","v":6.0423445764441397E-3},{"$f":"四支股票!T358","v":1.1055984316920083E-3}]
[356,"2022-06-24",{"$f":"四支股票!D359","v":1.586282233330806E-2},{"$f":"四支股票!H359","v":2.4366687775833305E-2},{"$f":"四支股票!L359","v":1.8708704826288277E-3},{"$f":"四支股票!P359","v":3.0074609134432134E-3},{"$f":"四支股票!T359","v":4.0070332856941518E-2}]
[357,"2022-06-27",{"$f":"四支股票!D360","v":-6.976282924934742E-3},{"$f":"四支股票!H360","v":-2.0080328032455234E-3},{"$f":"四支股票!L360","v":5.5917946784170098E-3},{"$f":"四支股票!P360","v":7.4794666550634615E-3},{"$f":"四支股票!T360","v":-4.1175931288633456E-2}]
[358,"2022-06-28",{"$f":"四支股票!D361","v":-1.302428545547144E-2},{"$f":"四支股票!H361","v":-1.3151428804126895E-2},{"$f":"四支股票!L361","v":-1.8762276807556343E-2},{"$f":"四支股票!P361","v":-2.9850171418277522E-3},{"$f":"四支股票!T361","v":-5.5463226233825637E-3}]
[359,"2022-06-29",{"$f":"四支股票!D362","v":-2.7567856276357966E-2},{"$f":"四支股票!H362","v":-3.1026273563100618E-2},{"$f":"四支股票!L362","v":-3.6648208923614561E-2},{"$f":"四支股票!P362","v":1.4936223614175766E-3},{"$f":"四支股票!T362","v":-4.6678918245557741E-2}]
[360,"2022-06-30",{"$f":"四支股票!D363","v":-3.3096615084015048E-2},{"$f":"四支股票!H363","v":-4.8422584676228765E-2},{"$f":"四支股票!L363","v":-2.3858009625899949E-2},{"$f":"四支股票!P363","v":1.3343444628764974E-2},{"$f":"四支股票!T363","v":-5.2643762789900725E-2}]
[361,"2022-07-01",{"$f":"四支股票!D364","v":-8.8249796694293524E-3},{"$f":"四支股票!H364","v":-3.0220542642884408E-2},{"$f":"四支股票!L364","v":-8.8292627266402496E-2},{"$f":"四支股票!P364","v":1.4716411563757863E-3},{"$f":"四支股票!T364","v":2.6668260864005065E-2}]
[362,"2022-07-04",{"$f":"四支股票!D365","v":9.2515834133342616E-3},{"$f":"四支股票!H365","v":1.3544225107757253E-2},{"$f":"四支股票!L365","v":2.7101929777791179E-2},{"$f":"四支股票!P365","v":1.0241450384073664E-2},{"$f":"四支股票!T365","v":3.8714459047930048E-2}]
[363,"2022-07-05",{"$f":"四支股票!D366","v":-2.5672428210981674E-2},{"$f":"四支股票!H366","v":-2.3824155727506593E-2},{"$f":"四支股票!L366","v":-3.9263472570125968E-2},{"$f":"四支股票!P366","v":1.3015383044560951E-2},{"$f":"四支股票!T366","v":-3.394119763976975E-2}]
[364,"2022-07-06",{"$f":"四支股票!D367","v":2.4770880145055799E-2},{"$f":"四支股票!H367","v":4.9282088423018428E-2},{"$f":"四支股票!L367","v":2.2221786922182866E-3},{"$f":"四支股票!P367","v":1.4265577565842633E-2},{"$f":"四支股票!T367","v":2.2367000694043543E-2}]
[365,"2022-07-07",{"$f":"四支股票!D368","v":8.9068075050118944E-3},{"$f":"四支股票!H368","v":2.0552372953321199E-2},{"$f":"四支股票!L368","v":-5.5648447572777095E-3},{"$f":"四支股票!P368","v":-2.5826327626635802E-2},{"$f":"四支股票!T368","v":3.7697233546364485E-2}]
[366,"2022-07-08",{"$f":"四支股票!D369","v":-8.6096514722276401E-3},{"$f":"四支股票!H369","v":-1.076436658715843E-2},{"$f":"四支股票!L369","v":5.564844757277739E-3},{"$f":"四支股票!P369","v":7.2411609419517995E-3},{"$f":"四支股票!T369","v":-2.4972934429138022E-2}]
[367,"2022-07-11",{"$f":"四支股票!D370","v":-2.7565852968217848E-2},{"$f":"四支股票!H370","v":-2.7429037170063942E-2},{"$f":"四支股票!L370","v":-2.8139167305438473E-2},{"$f":"四支股票!P370","v":2.8818030848464732E-3},{"$f":"四支股票!T370","v":-5.1898391009007457E-2}]
[368,"2022-07-12",{"$f":"四支股票!D371","v":2.6459941890848843E-2},{"$f":"四支股票!H371","v":4.5660105113759411E-2},{"$f":"四支股票!L371","v":3.8078531405554762E-2},{"$f":"四支股票!P371","v":-1.3034246993426341E-2},{"$f":"四支股票!T371","v":1.6807091197737409E-2}]
[369,"2022-07-13",{"$f":"四支股票!D372","v":7.9157006527928332E-3},{"$f":"四支股票!H372","v":9.5188450092068399E-3},{"$f":"四支股票!L372","v":-1.1049836186584935E-2},{"$f":"四支股票!P372","v":7.2621962527435599E-3},{"$f":"四支股票!T372","v":2.5853392283410336E-2}]
[370,"2022-07-14",{"$f":"四支股票!D373","v":7.7340097798331122E-3},{"$f":"四支股票!H373","v":3.6179656577502259E-2},{"$f":"四支股票!L373","v":-1.9069517420238453E-2},{"$f":"四支股票!P373","v":-8.7209565618841349E-3},{"$f":"四支股票!T373","v":-1.8735914230858408E-2}]
[371,"2022-07-15",{"$f":"四支股票!D374","v":1.1549020131904118E-2},{"$f":"四支股票!H374","v":6.072893157899082E-3},{"$f":"四支股票!L374","v":2.3504136611997836E-2},{"$f":"四支股票!P374","v":-8.7976812484486123E-3},{"$f":"四支股票!T374","v":2.5672370576890292E-2}]
[372,"2022-07-18",{"$f":"四支股票!D375","v":-1.73793567569718E-3},{"$f":"四支股票!H375","v":-9.1232259755220629E-3},{"$f":"四支股票!L375","v":-5.5463257975090167E-3},{"$f":"四支股票!P375","v":-5.9084661412469146E-3},{"$f":"四支股票!T375","v":6.8886707722573557E-3}]
[373,"2022-07-19",{"$f":"四支股票!D376","v":2.6600926581102882E-3},{"$f":"四支股票!H376","v":8.113634774169631E-3},{"$f":"四支股票!L376","v":-1.1129438729325955E-3},{"$f":"四支股票!P376","v":4.4346413156525306E-3},{"$f":"四支股票!T376","v":0}]
[374,"2022-07-20",{"$f":"四支股票!D377","v":1.3783442228943291E-2},{"$f":"四支股票!H377","v":1.2048338516174574E-2},{"$f":"四支股票!L377","v":3.3351225651508478E-3},{"$f":"四支股票!P377","v":1.4738248255945121E-3},{"$f":"四支股票!T377","v":1.7410447582427435E-2}]
[375,"2022-07-21",{"$f":"四支股票!D378","v":7.8028132430499396E-4},{"$f":"四支股票!H378","v":3.9840690148745129E-3},{"$f":"四支股票!L378","v":-1.1104720864686776E-3},{"$f":"四支股票!P378","v":2.4728474585010311E-2},{"$f":"四支股票!T378","v":-2.3640672948805068E-3}]
[376,"2022-07-22",{"$f":"四支股票!D379","v":-8.7200761556450795E-4},{"$f":"四支股票!H379","v":-6.9825720111310313E-3},{"$f":"四支股票!L379","v":1.2148111981750583E-2},{"$f":"四支股票!P379","v":5.73070344461756E-3},{"$f":"四支股票!T379","v":-1.6706832501725673E-2}]
[377,"2022-07-25",{"$f":"四支股票!D380","v":-8.7113030702005035E-3},{"$f":"四支股票!H380","v":-9.0498355199179273E-3},{"$f":"四支股票!L380","v":1.0970709086200973E-3},{"$f":"四支股票!P380","v":7.1174677688639549E-3},{"$f":"四支股票!T380","v":-2.0669428852907887E-2}]
[378,"2022-07-26",{"$f":"四支股票!D381","v":7.7239445913780506E-3},{"$f":"四支股票!H381","v":1.4042357123038984E-2},{"$f":"四支股票!L381","v":-7.7050025147551923E-3},{"$f":"四支股票!P381","v":-1.4194182451357613E-3},{"$f":"四支股票!T381","v":2.3073276164302336E-2}]
[379,"2022-07-27",{"$f":"四支股票!D382","v":-1.991679778536001E-3},{"$f":"四支股票!H382","v":-1.9940186068643953E-3},{"$f":"四支股票!L382","v":1.2081399140142673E-2},{"$f":"四支股票!P382","v":-7.1276137210198086E-3},{"$f":"四支股票!T382","v":-2.6765588051429819E-2}]
[380,"2022-07-28",{"$f":"四支股票!D383","v":7.2374213955215651E-3},{"$f":"四支股票!H383","v":1.5841915465657923E-2},{"$f":"四支股票!L383","v":-6.5717433291731303E-3},{"$f":"四支股票!P383","v":7.1276137210196724E-3},{"$f":"四支股票!T383","v":-1.2338064489284325E-3}]
[381,"2022-07-29",{"$f":"四支股票!D384","v":-1.2260711076986664E-3},{"$f":"四支股票!H384","v":-9.8717484791541171E-3},{"$f":"四支股票!L384","v":-1.0994833312169298E-3},{"$f":"四支股票!P384","v":-5.6980495237282207E-3},{"$f":"四支股票!T384","v":-3.7105793965356015E-3}]
[382,"2022-08-01",{"$f":"四支股票!D385","v":-1.5773517174608329E-2},{"$f":"四支股票!H385","v":-2.409755157906053E-2},{"$f":"四支股票!L385","v":-1.3289298713971767E-2},{"$f":"四支股票!P385","v":-3.0459178029628022E-2},{"$f":"四支股票!T385","v":-4.9689543231871778E-3}]
[383,"2022-08-02",{"$f":"四支股票!D386","v":2.0179392945539709E-3},{"$f":"四支股票!H386","v":1.8127384592556701E-2},{"$f":"四支股票!L386","v":2.227239252853971E-3},{"$f":"四支股票!P386","v":8.7976812484486123E-3},{"$f":"四支股票!T386","v":2.3385681109418334E-2}]
[384,"2022-08-03",{"$f":"四支股票!D387","v":-5.0760839227668884E-3},{"$f":"四支股票!H387","v":-1.9980026626731087E-3},{"$f":"四支股票!L387","v":-2.2272392528540053E-3},{"$f":"四支股票!P387","v":-5.0909226775622748E-2},{"$f":"四支股票!T387","v":-2.2141125877213518E-2}]
[385,"2022-08-04",{"$f":"四支股票!D388","v":2.2452832860113806E-2},{"$f":"四支股票!H388","v":3.1498667059371016E-2},{"$f":"四支股票!L388","v":1.9868247809814322E-2},{"$f":"四支股票!P388","v":1.069536543141888E-2},{"$f":"四支股票!T388","v":3.3030525676481751E-2}]
[386,"2022-08-05",{"$f":"四支股票!D389","v":-1.040035287431858E-3},{"$f":"四支股票!H389","v":-7.7821404420549628E-3},{"$f":"四支股票!L389","v":8.7052125642745632E-3},{"$f":"四支股票!P389","v":3.0348581024497345E-3},{"$f":"四支股票!T389","v":0}]
[387,"2022-08-08",{"$f":"四支股票!D390","v":1.9866605254613722E-3},{"$f":"四支股票!H390","v":-3.9138993211363287E-3},{"$f":"四支股票!L390","v":-1.0840976671510716E-3},{"$f":"四支股票!P390","v":3.0256755993153129E-3},{"$f":"四支股票!T390","v":1.67068325017256E-2}]
[388,"2022-08-09",{"$f":"四支股票!D391","v":-7.4200633694958473E-3},{"$f":"四支股票!H391","v":-1.9802627296179754E-2},{"$f":"四支股票!L391","v":6.4865957170029687E-3},{"$f":"四支股票!P391","v":-9.1047521635028526E-3},{"$f":"四支股票!T391","v":-1.310322499842711E-2}]
[389,"2022-08-10",{"$f":"四支股票!D392","v":1.7177394309179115E-2},{"$f":"四支股票!H392","v":2.7615167032973391E-2},{"$f":"四支股票!L392","v":1.7094411442293282E-2},{"$f":"四支股票!P392","v":6.0790765641876021E-3},{"$f":"四支股票!T392","v":4.5702153480855379E-2}]
[390,"2022-08-11",{"$f":"四支股票!D393","v":5.9776907736355757E-3},{"$f":"四支股票!H393","v":5.8196090532640025E-3},{"$f":"四支股票!L393","v":1.0587401618016186E-3},{"$f":"四支股票!P393","v":-1.516270168950763E-3},{"$f":"四支股票!T393","v":7.8190610305898425E-2}]
[391,"2022-08-12",{"$f":"四支股票!D394","v":8.361837745817462E-3},{"$f":"四支股票!H394","v":1.1538589556493806E-2},{"$f":"四支股票!L394","v":1.0576204164861351E-3},{"$f":"四支股票!P394","v":-3.0395920290114211E-3},{"$f":"四支股票!T394","v":2.2001935193485235E-2}]
[392,"2022-08-15",{"$f":"四支股票!D395","v":2.0887945878674485E-4},{"$f":"四支股票!H395","v":3.8167985267008112E-3},{"$f":"四支股票!L395","v":-4.2373157967119119E-3},{"$f":"四支股票!P395","v":1.5210040955125298E-3},{"$f":"四支股票!T395","v":0}]
[393,"2022-08-16",{"$f":"四支股票!D396","v":2.9061635554847851E-3},{"$f":"四支股票!H396","v":3.8022859497384787E-3},{"$f":"四支股票!L396","v":7.4035875712261077E-3},{"$f":"四支股票!P396","v":3.0348581024497345E-3},{"$f":"四支股票!T396","v":-1.7773599083964163E-2}]
[394,"2022-08-17",{"$f":"四支股票!D397","v":-4.451433809396158E-3},{"$f":"四支股票!H397","v":-1.3371736965889308E-2},{"$f":"四支股票!L397","v":-4.2238921910004662E-3},{"$f":"四支股票!P397","v":-1.516270168950763E-3},{"$f":"四支股票!T397","v":1.1536572628416331E-2}]
[395,"2022-08-18",{"$f":"四支股票!D398","v":7.804120684051294E-4},{"$f":"四支股票!H398","v":-1.9249284095843938E-3},{"$f":"四支股票!L398","v":5.2770571008438193E-3},{"$f":"四支股票!P398","v":-1.5185879334989924E-3},{"$f":"四支股票!T398","v":3.1233757822683762E-3}]
[396,"2022-08-19",{"$f":"四支股票!D399","v":-1.0676753897071876E-2},{"$f":"四支股票!H399","v":-1.3579258126380866E-2},{"$f":"四支股票!L399","v":-1.2711992944439523E-2},{"$f":"四支股票!P399","v":6.0605337017652014E-3},{"$f":"四支股票!T399","v":4.1493835468113969E-3}]
[397,"2022-08-22",{"$f":"四支股票!D400","v":-9.8382426238927713E-3},{"$f":"四支股票!H400","v":-1.5748356968139168E-2},{"$f":"四支股票!L400","v":-1.1796469234238913E-2},{"$f":"四支股票!P400","v":-4.5419457682661698E-3},{"$f":"四支股票!T400","v":-9.360442759563695E-3}]
[398,"2022-08-23",{"$f":"四支股票!D401","v":-1.7702074652606965E-3},{"$f":"四支股票!H401","v":-1.9860979716294028E-3},{"$f":"四支股票!L401","v":0},{"$f":"四支股票!P401","v":-1.5185879334989924E-3},{"$f":"四支股票!T401","v":3.8939345705638423E-2}]
[399,"2022-08-24",{"$f":"四支股票!D402","v":8.6457714351264314E-3},{"$f":"四支股票!H402","v":9.8912774787427004E-3},{"$f":"四支股票!L402","v":4.3057333788816578E-3},{"$f":"四支股票!P402","v":4.548832676478304E-3},{"$f":"四支股票!T402","v":9.0045630930817525E-3}]
[400,"2022-08-25",{"$f":"四支股票!D403","v":5.1446504363011477E-3},{"$f":"四支股票!H403","v":7.8431774610258787E-3},{"$f":"四支股票!L403","v":4.2872734938973504E-3},{"$f":"四支股票!P403","v":4.5283700024155811E-3},{"$f":"四支股票!T403","v":0}]
[401,"2022-08-26",{"$f":"四支股票!D404","v":-2.3325295527837103E-2},{"$f":"四支股票!H404","v":-2.6721035637614764E-2},{"$f":"四支股票!L404","v":-2.4906583074005697E-2},{"$f":"四支股票!P404","v":-6.0423445764440859E-3},{"$f":"四支股票!T404","v":-2.52156577211641E-2}]
[402,"2022-08-29",{"$f":"四支股票!D405","v":1.8366550016717413E-3},{"$f":"四支股票!H405","v":-5.0276626769655006E-3},{"$f":"四支股票!L405","v":-2.5542688203589133E-2},{"$f":"四支股票!P405","v":-6.0790765641875735E-3},{"$f":"四支股票!T405","v":1.3191464754362503E-2}]
[403,"2022-08-30",{"$f":"四支股票!D406","v":9.4386680405187974E-3},{"$f":"四支股票!H406","v":1.798250255043227E-2},{"$f":"四支股票!L406","v":2.2471470130276628E-3},{"$f":"四支股票!P406","v":6.0790765641876021E-3},{"$f":"四支股票!T406","v":4.024150299725548E-3}]
[404,"2022-08-31",{"$f":"四支股票!D407","v":-1.9639867614138884E-2},{"$f":"四支股票!H407","v":-2.9133150269942079E-2},{"$f":"四支股票!L407","v":0},{"$f":"四支股票!P407","v":-4.5558621979623079E-3},{"$f":"四支股票!T407","v":-1.8237587549780901E-2}]
[405,"2022-09-01",{"$f":"四支股票!D408","v":-8.7410733549141192E-3},{"$f":"四支股票!H408","v":-1.1276388067934609E-2},{"$f":"四支股票!L408","v":-1.1286801789416342E-2},{"$f":"四支股票!P408","v":-3.0487371872570676E-3},{"$f":"四支股票!T408","v":0}]
[406,"2022-09-02",{"$f":"四支股票!D409","v":-8.1409789431331108E-4},{"$f":"四支股票!H409","v":2.0597329630105622E-3},{"$f":"四支股票!L409","v":0},{"$f":"四支股票!P409","v":3.0487371872569349E-3},{"$f":"四支股票!T409","v":-3.9629794770767716E-2}]
[407,"2022-09-05",{"$f":"四支股票!D410","v":1.0975815043071787E-3},{"$f":"四支股票!H410","v":6.1538655743782859E-3},{"$f":"四支股票!L410","v":4.5300417732258222E-3},{"$f":"四支股票!P410","v":1.0598206774406378E-2},{"$f":"四支股票!T410","v":2.7283958948468509E-2}]
[408,"2022-09-06",{"$f":"四支股票!D411","v":-1.8369416299274736E-2},{"$f":"四支股票!H411","v":-3.4324742541074607E-2},{"$f":"四支股票!L411","v":-2.5172907574560605E-2},{"$f":"四支股票!P411","v":1.5048610589388665E-3},{"$f":"四支股票!T411","v":-4.6618610655924181E-2}]
[409,"2022-09-07",{"$f":"四支股票!D412","v":1.1959395340639379E-2},{"$f":"四支股票!H412","v":5.2770571008438193E-3},{"$f":"四支股票!L412","v":0},{"$f":"四支股票!P412","v":5.9970493677401837E-3},{"$f":"四支股票!T412","v":2.5697345495284431E-2}]
[410,"2022-09-08",{"$f":"四支股票!D413","v":1.5243799126726638E-2},{"$f":"四支股票!H413","v":2.3922097591418532E-2},{"$f":"四支股票!L413","v":2.0642865801334662E-2},{"$f":"四支股票!P413","v":4.4742058566971093E-3},{"$f":"四支股票!T413","v":1.781084274624737E-2}]
[411,"2022-09-12",{"$f":"四支股票!D414","v":5.8569244936815638E-3},{"$f":"四支股票!H414","v":1.327227241663043E-2},{"$f":"四支股票!L414","v":-9.1220015760875902E-3},{"$f":"四支股票!P414","v":8.8890363078908442E-3},{"$f":"四支股票!T414","v":7.2426596993029144E-3}]
[412,"2022-09-13",{"$f":"四支股票!D415","v":-1.5978604441048053E-2},{"$f":"四支股票!H415","v":-2.6723070140753508E-2},{"$f":"四支股票!L415","v":-1.8497729735283151E-2},{"$f":"四支股票!P415","v":-1.1869619803170474E-2},{"$f":"四支股票!T415","v":-1.6632400049142033E-2}]
[413,"2022-09-14",{"$f":"四支股票!D416","v":7.9994065686749851E-4},{"$f":"四支股票!H416","v":-7.3183808076798399E-3},{"$f":"四支股票!L416","v":5.817352336646783E-3},{"$f":"四支股票!P416","v":-1.4936223614175426E-3},{"$f":"四支股票!T416","v":1.663240004914205E-2}]
[414,"2022-09-15",{"$f":"四支股票!D417","v":-7.408422948045364E-3},{"$f":"四支股票!H417","v":-9.4887375087014583E-3},{"$f":"四支股票!L417","v":-6.9848714827239235E-3},{"$f":"四支股票!P417","v":-1.8100117201085314E-2},{"$f":"四支股票!T417","v":-8.2816208317219864E-3}]
[415,"2022-09-16",{"$f":"四支股票!D418","v":-9.3889684783643578E-3},{"$f":"四支股票!H418","v":-1.0649727916658039E-2},{"$f":"四支股票!L418","v":-1.1688838404956422E-3},{"$f":"四支股票!P418","v":-7.6394569081271076E-3},{"$f":"四支股票!T418","v":-2.5264501659481818E-2}]
[416,"2022-09-19",{"$f":"四支股票!D419","v":8.5329390555613765E-3},{"$f":"四支股票!H419","v":2.0138465425359423E-2},{"$f":"四支股票!L419","v":6.9930122621665531E-3},{"$f":"四支股票!P419","v":4.5907197208699454E-3},{"$f":"四支股票!T419","v":-5.3447481588808163E-3}]
[417,"2022-09-20",{"$f":"四支股票!D420","v":-8.6133653286571167E-3},{"$f":"四支股票!H420","v":-1.1609629077839008E-2},{"$f":"四支股票!L420","v":-1.1682376127315571E-2},{"$f":"四支股票!P420","v":3.0487371872569349E-3},{"$f":"四支股票!T420","v":-2.3862303587385454E-2}]
[418,"2022-09-21",{"$f":"四支股票!D421","v":-9.745377901574934E-3},{"$f":"四支股票!H421","v":-1.3896535762524538E-2},{"$f":"四支股票!L421","v":-2.1378414885562028E-2},{"$f":"四支股票!P421","v":-6.1067976042717981E-3},{"$f":"四支股票!T421","v":-2.3321434533772833E-2}]
[419,"2022-09-22",{"$f":"四支股票!D422","v":-1.1706639543857011E-2},{"$f":"四支股票!H422","v":-2.0664139302942794E-2},{"$f":"四支股票!L422","v":1.074627655033809E-2},{"$f":"四支股票!P422","v":3.0580604170148715E-3},{"$f":"四支股票!T422","v":-5.5441448483858839E-2}]
[420,"2022-09-23",{"$f":"四支股票!D423","v":-2.439054793292408E-2},{"$f":"四支股票!H423","v":-1.8858018634396723E-2},{"$f":"四支股票!L423","v":-1.4354265945743695E-2},{"$f":"四支股票!P423","v":7.6045993852192125E-3},{"$f":"四支股票!T423","v":-5.3671416792517912E-2}]
[421,"2022-09-26",{"$f":"四支股票!D424","v":3.5066001695242361E-3},{"$f":"四支股票!H424","v":3.353832098431458E-3},{"$f":"四支股票!L424","v":-1.3341592517550014E-2},{"$f":"四支股票!P424","v":-1.516270168950763E-3},{"$f":"四支股票!T424","v":7.4906717291576587E-3}]
[422,"2022-09-27",{"$f":"四支股票!D425","v":-2.642032692402416E-2},{"$f":"四支股票!H425","v":-2.2574322038539065E-2},{"$f":"四支股票!L425","v":-2.8484947554339037E-2},{"$f":"四支股票!P425","v":1.0566075658838209E-2},{"$f":"四支股票!T425","v":-8.1598643882879421E-2}]
[423,"2022-09-28",{"$f":"四支股票!D426","v":5.0510195820374949E-3},{"$f":"四支股票!H426","v":-6.8728792877620643E-3},{"$f":"四支股票!L426","v":8.7556030412063116E-3},{"$f":"四支股票!P426","v":1.342305036217116E-2},{"$f":"四支股票!T426","v":2.6954194216723027E-3}]
[424,"2022-09-29",{"$f":"四支股票!D427","v":-8.136870412780231E-3},{"$f":"四支股票!H427","v":-3.0340717052672272E-2},{"$f":"四支股票!L427","v":-4.993792962397452E-3},{"$f":"四支股票!P427","v":-2.9673166512799495E-3},{"$f":"四支股票!T427","v":4.0295554860016423E-3}]
[425,"2022-09-30",{"$f":"四支股票!D428","v":-9.2872007356616451E-3},{"$f":"四支股票!H428","v":-1.1919092237210311E-2},{"$f":"四支股票!L428","v":-2.4067051113926013E-2},{"$f":"四支股票!P428","v":-1.3463194624334577E-2},{"$f":"四支股票!T428","v":1.3315775975772156E-2}]
[426,"2022-10-03",{"$f":"四支股票!D429","v":2.0541635476981072E-2},{"$f":"四支股票!H429","v":2.8370697129215566E-2},{"$f":"四支股票!L429","v":1.4004022799566135E-2},{"$f":"四支股票!P429","v":-1.0598206774406361E-2},{"$f":"四支股票!T429","v":3.3813364365778108E-2}]
[427,"2022-10-04",{"$f":"四支股票!D430","v":1.6430391835798547E-2},{"$f":"四支股票!H430","v":3.6617363238223309E-2},{"$f":"四支股票!L430","v":2.9890170757659124E-2},{"$f":"四支股票!P430","v":9.0910626122214008E-3},{"$f":"四支股票!T430","v":-2.5908184858664803E-2}]
[428,"2022-10-05",{"$f":"四支股票!D431","v":6.5445326556260331E-3},{"$f":"四支股票!H431","v":1.3393057336438035E-2},{"$f":"四支股票!L431","v":1.2262172134401307E-3},{"$f":"四支股票!P431","v":-4.5352004142590564E-3},{"$f":"四支股票!T431","v":7.8431774610258787E-3}]
[429,"2022-10-06",{"$f":"四支股票!D432","v":-1.3754457763721735E-2},{"$f":"四支股票!H432","v":-2.9248429126232201E-2},{"$f":"四支股票!L432","v":-7.3800827878183371E-3},{"$f":"四支股票!P432","v":-4.5558621979623079E-3},{"$f":"四支股票!T432","v":-1.7071983898647503E-2}]
[430,"2022-10-07",{"$f":"四支股票!D433","v":-4.4489811795886347E-2},{"$f":"四支股票!H433","v":-8.701137698962981E-2},{"$f":"四支股票!L433","v":-2.2472906357110384E-2},{"$f":"四支股票!P433","v":1.5210040955125298E-3},{"$f":"四支股票!T433","v":-2.0067563050809256E-2}]
[431,"2022-10-11",{"$f":"四支股票!D434","v":-1.8932898255631281E-3},{"$f":"四支股票!H434","v":-1.0012599292429814E-2},{"$f":"四支股票!L434","v":-1.2633988261706172E-3},{"$f":"四支股票!P434","v":1.6579113105572911E-2},{"$f":"四支股票!T434","v":-8.1411575836998849E-3}]
[432,"2022-10-12",{"$f":"四支股票!D435","v":-2.0896023023140899E-2},{"$f":"四支股票!H435","v":-6.309169193264721E-3},{"$f":"四支股票!L435","v":-5.4558932263714638E-2},{"$f":"四支股票!P435","v":-7.5019104266789063E-3},{"$f":"四支股票!T435","v":-6.0369204846845721E-2}]
[433,"2022-10-13",{"$f":"四支股票!D436","v":2.4473365801991238E-2},{"$f":"四支股票!H436","v":4.2137584448404528E-2},{"$f":"四支股票!L436","v":5.3262707012532952E-3},{"$f":"四支股票!P436","v":-4.528370002415627E-3},{"$f":"四支股票!T436","v":1.2940511275734732E-2}]
[434,"2022-10-14",{"$f":"四支股票!D437","v":-1.242211548051664E-2},{"$f":"四支股票!H437","v":-3.7087068662335958E-2},{"$f":"四支股票!L437","v":0},{"$f":"四支股票!P437","v":-3.0302447429793214E-3},{"$f":"四支股票!T437","v":-1.7291497110060994E-2}]
[435,"2022-10-17",{"$f":"四支股票!D438","v":1.216001551058956E-2},{"$f":"四支股票!H438","v":2.4876904755404477E-2},{"$f":"四支股票!L438","v":1.31928027883531E-2},{"$f":"四支股票!P438","v":-9.1463896332833281E-3},{"$f":"四支股票!T438","v":-2.0558727021036664E-2}]
[436,"2022-10-18",{"$f":"四支股票!D439","v":-1.1334356163315282E-2},{"$f":"四支股票!H439","v":-2.8662398234886408E-2},{"$f":"四支股票!L439","v":3.9240599218352407E-3},{"$f":"四支股票!P439","v":0},{"$f":"四支股票!T439","v":8.8626872578453243E-3}]
[437,"2022-10-19",{"$f":"四支股票!D440","v":-2.3654930077881614E-3},{"$f":"四支股票!H440","v":5.0441468866780029E-3},{"$f":"四支股票!L440","v":-1.1818943033641503E-2},{"$f":"四支股票!P440","v":-9.2309270851893277E-3},{"$f":"四支股票!T440","v":-5.8997221271882708E-3}]
[438,"2022-10-20",{"$f":"四支股票!D441","v":-9.8504920241094703E-3},{"$f":"四支股票!H441","v":-2.0331068783583633E-2},{"$f":"四支股票!L441","v":-3.4949768207291898E-2},{"$f":"四支股票!P441","v":-9.3168224136262797E-3},{"$f":"四支股票!T441","v":-4.4477463982362537E-3}]
[439,"2022-10-21",{"$f":"四支股票!D442","v":2.9428287454365122E-3},{"$f":"四支股票!H442","v":-6.4391722810212011E-3},{"$f":"四支股票!L442","v":1.2236753808218537E-2},{"$f":"四支股票!P442","v":1.5480185767181059E-2},{"$f":"四支股票!T442","v":7.4019582956677387E-3}]
[440,"2022-10-24",{"$f":"四支股票!D443","v":-1.4956169536850099E-2},{"$f":"四支股票!H443","v":-4.2222630422346703E-2},{"$f":"四支股票!L443","v":1.3423020332140771E-2},{"$f":"四支股票!P443","v":6.125624148649339E-3},{"$f":"四支股票!T443","v":-1.3363227812167141E-2}]
[441,"2022-10-25",{"$f":"四支股票!D444","v":4.9560461301797381E-3},{"$f":"四支股票!H444","v":1.3387080782459279E-2},{"$f":"四支股票!L444","v":2.6317308317373358E-2},{"$f":"四支股票!P444","v":1.5255228210317247E-3},{"$f":"四支股票!T444","v":1.493652256783372E-3}]
[442,"2022-10-26",{"$f":"四支股票!D445","v":1.5382652360461768E-2},{"$f":"四支股票!H445","v":2.4952049613489749E-2},{"$f":"四支股票!L445","v":0},{"$f":"四支股票!P445","v":3.0442184617376117E-3},{"$f":"四支股票!T445","v":2.6511125548331863E-2}]
[443,"2022-10-27",{"$f":"四支股票!D446","v":-1.0729352110509951E-2},{"$f":"四支股票!H446","v":-1.5686596167699508E-2},{"$f":"四支股票!L446","v":-6.5146810211936419E-3},{"$f":"四支股票!P446","v":0},{"$f":"四支股票!T446","v":-2.0558727021036664E-2}]
[444,"2022-10-28",{"$f":"四支股票!D447","v":1.2536415090314529E-2},{"$f":"四支股票!H447","v":2.7292142288007554E-2},{"$f":"四支股票!L447","v":-1.1834484102029664E-2},{"$f":"四支股票!P447","v":-4.5697412827694723E-3},{"$f":"四支股票!T447","v":3.6420631321503229E-2}]
[445,"2022-10-31",{"$f":"四支股票!D448","v":6.7310906198810271E-3},{"$f":"四支股票!H448","v":3.8387763071656669E-3},{"$f":"四支股票!L448","v":7.9051534687004116E-3},{"$f":"四支股票!P448","v":9.118573959247896E-3},{"$f":"四支股票!T448","v":9.9644952594317281E-3}]
[446,"2022-11-01",{"$f":"四支股票!D449","v":4.8176277082408398E-3},{"$f":"四支股票!H449","v":8.9002494702640784E-3},{"$f":"四支股票!L449","v":1.044401165452289E-2},{"$f":"四支股票!P449","v":-3.0302447429793214E-3},{"$f":"四支股票!T449","v":-5.6818334674309462E-3}]
[447,"2022-11-02",{"$f":"四支股票!D450","v":-8.7071747531547138E-3},{"$f":"四支股票!H450","v":-2.824321231339505E-2},{"$f":"四支股票!L450","v":9.0497840398651372E-3},{"$f":"四支股票!P450","v":-4.5628063952367522E-3},{"$f":"四支股票!T450","v":-1.002155846101899E-2}]
[448,"2022-11-03",{"$f":"四支股票!D451","v":3.0838355019497036E-3},{"$f":"四支股票!H451","v":-5.2219439811517126E-3},{"$f":"四支股票!L451","v":2.5707726570943293E-3},{"$f":"四支股票!P451","v":-1.5255228210317633E-3},{"$f":"四支股票!T451","v":1.0021558461018969E-2}]
[449,"2022-11-04",{"$f":"四支股票!D452","v":1.5011116337145984E-2},{"$f":"四支股票!H452","v":2.0726130517116952E-2},{"$f":"四支股票!L452","v":1.5286870938514597E-2},{"$f":"四支股票!P452","v":4.5697412827694715E-3},{"$f":"四支股票!T452","v":5.6818334674308638E-3}]
[450,"2022-11-07",{"$f":"四支股票!D453","v":9.3355846207334742E-3},{"$f":"四支股票!H453","v":2.2814677766171264E-2},{"$f":"四支股票!L453","v":3.7855439528487115E-3},{"$f":"四支股票!P453","v":-4.5697412827694723E-3},{"$f":"四支股票!T453","v":5.6497325421191276E-3}]
[451,"2022-11-08",{"$f":"四支股票!D454","v":2.157081070525806E-2},{"$f":"四支股票!H454","v":4.4124804908938095E-2},{"$f":"四支股票!L454","v":1.1271277323908676E-2},{"$f":"四支股票!P454","v":-3.0580604170148194E-3},{"$f":"四支股票!T454","v":1.8144252123403558E-2}]
[452,"2022-11-09",{"$f":"四支股票!D455","v":-9.9512258246390178E-3},{"$f":"四支股票!H455","v":-2.3045289117884019E-2},{"$f":"四支股票!L455","v":-1.2531491683752276E-2},{"$f":"四支股票!P455","v":-6.1444276975065465E-3},{"$f":"四支股票!T455","v":-1.2526259819180256E-2}]
[453,"2022-11-10",{"$f":"四支股票!D456","v":3.6629005314703207E-2},{"$f":"四支股票!H456","v":8.013708736309727E-2},{"$f":"四支股票!L456","v":5.5194876138570104E-2},{"$f":"四支股票!P456","v":7.6746345175074671E-3},{"$f":"四支股票!T456","v":6.6375068944872592E-2}]
[454,"2022-11-11",{"$f":"四支股票!D457","v":1.1875669329162614E-2},{"$f":"四支股票!H457","v":7.8962621222255398E-3},{"$f":"四支股票!L457","v":-3.5864233639233056E-3},{"$f":"四支股票!P457","v":1.064642755626171E-2},{"$f":"四支股票!T457","v":1.3021017302964972E-2}]
[455,"2022-11-14",{"$f":"四支股票!D458","v":2.5864501146128618E-2},{"$f":"四支股票!H458","v":7.5711821735696377E-2},{"$f":"四支股票!L458","v":1.5448958110857872E-2},{"$f":"四支股票!P458","v":-1.5139745740285128E-3},{"$f":"四支股票!T458","v":-5.1880790817779446E-3}]
[456,"2022-11-15",{"$f":"四支股票!D459","v":-6.1615089272765665E-4},{"$f":"四支股票!H459","v":1.4478019180653235E-2},{"$f":"四支股票!L459","v":-1.6647256622151472E-2},{"$f":"四支股票!P459","v":-2.2989518224698718E-2},{"$f":"四支股票!T459","v":-9.1444138189976567E-3}]
[457,"2022-11-16",{"$f":"四支股票!D460","v":-1.4578272709668276E-4},{"$f":"四支股票!H460","v":-4.1152321451065439E-3},{"$f":"四支股票!L460","v":-3.6036555515026312E-3},{"$f":"四支股票!P460","v":-6.2208910763510254E-3},{"$f":"四支股票!T460","v":1.5625317903080815E-2}]
[458,"2022-11-17",{"$f":"四支股票!D461","v":-2.0826457374162935E-3},{"$f":"四支股票!H461","v":4.1152321451065794E-3},{"$f":"四支股票!L461","v":8.3883774267196586E-3},{"$f":"四支股票!P461","v":0},{"$f":"四支股票!T461","v":-1.9570096194097223E-2}]
[459,"2022-11-18",{"$f":"四支股票!D462","v":-3.8405695144461244E-3},{"$f":"四支股票!H462","v":-1.0320009031989472E-2},{"$f":"四支股票!L462","v":4.7618185216084692E-3},{"$f":"四支股票!P462","v":1.5588312415665804E-3},{"$f":"四支股票!T462","v":9.1803923449613935E-3}]
[460,"2022-11-21",{"$f":"四支股票!D463","v":6.4026060353202527E-3},{"$f":"四支股票!H463","v":1.8500013743920209E-2},{"$f":"四支股票!L463","v":2.3725515562518854E-3},{"$f":"四支股票!P463","v":-6.2499892901794864E-3},{"$f":"四支股票!T463","v":2.1950526250211749E-2}]
[461,"2022-11-22",{"$f":"四支股票!D464","v":4.5515110761179612E-3},{"$f":"四支股票!H464","v":2.0345886977874567E-3},{"$f":"四支股票!L464","v":1.2948950644120927E-2},{"$f":"四支股票!P464","v":3.1299086829090685E-3},{"$f":"四支股票!T464","v":-2.5575461511171205E-3}]
[462,"2022-11-23",{"$f":"四支股票!D465","v":1.1939223014269609E-2},{"$f":"四支股票!H465","v":8.0972102326193028E-3},{"$f":"四支股票!L465","v":-4.6893638651490342E-3},{"$f":"四支股票!P465","v":2.0108998864519567E-2},{"$f":"四支股票!T465","v":2.5575461511171929E-3}]
[463,"2022-11-24",{"$f":"四支股票!D466","v":-3.7143220292045658E-4},{"$f":"四支股票!H466","v":4.024150299725548E-3},{"$f":"四支股票!L466","v":0},{"$f":"四支股票!P466","v":6.1067976042717478E-3},{"$f":"四支股票!T466","v":4.005541725005958E-2}]
[464,"2022-11-25",{"$f":"四支股票!D467","v":-1.5111027527804289E-2},{"$f":"四支股票!H467","v":-3.5772848614305734E-2},{"$f":"四支股票!L467","v":-1.3010213234251887E-2},{"$f":"四支股票!P467","v":-6.1067976042717981E-3},{"$f":"四支股票!T467","v":-1.2345835822299379E-2}]
[465,"2022-11-28",{"$f":"四支股票!D468","v":1.0439982067865741E-2},{"$f":"四支股票!H468","v":1.3436894672242647E-2},{"$f":"四支股票!L468","v":3.3941256442992174E-2},{"$f":"四支股票!P468","v":7.6278016997842974E-3},{"$f":"四支股票!T468","v":-3.7336695520488379E-3}]
[466,"2022-11-29",{"$f":"四支股票!D469","v":1.1484736670460995E-2},{"$f":"四支股票!H469","v":6.1412680220824288E-3},{"$f":"四支股票!L469","v":2.298805610038574E-3},{"$f":"四支股票!P469","v":4.548832676478304E-3},{"$f":"四支股票!T469","v":-5.0000104167057515E-3}]
[467,"2022-11-30",{"$f":"四支股票!D470","v":8.9153836578017287E-3},{"$f":"四支股票!H470","v":1.7198198297220822E-2},{"$f":"四支股票!L470","v":-1.8720382400149891E-3},{"$f":"四支股票!P470","v":-3.0302447429793214E-3},{"$f":"四支股票!T470","v":4.1723843371399769E-2}]
[468,"2022-12-01",{"$f":"四支股票!D471","v":-2.8095568238820741E-3},{"$f":"四支股票!H471","v":-1.210912878974945E-2},{"$f":"四支股票!L471","v":-3.4033217312791604E-3},{"$f":"四支股票!P471","v":-1.375120196183767E-2},{"$f":"四支股票!T471","v":3.3099948426344922E-2}]
[469,"2022-12-02",{"$f":"四支股票!D472","v":6.7179094711123809E-4},{"$f":"四支股票!H472","v":-7.1319711372715899E-3},{"$f":"四支股票!L472","v":-1.0928721995762971E-2},{"$f":"四支股票!P472","v":6.1350191485551667E-3},{"$f":"四支股票!T472","v":2.0714204387563235E-2}]
[470,"2022-12-05",{"$f":"四支股票!D473","v":-1.695520734993456E-2},{"$f":"四支股票!H473","v":-2.2751756983416069E-2},{"$f":"四支股票!L473","v":-3.4424669228895623E-2},{"$f":"四支股票!P473","v":-1.2307909215388997E-2},{"$f":"四支股票!T473","v":-3.9494099039159507E-2}]
[471,"2022-12-06",{"$f":"四支股票!D474","v":-6.7353017737490656E-3},{"$f":"四支股票!H474","v":-6.2959284568148118E-3},{"$f":"四支股票!L474","v":0},{"$f":"四支股票!P474","v":9.245043091532814E-3},{"$f":"四支股票!T474","v":-2.7629385143528924E-2}]
[472,"2022-12-07",{"$f":"四支股票!D475","v":-5.2749733828362511E-3},{"$f":"四支股票!H475","v":-7.3957019611290246E-3},{"$f":"四支股票!L475","v":-1.582508945357456E-2},{"$f":"四支股票!P475","v":-3.0721530246991435E-3},{"$f":"四支股票!T475","v":-4.8840145924253483E-3}]
[473,"2022-12-08",{"$f":"四支股票!D476","v":1.0416882934837546E-2},{"$f":"四支股票!H476","v":2.0987129164668127E-2},{"$f":"四支股票!L476","v":8.5522331535156058E-3},{"$f":"四支股票!P476","v":1.5267472130788381E-2},{"$f":"四支股票!T476","v":1.6990699995445269E-2}]
[474,"2022-12-09",{"$f":"四支股票!D477","v":-6.3333169024343506E-3},{"$f":"四支股票!H477","v":-1.3591427203539001E-2},{"$f":"四支股票!L477","v":-2.4360061360794564E-3},{"$f":"四支股票!P477","v":-3.0348581024498018E-3},{"$f":"四支股票!T477","v":-8.4592649459764632E-3}]
[475,"2022-12-12",{"$f":"四支股票!D478","v":-6.1526325292499736E-3},{"$f":"四支股票!H478","v":-7.3957019611290246E-3},{"$f":"四支股票!L478","v":-1.2202319852052193E-3},{"$f":"四支股票!P478","v":-6.097594879783343E-3},{"$f":"四支股票!T478","v":0}]
[476,"2022-12-13",{"$f":"四支股票!D479","v":1.4790647748285779E-2},{"$f":"四支股票!H479","v":1.8908126336834946E-2},{"$f":"四支股票!L479","v":-1.2217227705921757E-3},{"$f":"四支股票!P479","v":9.1324529822331621E-3},{"$f":"四支股票!T479","v":6.0496252258232181E-3}]
[477,"2022-12-14",{"$f":"四支股票!D480","v":-3.5492702175436876E-4},{"$f":"四支股票!H480","v":0},{"$f":"四支股票!L480","v":-7.3620946019084272E-3},{"$f":"四支股票!P480","v":-7.6045993852193036E-3},{"$f":"四支股票!T480","v":-1.2070007500352277E-3}]
[478,"2022-12-15",{"$f":"四支股票!D481","v":-1.4050897761115446E-2},{"$f":"四支股票!H481","v":-1.9969134393929413E-2},{"$f":"四支股票!L481","v":-9.9009968460050148E-3},{"$f":"四支股票!P481","v":-3.0580604170148194E-3},{"$f":"四支股票!T481","v":-3.9413968540876629E-2}]
[479,"2022-12-16",{"$f":"四支股票!D482","v":-6.5762214116998471E-3},{"$f":"四支股票!H482","v":-9.600073729019231E-3},{"$f":"四支股票!L482","v":-1.2445302946269949E-3},{"$f":"四支股票!P482","v":0},{"$f":"四支股票!T482","v":-1.0101095986503933E-2}]
[480,"2022-12-19",{"$f":"四支股票!D483","v":-1.8410254123042792E-2},{"$f":"四支股票!H483","v":-1.9481135571822541E-2},{"$f":"四支股票!L483","v":0},{"$f":"四支股票!P483","v":4.5835832380466375E-3},{"$f":"四支股票!T483","v":-3.3551534171232897E-2}]
[481,"2022-12-20",{"$f":"四支股票!D484","v":4.5324075638884086E-3},{"$f":"四支股票!H484","v":3.2733253449691085E-3},{"$f":"四支股票!L484","v":-3.7430360920336766E-3},{"$f":"四支股票!P484","v":-3.0533764180456762E-3},{"$f":"四支股票!T484","v":5.2356140539449427E-3}]
[482,"2022-12-21",{"$f":"四支股票!D485","v":1.4544145941995467E-2},{"$f":"四支股票!H485","v":1.9418085857101516E-2},{"$f":"四支股票!L485","v":9.9503803581172806E-3},{"$f":"四支股票!P485","v":7.6161828132823191E-3},{"$f":"四支股票!T485","v":0}]
[483,"2022-12-22",{"$f":"四支股票!D486","v":-1.193210120552907E-2},{"$f":"四支股票!H486","v":-2.8170876966696335E-2},{"$f":"四支股票!L486","v":1.8394141253697236E-2},{"$f":"四支股票!P486","v":0},{"$f":"四支股票!T486","v":7.298836016888044E-2}]
[484,"2022-12-23",{"$f":"四支股票!D487","v":9.4548549039224908E-4},{"$f":"四支股票!H487","v":3.2912810840727306E-3},{"$f":"四支股票!L487","v":-3.6519090214430063E-3},{"$f":"四支股票!P487","v":-1.5185879334989924E-3},{"$f":"四支股票!T487","v":-1.9608471388376313E-2}]
[485,"2022-12-26",{"$f":"四支股票!D488","v":3.0265257941240837E-3},{"$f":"四支股票!H488","v":1.0946908591815748E-3},{"$f":"四支股票!L488","v":3.6519090214430501E-3},{"$f":"四支股票!P488","v":6.0605337017652014E-3},{"$f":"四支股票!T488","v":-3.0153038170687558E-2}]
[486,"2022-12-27",{"$f":"四支股票!D489","v":-1.0899879458504231E-2},{"$f":"四支股票!H489","v":-1.3216051391526375E-2},{"$f":"四支股票!L489","v":-1.2225090531440429E-2},{"$f":"四支股票!P489","v":0},{"$f":"四支股票!T489","v":-3.5045766912959124E-2}]
[487,"2022-12-28",{"$f":"四支股票!D490","v":-6.2339862617934033E-3},{"$f":"四支股票!H490","v":-1.11483874826143E-2},{"$f":"四支股票!L490","v":-1.3622600757099868E-2},{"$f":"四支股票!P490","v":1.509524814943753E-3},{"$f":"四支股票!T490","v":6.5833022491973963E-3}]
[488,"2022-12-29",{"$f":"四支股票!D491","v":3.7325232213702396E-3},{"$f":"四支股票!H491","v":5.5897294787868122E-3},{"$f":"四支股票!L491","v":-2.4968303232742418E-3},{"$f":"四支股票!P491","v":4.5146050756282897E-3},{"$f":"四支股票!T491","v":1.5625317903080815E-2}]
[489,"2022-12-30",{"$f":"四支股票!D492","v":6.0948122056595465E-3},{"$f":"四支股票!H492","v":9.9834439841832052E-3},{"$f":"四支股票!L492","v":-1.2507568703638455E-3},{"$f":"四支股票!P492","v":0},{"$f":"四支股票!T492","v":2.580646593491713E-3}]
[490,"2023-01-03",{"$f":"四支股票!D493","v":-1.7584365221680804E-3},{"$f":"四支股票!H493","v":-7.7562715713590967E-3},{"$f":"四支股票!L493","v":0},{"$f":"四支股票!P493","v":-1.5025998545044692E-3},{"$f":"四支股票!T493","v":2.1670701451629158E-2}]
[491,"2023-01-04",{"$f":"四支股票!D494","v":7.152260623623577E-3},{"$f":"四支股票!H494","v":1.9824437784844565E-2},{"$f":"四支股票!L494","v":7.4813066209998419E-3},{"$f":"四支股票!P494","v":1.5025998545044681E-3},{"$f":"四支股票!T494","v":2.2444832480564912E-2}]
[492,"2023-01-05",{"$f":"四支股票!D495","v":5.0421433926628638E-3},{"$f":"四支股票!H495","v":0},{"$f":"四支股票!L495","v":1.2345835822299362E-2},{"$f":"四支股票!P495","v":0},{"$f":"四支股票!T495","v":2.0745100269846665E-2}]
[493,"2023-01-06",{"$f":"四支股票!D496","v":2.601780852617264E-2},{"$f":"四支股票!H496","v":4.7906978409241671E-2},{"$f":"四支股票!L496","v":3.0213778596496633E-2},{"$f":"四支股票!P496","v":1.4903405946806128E-2},{"$f":"四支股票!T496","v":-7.2727593290798087E-3}]
[494,"2023-01-09",{"$f":"四支股票!D497","v":3.4342587109652666E-3},{"$f":"四支股票!H497","v":1.0341353794732531E-2},{"$f":"四支股票!L497","v":-7.1684654977974679E-3},{"$f":"四支股票!P497","v":-7.4239392917427481E-3},{"$f":"四支股票!T497","v":-2.5879447987820721E-2}]
[495,"2023-01-10",{"$f":"四支股票!D498","v":-3.4864238491753544E-3},{"$f":"四支股票!H498","v":-3.0911925696728579E-3},{"$f":"四支股票!L498","v":-7.2202236451245723E-3},{"$f":"四支股票!P498","v":-2.9850171418277522E-3},{"$f":"四支股票!T498","v":4.7540944768999976E-2}]
[496,"2023-01-11",{"$f":"四支股票!D499","v":-1.3431964994583066E-3},{"$f":"四支股票!H499","v":4.119470295238804E-3},{"$f":"四支股票!L499","v":7.2202236451245324E-3},{"$f":"四支股票!P499","v":2.9850171418276997E-3},{"$f":"四支股票!T499","v":9.4227342665492944E-2}]
[497,"2023-01-12",{"$f":"四支股票!D500","v":6.2587128254461763E-3},{"$f":"四支股票!H500","v":2.7371196796131977E-2},{"$f":"四支股票!L500","v":2.395162821694467E-3},{"$f":"四支股票!P500","v":5.9435837071077323E-3},{"$f":"四支股票!T500","v":3.2450001433271367E-3}]
[498,"2023-01-13",{"$f":"四支股票!D501","v":6.9160572866354755E-3},{"$f":"四支股票!H501","v":9.950330853168092E-3},{"$f":"四支股票!L501","v":-1.1968643104008953E-3},{"$f":"四支股票!P501","v":7.38010729762246E-3},{"$f":"四支股票!T501","v":2.3480267608842448E-2}]
[499,"2023-01-16",{"$f":"四支股票!D502","v":3.9651266451382245E-4},{"$f":"四支股票!H502","v":-3.9682591756206222E-3},{"$f":"四支股票!L502","v":5.9701669865037544E-3},{"$f":"四支股票!P502","v":-1.4716411563756985E-3},{"$f":"四支股票!T502","v":3.1155167779795479E-2}]
[500,"2023-01-17",{"$f":"四支股票!D503","v":3.687243437745806E-2},{"$f":"四支股票!H503","v":7.6519149834196137E-2},{"$f":"四支股票!L503","v":1.6529325370414075E-2},{"$f":"四支股票!P503","v":1.4716411563757863E-3},{"$f":"四支股票!T503","v":4.0816383196484564E-3}]
[501,"2023-01-30",{"$f":"四支股票!D504","v":-1.4865514201365676E-2},{"$f":"四支股票!H504","v":-3.9441732051296731E-2},{"$f":"四支股票!L504","v":-3.5191121361620968E-3},{"$f":"四支股票!P504","v":-1.0347423948902472E-2},{"$f":"四支股票!T504","v":-1.7463207015479959E-2}]
[502,"2023-01-31",{"$f":"四支股票!D505","v":1.0098050379577846E-2},{"$f":"四支股票!H505","v":1.5209418663528708E-2},{"$f":"四支股票!L505","v":1.0520284175942189E-2},{"$f":"四支股票!P505","v":-2.9762670558279017E-3},{"$f":"四支股票!T505","v":-3.1136506732794699E-3}]
[503,"2023-02-01",{"$f":"四支股票!D506","v":1.1286828587101717E-2},{"$f":"四支股票!H506","v":1.8692133012152546E-2},{"$f":"四支股票!L506","v":2.4125213987150205E-2},{"$f":"四支股票!P506","v":5.9435837071077323E-3},{"$f":"四支股票!T506","v":3.2722755990867547E-2}]
[504,"2023-02-02",{"$f":"四支股票!D507","v":4.8080282977946921E-4},{"$f":"四支股票!H507","v":3.6968618813262026E-3},{"$f":"四支股票!L507","v":-1.7172717766957023E-2},{"$f":"四支股票!P507","v":-1.793765543779955E-2},{"$f":"四支股票!T507","v":-1.6227536621756695E-2}]
[505,"2023-02-03",{"$f":"四支股票!D508","v":-1.354023527189184E-2},{"$f":"四支股票!H508","v":-2.9964788701936394E-2},{"$f":"四支股票!L508","v":-1.5125291082750904E-2},{"$f":"四支股票!P508","v":-1.5095248149437238E-3},{"$f":"四支股票!T508","v":-1.7535261064524816E-2}]
[506,"2023-02-06",{"$f":"四支股票!D509","v":5.254214453982339E-4},{"$f":"四支股票!H509","v":-5.7197486727869531E-3},{"$f":"四支股票!L509","v":3.5107583922601229E-3},{"$f":"四支股票!P509","v":9.0227078270378423E-3},{"$f":"四支股票!T509","v":9.3216625271360914E-3}]
[507,"2023-02-07",{"$f":"四支股票!D510","v":1.4008366351337983E-2},{"$f":"四支股票!H510","v":3.1987675493397101E-2},{"$f":"四支股票!L510","v":1.167519146077124E-3},{"$f":"四支股票!P510","v":-2.9985779364657605E-3},{"$f":"四支股票!T510","v":2.845720481403537E-2}]
[508,"2023-02-08",{"$f":"四支股票!D511","v":-1.2467590350900568E-3},{"$f":"四支股票!H511","v":0},{"$f":"四支股票!L511","v":-5.8513920423751559E-3},{"$f":"四支股票!P511","v":2.9985779364657171E-3},{"$f":"四支股票!T511","v":9.3669191196496859E-2}]
[509,"2023-02-09",{"$f":"四支股票!D512","v":-7.7341229763044331E-4},{"$f":"四支股票!H512","v":9.2166551049240476E-3},{"$f":"四支股票!L512","v":1.1731145040380069E-3},{"$f":"四支股票!P512","v":-2.9985779364657605E-3},{"$f":"四支股票!T512","v":-6.21083862842794E-2}]
[510,"2023-02-10",{"$f":"四支股票!D513","v":-2.722060873765161E-3},{"$f":"四支股票!H513","v":-7.366515816762554E-3},{"$f":"四支股票!L513","v":5.8445517230120356E-3},{"$f":"四支股票!P513","v":7.4794666550634615E-3},{"$f":"四支股票!T513","v":-3.3566823639083275E-2}]
[511,"2023-02-13",{"$f":"四支股票!D514","v":7.0644251043247928E-3},{"$f":"四支股票!H514","v":7.3665158167626459E-3},{"$f":"四支股票!L514","v":1.6185231929411122E-2},{"$f":"四支股票!P514","v":-1.4913947804102601E-3},{"$f":"四支股票!T514","v":-1.212136053234485E-2}]
[512,"2023-02-14",{"$f":"四支股票!D515","v":-1.4256244460210989E-2},{"$f":"四支股票!H515","v":-3.7387532071620329E-2},{"$f":"四支股票!L515","v":-1.5020432770276702E-2},{"$f":"四支股票!P515","v":-7.4906717291576257E-3},{"$f":"四支股票!T515","v":-8.1633106391609811E-3}]
[513,"2023-02-15",{"$f":"四支股票!D516","v":7.5918689480262069E-3},{"$f":"四支股票!H516","v":5.6980211146377959E-3},{"$f":"四支股票!L516","v":2.3255359317846777E-3},{"$f":"四支股票!P516","v":-3.0120052211238552E-3},{"$f":"四支股票!T516","v":1.6260520871780326E-2}]
[514,"2023-02-16",{"$f":"四支股票!D517","v":-4.5632917231679324E-3},{"$f":"四支股票!H517","v":-1.9121041446778397E-2},{"$f":"四支股票!L517","v":2.1827426273325283E-2},{"$f":"四支股票!P517","v":1.5071441621850117E-3},{"$f":"四支股票!T517","v":2.1935076866255714E-2}]
[515,"2023-02-17",{"$f":"四支股票!D518","v":4.6102646078994385E-3},{"$f":"四支股票!H518","v":-1.9323677510539241E-3},{"$f":"四支股票!L518","v":1.0175350538840047E-2},{"$f":"四支股票!P518","v":0},{"$f":"四支股票!T518","v":7.8585866125213105E-3}]
[516,"2023-02-20",{"$f":"四支股票!D519","v":7.5653688900214646E-4},{"$f":"四支股票!H519","v":-1.9361090268664404E-3},{"$f":"四支股票!L519","v":-1.3590311248944376E-2},{"$f":"四支股票!P519","v":6.006038849909032E-3},{"$f":"四支股票!T519","v":-1.7769470511975295E-2}]
[517,"2023-02-21",{"$f":"四支股票!D520","v":-9.3107342236460108E-3},{"$f":"四支股票!H520","v":-1.7595761890379601E-2},{"$f":"四支股票!L520","v":-1.1468016117708547E-2},{"$f":"四支股票!P520","v":-2.9985779364657605E-3},{"$f":"四支股票!T520","v":-4.4814015789792543E-2}]
[518,"2023-02-22",{"$f":"四支股票!D521","v":1.2672689185597401E-2},{"$f":"四支股票!H521","v":2.1464238668300002E-2},{"$f":"四支股票!L521","v":-1.1540451766926217E-3},{"$f":"四支股票!P521","v":8.9686553699327726E-3},{"$f":"四支股票!T521","v":1.242251999855711E-2}]
[519,"2023-02-23",{"$f":"四支股票!D522","v":-7.1737445042737349E-3},{"$f":"四支股票!H522","v":-1.3605652055778598E-2},{"$f":"四支股票!L522","v":3.4582628126047345E-3},{"$f":"四支股票!P522","v":4.4543949922384429E-3},{"$f":"四支股票!T522","v":-1.6597891409037828E-2}]
[520,"2023-02-24",{"$f":"四支股票!D523","v":{"$error":"#NUM!"}},{"$f":"四支股票!H523","v":{"$error":"#NUM!"}},{"$f":"四支股票!L523","v":{"$error":"#NUM!"}},{"$f":"四支股票!P523","v":{"$error":"#NUM!"}},{"$f":"四支股票!T523","v":{"$error":"#NUM!"}}]

{"sheet":"四支股票","index":1,"n_rows":523,"n_cols":20,"rows_kept":523,"cut":false,"hidden":false,"merged":[[0,0,1,3],[0,4,1,7],[0,8,1,11],[0,12,1,15],[0,16,1,19]]}
["大盤^TWII",null,null,null,"2330台積電",null,null,null,"2882國泰金",null,null,null,"1216統一",null,null,null,"6763綠界科技"]
[]
["日期","未調整\n收盤價（元）","大盤報酬率","大盤報酬率-Ln","日期","未調整\n收盤價（元）","台積電報酬率","台積電報酬率-Ln","日期","未調整\n收盤價（元）","國泰金報酬率","國泰金報酬率-Ln","日期","未調整\n收盤價（元）","統一報酬率","統一報酬率-Ln","日期","未調整\n收盤價（元）","綠界科技報酬率","綠界科技報酬率-Ln"]
["2021-01-04",14902.030273,{"$f":"(B5-B4)/B4","v":6.5762851238840717E-3},{"$f":"LN(B5/B4)","v":6.5547556984154815E-3},"2021-01-04",536,{"$f":"(F5-F4)/F4","v":1.1194029850746268E-2},{"$f":"LN(F5/F4)","v":1.1131840368844199E-2},"2021-01-04",42.049999,{"$f":"(J5-J4)/J4","v":1.1890368891566366E-3},{"$f":"LN(J5/J4)","v":1.1883305446525072E-3},"2021-01-04",67.599997999999999,{"$f":"(N5-N4)/N4","v":-8.8757103217665684E-3},{"$f":"LN(N5/N4)","v":-8.9153340721531103E-3},"2021-01-04",226.12297100000001,{"$f":"(R5-R4)/R4","v":-9.5541642250932465E-3},{"$f":"LN(R5/R4)","v":-9.6000980591779903E-3}]
["2021-01-05",15000.030273,{"$f":"(B6-B5)/B5","v":-1.1266903927801624E-3},{"$f":"LN(B6/B5)","v":-1.127325585555941E-3},"2021-01-05",542,{"$f":"(F6-F5)/F5","v":1.2915129151291513E-2},{"$f":"LN(F6/F5)","v":1.2832440069884359E-2},"2021-01-05",42.099997999999999,{"$f":"(J6-J5)/J5","v":-1.3064109884280747E-2},{"$f":"LN(J6/J5)","v":-1.3150195948328138E-2},"2021-01-05",67,{"$f":"(N6-N5)/N5","v":-1.34328656716418E-2},{"$f":"LN(N6/N5)","v":-1.352390279051202E-2},"2021-01-05",223.96255500000001,{"$f":"(R6-R5)/R5","v":3.0546592933805291E-2},{"$f":"LN(R6/R5)","v":3.0089334235822329E-2}]
["2021-01-06",14983.129883,1.54086708720284E-2,1.5291162860491942E-2,"2021-01-06",549,2.9143897996357013E-2,2.8727289636910271E-2,"2021-01-06",41.549999,8.4236584458161103E-3,8.3883774267196586E-3,"2021-01-06",66.099997999999999,7.5642967492979352E-3,7.535830915858902E-3,"2021-01-06",230.80384799999999,-3.120129955545592E-3,-3.125007709809276E-3]
["2021-01-07",15214,1.6428959839621365E-2,1.6295464619577673E-2,"2021-01-07",565,2.6548672566371681E-2,2.6202372394024117E-2,"2021-01-07",41.900002000000001,2.2672934478618848E-2,2.2419723708554235E-2,"2021-01-07",66.599997999999999,1.6516501997492505E-2,1.6381588088769012E-2,"2021-01-07",230.08371,-1.0954612997156544E-2,-1.1015056599637836E-2]
["2021-01-08",15463.950194999999,6.036595360361682E-3,6.0184481136918459E-3,"2021-01-08",580,6.8965517241379309E-3,6.8728792877620504E-3,"2021-01-08",42.849997999999999,-5.8343059899326017E-3,-5.8513920423751559E-3,"2021-01-08",67.699996999999996,-5.9083311333085059E-3,-5.9258543778777815E-3,"2021-01-08",227.563232,-3.1645621907848078E-3,-3.1695800066377428E-3]
["2021-01-11",15557.299805000001,-3.6381384115134444E-3,-3.6447725325188247E-3,"2021-01-11",584,1.1986301369863013E-2,1.1915034577871244E-2,"2021-01-11",42.599997999999999,-7.0422303775694939E-3,-7.0671439153967173E-3,"2021-01-11",67.300003000000004,-4.4576966809348256E-3,-4.4676618362382049E-3,"2021-01-11",226.84309400000001,-1.5872733599727714E-3,-1.5885344129329172E-3]
["2021-01-12",15500.700194999999,1.737213613658958E-2,1.7222965707514623E-2,"2021-01-12",591,2.3688663282571912E-2,2.341244062474326E-2,"2021-01-12",42.299999,2.3641371717290339E-3,2.3613469961523267E-3,"2021-01-12",67,0,0,"2021-01-12",226.48303200000001,-4.7694522210388769E-3,-4.7808623527918594E-3]
["2021-01-13",15769.980469,-3.9816180573862903E-3,-3.9895658021679428E-3,"2021-01-13",605,-2.1487603305785124E-2,-2.1721823146835798E-2,"2021-01-13",42.400002000000001,2.3584432849790755E-3,2.3556665226487968E-3,"2021-01-13",67,-2.9850298507462119E-3,-2.9894939381873401E-3,"2021-01-13",225.40283199999999,-6.3897910563962242E-3,-6.4102931540125285E-3]
["2021-01-14",15707.190430000001,-5.7808417364428842E-3,-5.7976154774999171E-3,"2021-01-14",592,1.5202702702702704E-2,1.5088299651201826E-2,"2021-01-14",42.5,-1.6470611764705888E-2,-1.6607760323105774E-2,"2021-01-14",66.800003000000004,-1.1976092276522857E-2,-1.2048383426353181E-2,"2021-01-14",223.96255500000001,-4.823199128086421E-3,-4.8348682899152402E-3]
["2021-01-15",15616.389648,-2.8109237147284498E-4,-2.8113188533841185E-4,"2021-01-15",601,9.9833610648918467E-3,9.9338565242906747E-3,"2021-01-15",41.799999,-1.4354019482153561E-2,-1.4458034979940254E-2,"2021-01-15",66,2.1212151515151524E-2,2.0990305565425898E-2,"2021-01-15",222.882339,-8.0775265015502664E-3,-8.1103264665411037E-3]
["2021-01-18",15612,1.6997829682295695E-2,1.685498302510521E-2,"2021-01-18",607,3.2948929159802305E-2,3.2417749573422534E-2,"2021-01-18",41.200001,3.6407037951285254E-3,3.6340924747803056E-3,"2021-01-18",67.400002000000001,-4.4510977907686305E-3,-4.4610334204750286E-3,"2021-01-18",221.08200099999999,-8.1433087807088363E-3,-8.1766466299470087E-3]
["2021-01-19",15877.370117,-4.4837670518101851E-3,-4.4938492841729953E-3,"2021-01-19",627,3.1897926634768738E-2,3.1399753867979885E-2,"2021-01-19",41.349997999999999,-1.6928561882880836E-2,-1.7073487907795015E-2,"2021-01-19",67.099997999999999,-4.1728689768366245E-2,-4.2624336271505123E-2,"2021-01-19",219.28166200000001,3.2840821864985178E-3,3.2787013660806122E-3]
["2021-01-20",15806.179688,2.1990756138492391E-2,2.1752446866334027E-2,"2021-01-20",647,4.0185471406491501E-2,3.9399035143827275E-2,"2021-01-20",40.650002000000001,0,0,"2021-01-20",64.300003000000004,2.7993700093606456E-2,2.7609038700582681E-2,"2021-01-20",220.001801,4.0916524133363823E-2,4.0101598265201752E-2]
["2021-01-21",16153.769531,-8.3410412499340999E-3,-8.3760223897332564E-3,"2021-01-21",673,-3.5661218424962851E-2,-3.6312612940637791E-2,"2021-01-21",40.650002000000001,-2.4600982799459874E-3,-2.4631292938012356E-3,"2021-01-21",66.099997999999999,9.0771409705639756E-3,9.0361913436115843E-3,"2021-01-21",229.00351000000001,2.6729590301912867E-2,2.6378595694373726E-2]
["2021-01-22",16019.030273,-4.525257319863034E-3,-4.5355272913229806E-3,"2021-01-22",649,-2.465331278890601E-2,-2.4962294559913834E-2,"2021-01-22",40.549999,1.1097435538777702E-2,1.1036310803798561E-2,"2021-01-22",66.699996999999996,0,0,"2021-01-22",235.12468000000001,-3.0627963002438424E-3,-3.0674962599651534E-3]
["2021-01-25",15946.540039,-1.804093109203642E-2,-1.8205652852815602E-2,"2021-01-25",633,-2.5276461295418641E-2,-2.5601398238788337E-2,"2021-01-25",41,-1.2195121951219513E-2,-1.2270092591814359E-2,"2021-01-25",66.699996999999996,4.4977963042487669E-3,4.4877114469003077E-3,"2021-01-25",234.40454099999999,-1.6897087330744198E-2,-1.704147187409313E-2]
["2021-01-26",15658.849609000001,2.720543786020766E-3,2.7168498050162142E-3,"2021-01-26",617,-3.2414910858995136E-3,-3.2467560988699812E-3,"2021-01-26",40.5,0,0,"2021-01-26",67,2.9850298507462119E-3,2.9805834952795051E-3,"2021-01-26",230.44378699999999,-9.3750238534311102E-3,-9.4192459956652982E-3]
["2021-01-27",15701.450194999999,-1.818751188287929E-2,-1.8354937824981227E-2,"2021-01-27",615,-2.2764227642276424E-2,-2.3027333271310235E-2,"2021-01-27",40.5,-9.8765925925926087E-3,-9.9256896752829855E-3,"2021-01-27",67.199996999999996,1.0416741536461742E-2,1.0362861133485385E-2,"2021-01-27",228.28337099999999,-2.2082007015745343E-2,-2.2329464217415468E-2]
["2021-01-28",15415.879883,-1.8005479745991881E-2,-1.816955083264157E-2,"2021-01-28",601,-1.6638935108153077E-2,-1.6778917129109366E-2,"2021-01-28",40.099997999999999,-4.9874316701960615E-3,-4.9999104160807521E-3,"2021-01-28",67.900002000000001,1.4727245516134059E-3,1.4716411563757863E-3,"2021-01-28",223.24241599999999,-1.4516125824404227E-2,-1.4622515612436529E-2]
["2021-01-29",15138.309569999999,1.7953145477920138E-2,1.7793891015975984E-2,"2021-01-29",591,3.3840947546531303E-2,3.3280941765497153E-2,"2021-01-29",39.900002000000001,0,0,"2021-01-29",68,0,0,"2021-01-29",220.001801,3.1096531796119285E-2,3.062282994006027E-2]
["2021-02-01",15410.089844,2.270979368340667E-2,2.2455765085343214E-2,"2021-02-01",611,3.4369885433715219E-2,3.3792434975262207E-2,"2021-02-01",39.900002000000001,1.0024986966166043E-2,9.9750701176112826E-3,"2021-02-01",68,-5.8823823529411861E-3,-5.8997517129875101E-3,"2021-02-01",226.84309400000001,4.7619479215883966E-3,4.7506457137322169E-3]
["2021-02-02",15760.049805000001,7.1513149637534462E-4,7.1487591169065766E-4,"2021-02-02",632,-3.1645569620253164E-3,-3.1695747612790672E-3,"2021-02-02",40.299999,0,0,"2021-02-02",67.599997999999999,7.396449922971891E-3,7.3692303237715313E-3,"2021-02-02",227.92330899999999,2.0537074599948035E-2,2.0329032446113462E-2]
["2021-02-03",15771.320313,-4.1277828810780855E-3,-4.1363256935224154E-3,"2021-02-03",630,-4.7619047619047623E-3,-4.7732787526576599E-3,"2021-02-03",40.299999,9.925608186739673E-3,9.8766728798323055E-3,"2021-02-03",68.099997999999999,5.8737446658955941E-3,5.856561481289024E-3,"2021-02-03",232.604187,-3.0959158959593491E-3,-3.1007181577371971E-3]
["2021-02-04",15706.219727,6.1237309595674888E-3,6.1050571160864448E-3,"2021-02-04",627,7.9744816586921844E-3,7.9428535139367314E-3,"2021-02-04",40.700001,-2.45707610670577E-3,-2.4600996719715833E-3,"2021-02-04",68.5,2.9196642335765871E-3,2.9154102920006639E-3,"2021-02-04",231.884064,0,0]
["2021-02-05",15802.400390999999,3.543067092002531E-2,3.4817447337859117E-2,"2021-02-05",632,4.9050632911392403E-2,4.7885596039005121E-2,"2021-02-05",40.599997999999999,3.3251307056714655E-2,3.2710439404515172E-2,"2021-02-05",68.699996999999996,1.4556914755033774E-3,1.4546329837677753E-3,"2021-02-05",231.884064,3.1055303567562149E-3,3.1007181577371676E-3]
["2021-02-17",16362.290039,3.8026295128430767E-3,3.7954177937858683E-3,"2021-02-17",663,-4.5248868778280547E-3,-4.5351551653912622E-3,"2021-02-17",41.950001,5.9594754240887863E-3,5.9417879875311658E-3,"2021-02-17",68.800003000000004,-1.4535755180128057E-3,-1.454632983767902E-3,"2021-02-17",232.604187,-1.5479600975540446E-3,-1.5491594256203489E-3]
["2021-02-18",16424.509765999999,-5.0613311559584489E-3,-5.0741830760492775E-3,"2021-02-18",660,-1.2121212121212121E-2,-1.2195273093818243E-2,"2021-02-18",42.200001,-8.293909756068512E-3,-8.3284955928903132E-3,"2021-02-18",68.699996999999996,-4.3667396375577077E-3,-4.3763016919099651E-3,"2021-02-18",232.244125,5.426359870244301E-2,5.2842512496549518E-2]
["2021-02-19",16341.379883,4.2089635937999645E-3,4.2001306827932324E-3,"2021-02-19",652,-3.0674846625766872E-3,-3.0721990369701403E-3,"2021-02-19",41.849997999999999,4.7789966441575535E-3,4.7676134919860105E-3,"2021-02-19",68.400002000000001,1.4619590215801362E-3,1.4608913999091121E-3,"2021-02-19",244.84652700000001,0,0]
["2021-02-22",16410.160156000002,2.0255887013902146E-3,2.0235399627314037E-3,"2021-02-22",650,-1.3846153846153847E-2,-1.394290596901275E-2,"2021-02-22",42.049999,1.5457836277237501E-2,1.5339581016038434E-2,"2021-02-22",68.5,7.2992700729927005E-3,7.2727593290798781E-3,"2021-02-22",244.84652700000001,7.3529284734350333E-3,7.3260274817601757E-3]
["2021-02-23",16443.400390999999,-1.4040290481910392E-2,-1.4139787772117104E-2,"2021-02-23",641,-2.4960998439937598E-2,-2.5277807184268541E-2,"2021-02-23",42.700001,-1.1709367407274694E-3,-1.1716228227775737E-3,"2021-02-23",69,1.4492463768115849E-3,1.4481972328044118E-3,"2021-02-23",246.64686599999999,-1.3138687113907982E-2,-1.3225763214863217E-2]
["2021-02-24",16212.530273,1.4781740478789227E-2,1.4673555359577806E-2,"2021-02-24",625,1.6E-2,1.5873349156290163E-2,"2021-02-24",42.650002000000001,2.2274231077410001E-2,2.2029783652423193E-2,"2021-02-24",69.099997999999999,1.1577482245368535E-2,1.1510976022003678E-2,"2021-02-24",243.40625,0,0]
["2021-02-25",16452.179688,-3.0292635532270004E-2,-3.0760939116861726E-2,"2021-02-25",635,-4.5669291338582677E-2,-4.6745012823377181E-2,"2021-02-25",43.599997999999999,-3.7843969625870146E-2,-3.8578647732310727E-2,"2021-02-25",69.900002000000001,-3.8626679867620098E-2,-3.9392474965821843E-2,"2021-02-25",243.40625,-1.1834346899473573E-2,-1.1904930206983652E-2]
["2021-02-26",15953.799805000001,-4.3374757641325134E-4,-4.3384167210342573E-4,"2021-02-26",606,4.9504950495049506E-3,4.9382816405825767E-3,"2021-02-26",41.950001,-1.1918712469160533E-3,-1.1925820903292968E-3,"2021-02-26",67.199996999999996,1.1904807079083706E-2,1.1834502289861029E-2,"2021-02-26",240.52569600000001,3.5928165446406098E-2,3.5297803061080366E-2]
["2021-03-02",15946.879883,1.6608301306786765E-2,1.6471891752575147E-2,"2021-03-02",609,2.1346469622331693E-2,2.1121825029282504E-2,"2021-03-02",41.900002000000001,1.5513054152121498E-2,1.5393956856832472E-2,"2021-03-02",68,1.6176441176470577E-2,1.6046996653957105E-2,"2021-03-02",249.16734299999999,-1.7341020488387114E-2,-1.7493137120993724E-2]
["2021-03-03",16211.730469,-1.8833295654885968E-2,-1.9012900780252483E-2,"2021-03-03",622,-3.3762057877813507E-2,-3.4345158203971861E-2,"2021-03-03",42.549999,-4.7003761386692471E-3,-4.7114576450597292E-3,"2021-03-03",69.099997999999999,-8.6830393251241395E-3,-8.7209565618841349E-3,"2021-03-03",244.84652700000001,2.3529404605359128E-2,2.3256855169503168E-2]
["2021-03-04",15906.410156,-3.2175510689125869E-3,-3.2227385165937289E-3,"2021-03-04",601,0,0,"2021-03-04",42.349997999999999,4.7225740128724525E-3,4.7114576450597353E-3,"2021-03-04",68.5,-1.4598248175182388E-3,-1.4608913999091995E-3,"2021-03-04",250.60762,-1.7241419075764729E-2,-1.7391783174928829E-2]
["2021-03-05",15855.230469,-2.2150492904323858E-3,-2.2175061408121663E-3,"2021-03-05",601,-4.9916805324459234E-3,-5.0041805845758387E-3,"2021-03-05",42.549999,8.2256876198751726E-3,8.1920410363966259E-3,"2021-03-05",68.400002000000001,5.8479676652641492E-3,5.8309346756777293E-3,"2021-03-05",246.286789,2.9239814401900033E-3,2.9197149212501607E-3]
["2021-03-08",15820.110352,2.0846562549945223E-3,2.082486374257468E-3,"2021-03-08",598,-5.016722408026756E-3,-5.0293484050019733E-3,"2021-03-08",42.900002000000001,3.2633961182565889E-2,3.2112781923709428E-2,"2021-03-08",68.800003000000004,1.8895275338868742E-2,1.8718976965925234E-2,"2021-03-08",247.00692699999999,1.8950452349054962E-2,1.8773129259644042E-2]
["2021-03-09",15853.089844,3.6951836251763975E-3,3.6883732061742986E-3,"2021-03-09",595,3.3613445378151263E-3,3.3557078469723151E-3,"2021-03-09",44.299999,5.6433409851769974E-3,5.6274769924027331E-3,"2021-03-09",70.099997999999999,1.4265192989020748E-3,1.4255027868481684E-3,"2021-03-09",251.68781999999999,-2.7181660995752512E-2,-2.755791617546853E-2]
["2021-03-10",15911.669921999999,1.6836048592838597E-2,1.6695893247393755E-2,"2021-03-10",597,2.0100502512562814E-2,1.9901154317295021E-2,"2021-03-10",44.549999,2.6936049987341195E-2,2.6579660251401405E-2,"2021-03-10",70.199996999999996,-5.6979204714209947E-3,-5.7142155484531621E-3,"2021-03-10",244.84652700000001,-2.9411811914327045E-3,-2.9455149645271025E-3]
["2021-03-11",16179.559569999999,4.6738057159611997E-3,4.6629173994289482E-3,"2021-03-11",609,8.2101806239737278E-3,8.1766604372455389E-3,"2021-03-11",45.75,3.2787322404371723E-3,3.2733689179528565E-3,"2021-03-11",69.800003000000004,2.8652864098013893E-3,2.8611893010903138E-3,"2021-03-11",244.12638899999999,-4.4248227503171679E-3,-4.4346412526297683E-3]
["2021-03-12",16255.179688,-3.5986129420135772E-4,-3.599260598151589E-4,"2021-03-12",614,-4.8859934853420191E-3,-4.8979689755471421E-3,"2021-03-12",45.900002000000001,1.7429171353848735E-2,1.727902544864442E-2,"2021-03-12",70,-4.2857571428571968E-3,-4.2949673244886306E-3,"2021-03-12",243.04617300000001,1.4815168474180819E-3,1.480420484053729E-3]
["2021-03-15",16249.330078000001,3.9281667424812001E-3,3.9204716406820812E-3,"2021-03-15",611,3.2733224222585926E-3,3.267976764616013E-3,"2021-03-15",46.700001,-5.3533189431837483E-3,-5.3676992997549865E-3,"2021-03-15",69.699996999999996,-5.7387950820140272E-3,-5.7553252389703751E-3,"2021-03-15",243.40625,5.9171734497368445E-3,5.8997357331029643E-3]
["2021-03-16",16313.160156,-5.9669519620450754E-3,-5.9848253551562092E-3,"2021-03-16",613,-1.468189233278956E-2,-1.4790738001396497E-2,"2021-03-16",46.450001,-1.3993584198200569E-2,-1.4092417502294646E-2,"2021-03-16",69.300003000000004,1.4429869505199998E-3,1.4419468453021804E-3,"2021-03-16",244.84652700000001,-1.4705918209736366E-2,-1.4815122177112497E-2]
["2021-03-17",16215.820313,4.4413128420190276E-3,4.4314793172281182E-3,"2021-03-17",604,-3.3112582781456954E-3,-3.3167526259939265E-3,"2021-03-17",45.799999,-7.6418778961108574E-3,-7.6712266603900263E-3,"2021-03-17",69.400002000000001,1.00863974038502E-2,1.0035869178671414E-2,"2021-03-17",241.245834,1.4925410069464689E-2,1.4815122177112533E-2]
["2021-03-18",16287.839844,-1.3359635905319705E-2,-1.3449678699620196E-2,"2021-03-18",602,-1.8272425249169437E-2,-1.8441427902722792E-2,"2021-03-18",45.450001,-1.8701935782135647E-2,-1.8879028442719777E-2,"2021-03-18",70.099997999999999,-2.2824508497132901E-2,-2.3089020241693924E-2,"2021-03-18",244.84652700000001,0,0]
["2021-03-19",16070.240234000001,7.4037158914570904E-3,7.3764429184580106E-3,"2021-03-19",591,3.3840947546531302E-3,3.3783815916271906E-3,"2021-03-19",44.599997999999999,2.2421525669126714E-2,2.2173858477722245E-2,"2021-03-19",68.5,7.2992700729927005E-3,7.2727593290798781E-3,"2021-03-19",244.84652700000001,-8.8235517426800084E-3,-8.8627097875524415E-3]
["2021-03-22",16189.219727,-7.183720522739934E-4,-7.1863020511732574E-4,"2021-03-22",593,1.6863406408094434E-3,1.6849203649194455E-3,"2021-03-22",45.599997999999999,2.6315812557711083E-2,2.5975508895389056E-2,"2021-03-22",69,-1.4492463768115849E-3,-1.4502975500706673E-3,"2021-03-22",242.68611100000001,1.6320484858731686E-2,1.6188737269312629E-2]
["2021-03-23",16177.589844,-8.9920518694539663E-3,-9.0327243709452613E-3,"2021-03-23",594,-3.0303030303030304E-2,-3.077165866675366E-2,"2021-03-23",46.799999,-6.4102351797058728E-3,-6.4308689627687972E-3,"2021-03-23",68.900002000000001,-5.8055440985328366E-3,-5.8224617790090735E-3,"2021-03-23",246.64686599999999,-4.3796056180173751E-3,-4.3892241846614135E-3]
["2021-03-24",16032.120117,1.747712142593593E-3,1.746186670858514E-3,"2021-03-24",576,-1.736111111111111E-3,-1.7376198985408486E-3,"2021-03-24",46.5,7.5268387096774055E-3,7.4986534016852789E-3,"2021-03-24",68.5,1.7518204379561989E-2,1.7366529456690823E-2,"2021-03-24",245.56665000000001,5.8651046467425291E-2,5.6995500011668684E-2]
["2021-03-25",16060.139648,1.5301251445257626E-2,1.5185367910961839E-2,"2021-03-25",575,2.6086956521739129E-2,2.5752496102414764E-2,"2021-03-25",46.849997999999999,1.6008538570268457E-2,1.5881753225570748E-2,"2021-03-25",69.699996999999996,2.1520804369618552E-2,2.1292501558227248E-2,"2021-03-25",259.96939099999997,4.7091467010437447E-2,4.601628911413376E-2]
["2021-03-26",16305.879883,1.0431256774884672E-2,1.0377226626026512E-2,"2021-03-26",590,1.5254237288135594E-2,1.5139061215684306E-2,"2021-03-26",47.599997999999999,8.4034037144287404E-3,8.368291687324201E-3,"2021-03-26",71.199996999999996,7.0224722060030428E-3,6.9979294814718884E-3,"2021-03-26",272.21173099999999,4.100524602299372E-2,4.0186829027428692E-2]
["2021-03-29",16475.970702999999,4.7905940974772672E-3,4.7791557181156748E-3,"2021-03-29",599,-3.3388981636060101E-3,-3.3444847228472486E-3,"2021-03-29",48,0,0,"2021-03-29",71.699996999999996,1.8131144412739709E-2,1.7968735383821523E-2,"2021-03-29",283.37383999999997,0,0]
["2021-03-30",16554.900390999999,-7.4763078651494163E-3,-7.5043955370881835E-3,"2021-03-30",597,-1.675041876046901E-2,-1.6892293564505636E-2,"2021-03-30",48,-1.0416458333333267E-3,-1.0421887233865615E-3,"2021-03-30",73,0,0,"2021-03-30",283.37383999999997,-5.0826039552556461E-3,-5.0955643203245511E-3]
["2021-03-31",16431.130859000001,8.5294456725256464E-3,8.4932754797189067E-3,"2021-03-31",587,2.5553662691652469E-2,2.52326254807245E-2,"2021-03-31",47.950001,0,0,"2021-03-31",73,-6.8493150684931503E-3,-6.8728792877620643E-3,"2021-03-31",281.93356299999999,2.554339371080766E-3,2.5510825910381551E-3]
["2021-04-01",16571.279297000001,1.4729102903007997E-2,1.4621683179673299E-2,"2021-04-01",602,1.3289036544850499E-2,1.3201511858535981E-2,"2021-04-01",47.950001,1.0427319907667923E-3,1.0421887233866456E-3,"2021-04-01",72.5,6.8965517241379309E-3,6.8728792877620504E-3,"2021-04-01",282.65371699999997,6.2420339584637489E-2,6.0549644497129358E-2]
["2021-04-07",16815.359375,6.605869997946389E-3,6.5841468530998312E-3,"2021-04-07",610,4.9180327868852463E-3,4.9059787688544056E-3,"2021-04-07",48,-7.2916249999999865E-3,-7.3183388349629813E-3,"2021-04-07",73,0,0,"2021-04-07",300.29705799999999,7.5539521269635673E-2,7.282241593067959E-2]
["2021-04-08",16926.439452999999,-4.2737779673549083E-3,-4.2829366605410379E-3,"2021-04-08",613,-4.8939641109298528E-3,-4.9059787688545183E-3,"2021-04-08",47.650002000000001,-8.3945851670688409E-3,-8.4300181331761967E-3,"2021-04-08",73,-2.7396849315067975E-3,-2.7434447369604153E-3,"2021-04-08",322.98135400000001,0.13712377030904382,0.12850206575600304]
["2021-04-09",16854.099609000001,3.3224023412127698E-4,3.3218505455625316E-4,"2021-04-09",610,-8.1967213114754103E-3,-8.23049913651548E-3,"2021-04-09",47.25,3.2804211640211633E-2,3.2277638427546239E-2,"2021-04-09",72.800003000000004,-4.1209201598522427E-3,-4.1294345508015766E-3,"2021-04-09",367.26977499999998,0.1627451183533957,0.15078369075023376]
["2021-04-12",16859.699218999998,-2.0634450560536146E-3,-2.0655768919255698E-3,"2021-04-12",605,0,0,"2021-04-12",48.799999,4.098381231524212E-3,4.0900057433286841E-3,"2021-04-12",72.5,2.7585793103447752E-3,2.7547814133692017E-3,"2021-04-12",427.04113799999999,-8.6003400449911699E-2,-8.9928427939625188E-2]
["2021-04-13",16824.910156000002,2.4404615905395809E-3,2.4374885003113286E-3,"2021-04-13",605,1.1570247933884297E-2,1.1503824481484713E-2,"2021-04-13",49,-9.1836938775510264E-3,-9.2261239706152576E-3,"2021-04-13",72.699996999999996,4.1265888910559899E-3,4.1180978743929073E-3,"2021-04-13",390.31414799999999,4.0590427175599152E-2,3.9788270500211748E-2]
["2021-04-14",16865.970702999999,1.2496153925045699E-2,1.2418721398794987E-2,"2021-04-14",612,1.1437908496732025E-2,1.1372990172269981E-2,"2021-04-14",48.549999,2.5746653465430556E-2,2.5420789810274323E-2,"2021-04-14",73,1.3698356164383474E-3,1.3688982475602801E-3,"2021-04-14",406.15716600000002,2.8368786678012167E-2,2.7973844605162824E-2]
["2021-04-15",17076.730468999998,4.8065452663204819E-3,4.7950307097057851E-3,"2021-04-15",619,-1.4539579967689823E-2,-1.4646315517239189E-2,"2021-04-15",49.799999,1.0039960040962989E-3,1.0034923371997867E-3,"2021-04-15",73.099997999999999,1.367975413624455E-3,1.3670405877070895E-3,"2021-04-15",417.67935199999999,8.4482778071346992E-2,8.1103171095398718E-2]
["2021-04-16",17158.810547000001,6.0883445104687062E-3,6.0698854266469891E-3,"2021-04-16",610,-1.1475409836065573E-2,-1.1541760440171458E-2,"2021-04-16",49.849997999999999,3.5105317356281536E-2,3.4503177440341024E-2,"2021-04-16",73.199996999999996,2.0491804118516563E-2,2.0284671994469684E-2,"2021-04-16",452.96606400000002,-9.5389728798756061E-3,-9.5847602909037623E-3]
["2021-04-19",17263.279297000001,3.5097528666252604E-3,3.5036080576760376E-3,"2021-04-19",603,-1.658374792703151E-3,-1.6597514183643968E-3,"2021-04-19",51.599997999999999,-3.8758916230965498E-3,-3.8834223562018372E-3,"2021-04-19",74.699996999999996,1.4725649855113215E-2,1.4618280248033397E-2,"2021-04-19",448.64523300000002,-1.6051056537137016E-3,-1.6063952159006435E-3]
["2021-04-20",17323.869140999999,{"$f":"(B70-B69)/B69","v":-7.0284394905658345E-3},{"$f":"LN(B70/B69)","v":-7.0532553174546134E-3},"2021-04-20",602,{"$f":"(F70-F69)/F69","v":-1.6611295681063124E-2},{"$f":"LN(F70/F69)","v":-1.6750810424815354E-2},"2021-04-20",51.400002000000001,{"$f":"(J70-J69)/J69","v":-9.7276260806371181E-3},{"$f":"LN(J70/J69)","v":-9.7752485224174082E-3},"2021-04-20",75.800003000000004,{"$f":"(N70-N69)/N69","v":-1.4511951932244745E-2},{"$f":"LN(N70/N69)","v":-1.4618280248033459E-2},"2021-04-20",447.92511000000002,{"$f":"(R70-R69)/R69","v":-3.5369792061891836E-2},{"$f":"LN(R70/R69)","v":-3.6010455293861106E-2}]
["2021-04-21",17202.109375,-6.1119639288423578E-3,-6.1307184373451144E-3,"2021-04-21",592,-1.6891891891891893E-3,-1.6906174779074388E-3,"2021-04-21",50.900002000000001,-3.9292925764521647E-3,-3.9370325282039476E-3,"2021-04-21",74.699996999999996,1.7402985973346208E-2,1.7253288308202896E-2,"2021-04-21",432.08209199999999,-4.6666636672366403E-2,-4.7790632373796202E-2]
["2021-04-22",17096.970702999999,1.1890926850821E-2,1.1820785264935765E-2,"2021-04-22",591,1.8612521150592216E-2,1.8441427902722931E-2,"2021-04-22",50.700001,3.9447928216017258E-3,3.9370325282038999E-3,"2021-04-22",76,-5.2631842105263244E-3,-5.2770835558705485E-3,"2021-04-22",411.918274,2.4475507974186152E-2,2.4180782090106111E-2]
["2021-04-23",17300.269531000002,1.5723427401669793E-2,1.5601094974142643E-2,"2021-04-23",602,1.3289036544850499E-2,1.3201511858535981E-2,"2021-04-23",50.900002000000001,2.3575558995066418E-2,2.3301947522397351E-2,"2021-04-23",75.599997999999999,-1.3227249027175816E-3,-1.3236004754814644E-3,"2021-04-23",422.00018299999999,3.4129771929506023E-3,3.4071662043846985E-3]
["2021-04-26",17572.289063,1.3436683129527374E-3,1.3427663985105169E-3,"2021-04-26",610,0,0,"2021-04-26",52.099997999999999,1.5355163737242394E-2,1.5238466299831849E-2,"2021-04-26",75.5,-3.9735496688742223E-3,-3.9814651928027226E-3,"2021-04-26",423.44045999999997,-1.7007208049981326E-3,-1.7021686724715398E-3]
["2021-04-27",17595.900390999999,-1.6123695502680609E-3,-1.6136708169880879E-3,"2021-04-27",610,-1.3114754098360656E-2,-1.3201511858535842E-2,"2021-04-27",52.900002000000001,1.8903212895908655E-3,1.8885368806854882E-3,"2021-04-27",75.199996999999996,7.9788035097927944E-3,7.9471411639853266E-3,"2021-04-27",422.72030599999999,-1.3628578798388739E-2,-1.3722300380584283E-2]
["2021-04-28",17567.529297000001,-4.947428777862578E-5,-4.9475511671515795E-5,"2021-04-28",602,-3.3222591362126247E-3,-3.327790092674691E-3,"2021-04-28",53,-1.3207566037735855E-2,-1.3295561601703716E-2,"2021-04-28",75.800003000000004,-9.2348940936058319E-3,-9.2778000872313603E-3,"2021-04-28",416.95922899999999,-5.0086367077391086E-2,-5.1384211233404996E-2]
["2021-04-29",17566.660156000002,-1.9600228156198465E-2,-1.979486004566729E-2,"2021-04-29",600,-0.02,-2.0202707317519466E-2,"2021-04-29",52.299999,5.7361186565223392E-3,5.7197297704316263E-3,"2021-04-29",75.099997999999999,-7.9893211182242557E-3,-8.0214067534164126E-3,"2021-04-29",396.07525600000002,5.6363657314659282E-2,5.4832498458548679E-2]
["2021-05-03",17222.349609000001,-1.6755571600358156E-2,-1.6897534200748479E-2,"2021-05-03",588,5.1020408163265302E-3,5.0890695074712281E-3,"2021-05-03",52.599997999999999,-1.7110209776053587E-2,-1.7258280864106731E-2,"2021-05-03",74.5,-5.3691543624161163E-3,-5.3836200740263315E-3,"2021-05-03",418.39950599999997,1.5490532151823423E-2,1.5371778658378401E-2]
["2021-05-04",16933.779297000001,-5.3348896554950712E-3,-5.349170994872093E-3,"2021-05-04",591,-1.015228426395939E-2,-1.0204170174241736E-2,"2021-05-04",51.700001,3.6750424821074934E-2,3.6091229906579828E-2,"2021-05-04",74.099997999999999,-1.4844777728603979E-2,-1.4956064163096347E-2,"2021-05-04",424.88073700000001,3.7288080207787802E-2,3.6609692218106518E-2]
["2021-05-05",16843.439452999999,8.9601605670343344E-3,8.9202565156761716E-3,"2021-05-05",585,3.4188034188034188E-3,3.4129725962399426E-3,"2021-05-05",53.599997999999999,1.4925448318113767E-2,1.4815159863279454E-2,"2021-05-05",73,2.3287630136986249E-2,2.3020610829737023E-2,"2021-05-05",440.723724,1.9607891586975231E-2,1.9418133375095452E-2]
["2021-05-06",16994.359375,1.7102181882039904E-2,1.695758584624716E-2,"2021-05-06",587,2.0442930153321975E-2,2.0236778287352916E-2,"2021-05-06",54.400002000000001,1.2867573056339203E-2,1.2785489234625348E-2,"2021-05-06",74.699996999999996,-1.3386747525571767E-3,-1.3395715780649166E-3,"2021-05-06",449.365387,0.17147439306445728,0.15826312048051647]
["2021-05-07",17285,-2.8574269597917267E-3,-2.8615171977693791E-3,"2021-05-07",599,-1.6694490818030049E-2,-1.6835414463862688E-2,"2021-05-07",55.099997999999999,5.6261399501321231E-2,5.4735692058295121E-2,"2021-05-07",74.599997999999999,8.0428822531603394E-3,8.0107106621130179E-3,"2021-05-07",526.42004399999996,3.1463676561677527E-2,3.0978838717838703E-2]
["2021-05-10",17235.609375,-3.7856422816498141E-2,-3.8591590821400699E-2,"2021-05-10",589,-3.0560271646859084E-2,-3.1036973995576443E-2,"2021-05-10",58.200001,-2.7491460008737818E-2,-2.7876422046075006E-2,"2021-05-10",75.199996999999996,-6.64893643546289E-3,-6.6711390840481265E-3,"2021-05-10",542.98315400000001,-7.1618041395074369E-2,-7.4312037552960036E-2]
["2021-05-11",16583.130859000001,-4.1051400232455966E-2,-4.1917803274896304E-2,"2021-05-11",571,-1.9264448336252189E-2,-1.9452425926815294E-2,"2021-05-11",56.599997999999999,-7.5971716465431674E-2,-7.9012597923029421E-2,"2021-05-11",74.699996999999996,-2.8112437541329447E-2,-2.8515157695587514E-2,"2021-05-11",504.09576399999997,1.0000054275401599E-2,9.950384591187942E-3]
["2021-05-12",15902.370117,-1.4606030817487833E-2,-1.4713749063001649E-2,"2021-05-12",560,-2.3214285714285715E-2,-2.3487981307213742E-2,"2021-05-12",52.299999,-2.2944570228385669E-2,-2.3211893879703439E-2,"2021-05-12",72.599997999999999,1.377396732159646E-3,1.3764489914576813E-3,"2021-05-12",509.13674900000001,2.2630829580914873E-2,2.2378551440209553E-2]
["2021-05-13",15670.099609000001,1.0018458013491705E-2,9.9686059470603695E-3,"2021-05-13",547,1.8281535648994516E-2,1.8116437505302785E-2,"2021-05-13",51.099997999999999,7.8278280950226393E-3,7.7973495989756818E-3,"2021-05-13",72.699996999999996,2.0632738127898412E-2,2.0422766468068756E-2,"2021-05-13",520.65893600000004,-3.4578140804252068E-2,-3.5190113381312317E-2]
["2021-05-14",15827.089844,-2.9898117762905636E-2,-3.0354179766194561E-2,"2021-05-14",557,-1.4362657091561939E-2,-1.4466798417753376E-2,"2021-05-14",51.5,-5.533976699029125E-2,-5.6929957927707997E-2,"2021-05-14",74.199996999999996,-2.1563329712803048E-2,-2.179921545952641E-2,"2021-05-14",502.65551799999997,0.11461320713085266,0.10850744529434156]
["2021-05-17",15353.889648,5.1588935387664299E-2,5.0302292125257761E-2,"2021-05-17",549,4.1894353369763208E-2,4.1040549870267173E-2,"2021-05-17",48.650002000000001,9.9691630022954558E-2,9.5029804159978554E-2,"2021-05-17",72.599997999999999,1.9283774635916667E-2,1.9100198921629123E-2,"2021-05-17",560.266479,0,0]
["2021-05-18",16145.980469,-8.2499251287804643E-4,-8.2533300648385862E-4,"2021-05-18",572,-8.7412587412587419E-3,-8.779687652045837E-3,"2021-05-18",53.5,1.4953252336448591E-2,1.484255462172248E-2,"2021-05-18",74,-8.108081081081072E-3,-8.1411303357438198E-3,"2021-05-18",560.266479,-1.2853554995568447E-2,-1.2936876690296296E-2]
["2021-05-19",16132.660156,-5.5973288426593585E-3,-5.6130525891825824E-3,"2021-05-19",567,0,0,"2021-05-19",54.299999,-1.8416206600666788E-2,-1.8587896113610718E-2,"2021-05-19",73.400002000000001,1.4986348365494586E-2,1.4875162517087924E-2,"2021-05-19",553.06506300000001,3.2552079681807726E-2,3.2033484950767667E-2]
["2021-05-20",16042.360352,1.6188342133059183E-2,1.6058708091476883E-2,"2021-05-20",567,1.0582010582010581E-2,1.0526412986987603E-2,"2021-05-20",53.299999,1.6885591311174335E-2,1.6744614485712222E-2,"2021-05-20",74.5,6.7114093959731542E-3,6.6889881507967101E-3,"2021-05-20",571.06848100000002,7.5662764515277694E-3,7.5377957535287332E-3]
["2021-05-21",16302.059569999999,2.2224473444247194E-3,2.2199813613279274E-3,"2021-05-21",573,-8.7260034904013961E-3,-8.764297993588242E-3,"2021-05-21",54.200001,-5.535036798246548E-3,-5.5504118750826477E-3,"2021-05-21",75,-1.8666693333333342E-2,-1.884311497539334E-2,"2021-05-21",575.38934300000005,0,0]
["2021-05-24",16338.290039,1.57531713775204E-2,1.5630378083650809E-2,"2021-05-24",568,2.6408450704225352E-2,2.6065767629340941E-2,"2021-05-24",53.900002000000001,7.421094344300749E-3,7.3936935029811001E-3,"2021-05-24",73.599997999999999,-5.4347963433369001E-3,-5.4496185772586851E-3,"2021-05-24",575.38934300000005,0,0]
["2021-05-25",16595.669922000001,2.8934975945949098E-3,2.8893194880503905E-3,"2021-05-25",583,3.4305317324185248E-3,3.4246608813641747E-3,"2021-05-25",54.299999,1.8416759086864983E-3,1.8399821029189032E-3,"2021-05-25",73.199996999999996,-5.4643991310545058E-3,-5.4793835722276767E-3,"2021-05-25",575.38934300000005,0,0]
["2021-05-26",16643.689452999999,-2.528290263936292E-3,-2.5314917871574667E-3,"2021-05-26",585,-5.1282051282051282E-3,-5.1413995004186523E-3,"2021-05-26",54.400002000000001,0,0,"2021-05-26",72.800003000000004,-1.0989051744956711E-2,-1.1049877395375355E-2,"2021-05-26",575.38934300000005,0,0]
["2021-05-27",16601.609375,1.6218307148309227E-2,1.6088195315663027E-2,"2021-05-27",582,1.3745704467353952E-2,1.3652089168327263E-2,"2021-05-27",54.400002000000001,2.0220550727185625E-2,2.001883012578658E-2,"2021-05-27",72,1.1111152777777831E-2,1.1049877395375411E-2,"2021-05-27",575.38934300000005,0,0]
["2021-05-28",16870.859375,1.1710743869560596E-2,1.1642703793326315E-2,"2021-05-28",590,1.1864406779661017E-2,1.1794576492836877E-2,"2021-05-28",55.5,7.2072432432432549E-3,7.181395186839367E-3,"2021-05-28",72.800003000000004,1.0988941854851235E-2,1.092900214948642E-2,"2021-05-28",575.38934300000005,0,0]
["2021-05-31",17068.429688,5.5043828118560437E-3,5.489289059315572E-3,"2021-05-31",597,1.6750418760469012E-3,1.6736405580296937E-3,"2021-05-31",55.900002000000001,-1.7889623689101291E-3,-1.7905644731100261E-3,"2021-05-31",73.599997999999999,6.7934784454749576E-3,6.770506750570498E-3,"2021-05-31",575.38934300000005,0,0]
["2021-06-01",17162.380859000001,1.5488550346471404E-4,1.5487350994357067E-4,"2021-06-01",598,-5.016722408026756E-3,-5.0293484050019733E-3,"2021-06-01",55.799999,8.9605736372862666E-3,8.9206659175369869E-3,"2021-06-01",74.099997999999999,5.3981377975205972E-3,5.38362007402623E-3,"2021-06-01",575.38934300000005,0,0]
["2021-06-02",17165.039063,4.7259486391068965E-3,4.7148164036409238E-3,"2021-06-02",595,1.6806722689075631E-3,1.6792615197199939E-3,"2021-06-02",56.299999,-8.8809948291473321E-3,-8.9206659175370059E-3,"2021-06-02",74.5,-5.3691543624161163E-3,-5.3836200740263315E-3,"2021-06-02",575.38934300000005,0,0]
["2021-06-03",17246.160156000002,-5.7259122672384853E-3,-5.7423681495756742E-3,"2021-06-03",596,-1.6778523489932886E-3,-1.6792615197200253E-3,"2021-06-03",55.799999,-1.4336899898510745E-2,-1.4440666233647195E-2,"2021-06-03",74.099997999999999,-6.7476385087081921E-3,-6.770506750570387E-3,"2021-06-03",575.38934300000005,0,0]
["2021-06-04",17147.410156000002,-3.7031831292482901E-3,-3.7100568869957657E-3,"2021-06-04",595,-5.0420168067226894E-3,-5.0547706616240603E-3,"2021-06-04",55,-5.4545272727272668E-3,-5.4694575229998583E-3,"2021-06-04",73.599997999999999,-8.1521469606561595E-3,-8.1855574125259817E-3,"2021-06-04",575.38934300000005,0,0]
["2021-06-07",17083.910156000002,-4.5067071470740206E-4,-4.5077229727527699E-4,"2021-06-07",592,-5.0675675675675678E-3,-5.0804512324189519E-3,"2021-06-07",54.700001,1.8281169684073563E-3,1.8264479963234748E-3,"2021-06-07",73,5.4794794520548031E-3,5.4645217200347419E-3,"2021-06-07",575.38934300000005,6.1326617236287476E-2,5.9519651313120155E-2]
["2021-06-08",17076.210938,-6.4411382243608779E-3,-6.4619718649311366E-3,"2021-06-08",589,-5.0933786078098476E-3,-5.1063940745741387E-3,"2021-06-08",54.799999,-9.1240877577388278E-3,-9.165967182111226E-3,"2021-06-08",73.400002000000001,-1.3623841590630589E-3,-1.3633130481265402E-3,"2021-06-08",610.67602499999998,-9.4339842472119899E-3,-9.4787661469675401E-3]
["2021-06-09",16966.220702999999,1.1375544582293061E-2,1.1311329603062407E-2,"2021-06-09",586,2.2184300341296929E-2,2.1941808538436729E-2,"2021-06-09",54.299999,7.3665194726799284E-3,7.3395191857877299E-3,"2021-06-09",73.300003000000004,-2.7285810615861016E-3,-2.7323104243481455E-3,"2021-06-09",604.91491699999995,-1.3095244930122795E-2,-1.3181743627641148E-2]
["2021-06-10",17159.220702999999,3.1644110731968997E-3,3.1594148617467162E-3,"2021-06-10",599,5.008347245409015E-3,4.9958471933716697E-3,"2021-06-10",54.700001,-3.6563253444913159E-3,-3.6630260402726426E-3,"2021-06-10",73.099997999999999,6.8399454675771671E-3,6.8166591649658076E-3,"2021-06-10",596.99340800000004,7.2377047084578863E-3,7.2116382225182298E-3]
["2021-06-11",17213.519531000002,9.1654429947268887E-3,9.1236952194300742E-3,"2021-06-11",602,1.1627906976744186E-2,1.1560822401076006E-2,"2021-06-11",54.5,-3.6697431192660611E-3,-3.6764931455150573E-3,"2021-06-11",73.599997999999999,0,0,"2021-06-11",601.31426999999996,0.14251497640327077,0.13323195214956002]
["2021-06-15",17371.289063,-3.651409389939997E-3,-3.6580920576030451E-3,"2021-06-15",609,-6.5681444991789817E-3,-6.5898096790555525E-3,"2021-06-15",54.299999,0,0,"2021-06-15",73.599997999999999,6.7934784454749576E-3,6.770506750570498E-3,"2021-06-15",687.01055899999994,4.0880488126529668E-2,4.0066978168597243E-2]
["2021-06-16",17307.859375,4.7810649605535055E-3,4.7696719687993685E-3,"2021-06-16",605,1.652892561983471E-3,1.6515280384729392E-3,"2021-06-16",54.299999,-5.5248435639934299E-3,-5.5401619594089126E-3,"2021-06-16",74.099997999999999,-1.2145762810951805E-2,-1.2220125327829102E-2,"2021-06-16",715.09588599999995,4.7331325298660777E-2,4.6245333880216954E-2]
["2021-06-17",17390.609375,-4.144208546458702E-3,-4.1528195775370012E-3,"2021-06-17",606,-4.9504950495049506E-3,-4.9627893421290139E-3,"2021-06-17",54,-7.4074444444444561E-3,-7.4350158009515782E-3,"2021-06-17",73.199996999999996,6.8306013728388548E-3,6.8073785060684183E-3,"2021-06-17",748.94232199999999,0.12980765293164989,0.12204739959085388]
["2021-06-18",17318.539063,-1.4756359821711936E-2,-1.4866317961313243E-2,"2021-06-18",603,-3.316749585406302E-2,-3.3730010376693022E-2,"2021-06-18",53.599997999999999,-2.9850710069056336E-2,-3.0305312181895448E-2,"2021-06-18",73.699996999999996,-1.4925360173352475E-2,-1.5037864207186263E-2,"2021-06-18",846.16076699999996,7.2340399587446327E-2,6.9843549173017563E-2]
["2021-06-21",17062.980468999998,7.3670083739714736E-4,7.3642960653765705E-4,"2021-06-21",583,-8.5763293310463125E-3,-8.6133176781149467E-3,"2021-06-21",52,1.1538423076923064E-2,1.1472363139422433E-2,"2021-06-21",72.599997999999999,-1.3773829580546182E-3,-1.3783324219115024E-3,"2021-06-21",907.37237500000003,-1.58729859943114E-2,-1.6000310985822549E-2]
["2021-06-22",17075.550781000002,1.529439139911035E-2,1.5178611227353695E-2,"2021-06-22",578,2.9411764705882353E-2,2.8987536873252187E-2,"2021-06-22",52.599997999999999,2.8517111350460509E-2,2.8118067163008704E-2,"2021-06-22",72.5,1.1034524137931087E-2,1.0974087959670295E-2,"2021-06-22",892.96966599999996,-3.6290358154226404E-2,-3.6965231146644385E-2]
["2021-06-23",17336.710938,4.1097760846798516E-3,4.1013540222549476E-3,"2021-06-23",595,-8.4033613445378148E-3,-8.4388686458645949E-3,"2021-06-23",54.099997999999999,-5.5452682271818141E-3,-5.5607003034804812E-3,"2021-06-23",73.300003000000004,1.364242781818124E-3,1.3633130481265105E-3,"2021-06-23",860.56347700000003,8.7866126114947804E-2,8.4218095012757427E-2]
["2021-06-24",17407.960938,5.45895618323455E-3,5.4441100868815751E-3,"2021-06-24",590,1.6949152542372881E-3,1.6934805063331477E-3,"2021-06-24",53.799999,9.2936804701427601E-3,9.2507599433052732E-3,"2021-06-24",73.400002000000001,1.3623705350852629E-3,1.3614433503651581E-3,"2021-06-24",936.17785600000002,6.5384659130412096E-2,6.3335916232846595E-2]
["2021-06-25",17502.990234000001,5.0265964743038015E-3,5.0140053144055617E-3,"2021-06-25",591,-1.6920473773265651E-3,-1.6934805063330315E-3,"2021-06-25",54.299999,0,0,"2021-06-25",73.5,4.0816734693878065E-3,4.073366038041557E-3,"2021-06-25",997.38952600000005,-7.2202643122602781E-3,-7.2464565734814681E-3]
["2021-06-28",17590.970702999999,4.1036677974620809E-4,4.1028260232748236E-4,"2021-06-28",590,8.4745762711864406E-3,8.4388686458646035E-3,"2021-06-28",54.299999,-1.104968712798686E-2,-1.111118838689051E-2,"2021-06-28",73.800003000000004,-4.0650811355658588E-3,-4.0733660380414972E-3,"2021-06-28",990.18811000000005,7.2727756749169552E-3,7.2464565734813953E-3]
["2021-06-29",17598.189452999999,8.9367991758487822E-3,8.8971023193493703E-3,"2021-06-29",595,0,0,"2021-06-29",53.700001,3.7244133384653068E-3,3.7174948839094062E-3,"2021-06-29",73.5,-4.0816734693878065E-3,-4.0900262351325741E-3,"2021-06-29",997.38952600000005,0.11552349508029629,0.10932379704452341]
["2021-06-30",17755.460938,-2.3385191263121416E-3,-2.3412577325192404E-3,"2021-06-30",595,-3.3613445378151263E-3,-3.3670065479042954E-3,"2021-06-30",53.900002000000001,0,0,"2021-06-30",73.199996999999996,-6.8306013728388548E-3,-6.8540367096602091E-3,"2021-06-30",1112.6114500000001,-5.5016214330708295E-2,-5.6587509657508327E-2]
["2021-07-01",17713.939452999999,-2.1390284245089946E-4,-2.1392572292679206E-4,"2021-07-01",593,-8.4317032040472171E-3,-8.4674510990984941E-3,"2021-07-01",53.900002000000001,0,0,"2021-07-01",72.699996999999996,9.6286799021464125E-3,9.5826195944276327E-3,"2021-07-01",1051.39978,-4.1095930227415513E-2,-4.1964240621909205E-2]
["2021-07-02",17710.150390999999,1.1811288011777778E-2,1.1742079180118162E-2,"2021-07-02",588,5.1020408163265302E-3,5.0890695074712281E-3,"2021-07-02",53.900002000000001,5.565843949319328E-3,5.5504118750827102E-3,"2021-07-02",73.400002000000001,6.8119889152046618E-3,6.7888921493293279E-3,"2021-07-02",1008.1915279999999,-6.0714266386892271E-2,-6.2635550414792615E-2]
["2021-07-05",17919.330077999999,-3.4933030268157991E-4,-3.4939133272527843E-4,"2021-07-05",591,1.6920473773265651E-3,1.6906174779074521E-3,"2021-07-05",54.200001,-1.8450737666960736E-3,-1.8467780119264272E-3,"2021-07-05",73.900002000000001,-1.3531664045150749E-3,-1.3540827609226801E-3,"2021-07-05",946.979919,2.2813710794220073E-2,2.2557369501694728E-2]
["2021-07-06",17913.070313,-3.4824214336237847E-3,-3.4884991774237145E-3,"2021-07-06",592,3.3783783783783786E-3,3.372684478639156E-3,"2021-07-06",54.099997999999999,-1.8483919352455312E-3,-1.8501023195840703E-3,"2021-07-06",73.800003000000004,1.3549999449186585E-3,1.3540827609227137E-3,"2021-07-06",968.58404499999995,2.2304791320406383E-2,2.2059677574510734E-2]
["2021-07-07",17850.689452999999,8.6273367986977199E-4,8.6236173907700052E-4,"2021-07-07",594,-1.0101010101010102E-2,-1.0152371464017962E-2,"2021-07-07",54,7.4074444444444561E-3,7.3801440623278433E-3,"2021-07-07",73.900002000000001,2.7063057454314917E-3,2.7026502937323553E-3,"2021-07-07",990.18811000000005,0.12909096737184614,0.1214128553245379]
["2021-07-08",17866.089843999998,-1.1452386996067545E-2,-1.1518470607901144E-2,"2021-07-08",588,-6.8027210884353739E-3,-6.8259650703998706E-3,"2021-07-08",54.400002000000001,-1.102946650626963E-2,-1.1090742046224254E-2,"2021-07-08",74.099997999999999,-4.0485156288397684E-3,-4.0567330546550035E-3,"2021-07-08",1118.0124510000001,-3.333334075722208E-2,-3.3901559355566262E-2]
["2021-07-09",17661.480468999998,8.654405233371425E-3,8.6171705435720402E-3,"2021-07-09",584,1.5410958904109588E-2,1.52934161694984E-2,"2021-07-09",53.799999,3.5316022961264376E-2,3.4706716306181558E-2,"2021-07-09",73.800003000000004,-1.219513500561786E-2,-1.2270105807378197E-2,"2021-07-09",1080.745361,-4.5977021778768438E-2,-4.7067521638140673E-2]
["2021-07-12",17814.330077999999,1.8630761221265549E-3,1.8613427484123241E-3,"2021-07-12",593,2.3608768971332208E-2,2.3334392061772839E-2,"2021-07-12",55.700001,7.1812745568891291E-3,7.1556119914665288E-3,"2021-07-12",72.900002000000001,1.3717420748493258E-2,1.3624188568300945E-2,"2021-07-12",1031.055908,-1.2048195353534619E-2,-1.2121363146288403E-2]
["2021-07-13",17847.519531000002,-9.9147167029467153E-5,-9.9152082434678619E-5,"2021-07-13",607,9.8846787479406912E-3,9.8361448767131897E-3,"2021-07-13",56.099997999999999,1.6042816971223433E-2,1.5915490956524069E-2,"2021-07-13",73.900002000000001,-9.4723272131982412E-3,-9.5174750340967645E-3,"2021-07-13",1018.633545,-4.471543787614031E-2,-4.5746012075567777E-2]
["2021-07-14",17845.75,1.0559346230895258E-2,1.0503985707430958E-2,"2021-07-14",613,1.6313213703099511E-3,1.62999221093097E-3,"2021-07-14",57,1.9298210526315779E-2,1.9114361599906846E-2,"2021-07-14",73.199996999999996,2.7323088551493308E-3,2.7285828847675932E-3,"2021-07-14",973.08489999999995,8.0851103536803526E-2,7.7748789611183408E-2]
["2021-07-15",18034.189452999999,-7.704224986772909E-3,-7.7340558426199166E-3,"2021-07-15",614,-4.071661237785016E-2,-4.1568744495555775E-2,"2021-07-15",58.099997999999999,2.9259914948706202E-2,2.8840014799720932E-2,"2021-07-15",73.400002000000001,-4.087247845034136E-3,-4.0956234724746007E-3,"2021-07-15",1051.759888,2.7559021151793494E-2,2.7186107248813596E-2]
["2021-07-16",17895.25,-5.9233595507187662E-3,-5.9409722301643998E-3,"2021-07-16",589,-1.1884550084889643E-2,-1.1955735920148884E-2,"2021-07-16",59.799999,-1.6722073858228554E-3,-1.6736070852028514E-3,"2021-07-16",73.099997999999999,1.367975413624455E-3,1.3670405877070895E-3,"2021-07-16",1080.745361,-2.2988510426740601E-2,-2.3256866953989954E-2]
["2021-07-19",17789.25,-1.4644224236547309E-2,-1.475250935629841E-2,"2021-07-19",582,-1.718213058419244E-3,-1.7196908795265881E-3,"2021-07-19",59.700001,-3.0150736513387993E-2,-3.061461802771168E-2,"2021-07-19",73.199996999999996,-9.5628009383661068E-3,-9.6088181230293713E-3,"2021-07-19",1055.900635,3.9215309307964828E-3,3.9138617717337024E-3]
["2021-07-20",17528.740234000001,-3.9906559208583801E-3,-3.9986398359818922E-3,"2021-07-20",581,6.8846815834767644E-3,6.8610903799451606E-3,"2021-07-20",57.900002000000001,6.9084108149080727E-3,6.8846570825245043E-3,"2021-07-20",72.5,2.7585793103447752E-3,2.7547814133692017E-3,"2021-07-20",1060.0413820000001,-6.2499978892333573E-2,-6.4538498622727272E-2]
["2021-07-21",17458.789063,{"$f":"(B134-B133)/B133","v":6.5033728622464239E-3},{"$f":"LN(B134/B133)","v":6.4823171723191412E-3},"2021-07-21",585,{"$f":"(F134-F133)/F133","v":1.0256410256410256E-2},{"$f":"LN(F134/F133)","v":1.0204170174241668E-2},"2021-07-21",58.299999,{"$f":"(J134-J133)/J133","v":3.0874768968692429E-2},{"$f":"LN(J134/J133)","v":3.0407732059503152E-2},"2021-07-21",72.699996999999996,{"$f":"(N134-N133)/N133","v":1.1004168267022127E-2},{"$f":"LN(N134/N133)","v":1.0944062944792747E-2},"2021-07-21",993.78881799999999,{"$f":"(R134-R133)/R133","v":7.0833392089947989E-2},{"$f":"LN(R134/R133)","v":6.8437216423217331E-2}]
["2021-07-22",17572.330077999999,3.3566635578987312E-5,3.3566072232168601E-5,"2021-07-22",591,-1.015228426395939E-2,-1.0204170174241736E-2,"2021-07-22",60.099997999999999,3.3278037713079509E-3,3.3222788861006582E-3,"2021-07-22",73.5,-4.0816734693878065E-3,-4.0900262351325741E-3,"2021-07-22",1064.182251,1.5564166743465122E-2,1.5444287381766286E-2]
["2021-07-23",17572.919922000001,-9.6375204434850092E-3,-9.6842619005711797E-3,"2021-07-23",585,-8.5470085470085479E-3,-8.5837436913914419E-3,"2021-07-23",60.299999,-6.799333446091764E-2,-7.0415312456152096E-2,"2021-07-23",73.199996999999996,-9.5628009383661068E-3,-9.6088181230293713E-3,"2021-07-23",1080.745361,-3.8313807761048715E-3,-3.838739317025512E-3]
["2021-07-26",17403.560547000001,-7.6818422091821468E-3,-7.7114995386236658E-3,"2021-07-26",580,0,0,"2021-07-26",56.200001,-2.1352330580919392E-2,-2.1583589460768576E-2,"2021-07-26",72.5,1.1034524137931087E-2,1.0974087959670295E-2,"2021-07-26",1076.6046140000001,-2.3076926920916983E-2,-2.3347367931788092E-2]
["2021-07-27",17269.869140999999,-7.796726014578443E-3,-7.8272793973696402E-3,"2021-07-27",580,-1.7241379310344827E-3,-1.7256259674697252E-3,"2021-07-27",55,-2.1818200000000006E-2,-2.2059736652092963E-2,"2021-07-27",73.300003000000004,-9.5498631834981564E-3,-9.595755537758776E-3,"2021-07-27",1051.759888,1.5747995515873914E-2,1.5625282480723524E-2]
["2021-07-28",17135.220702999999,1.561636401643504E-2,1.5495683377534189E-2,"2021-07-28",579,6.9084628670120895E-3,6.8847087774972331E-3,"2021-07-28",53.799999,1.858736094028552E-2,1.8416727125416584E-2,"2021-07-28",72.599997999999999,1.2396722104592904E-2,1.2320511936250299E-2,"2021-07-28",1068.3229980000001,-3.8759317245365024E-3,-3.8834626136761983E-3]
["2021-07-29",17402.810547000001,-8.9296145918676371E-3,-8.9697225444780402E-3,"2021-07-29",583,-5.1457975986277877E-3,-5.1590828100273357E-3,"2021-07-29",54.799999,-9.1240877577388278E-3,-9.165967182111226E-3,"2021-07-29",73.5,-4.0816734693878065E-3,-4.0900262351325741E-3,"2021-07-29",1064.182251,-1.1673153718103034E-2,-1.1741819867047346E-2]
["2021-07-30",17247.410156000002,1.4835220980176428E-2,1.4726255452664472E-2,"2021-07-30",580,1.7241379310344827E-2,1.709443335930004E-2,"2021-07-30",54.299999,2.7624309901000184E-2,2.7249642942434919E-2,"2021-07-30",73.199996999999996,2.0491804118516563E-2,2.0284671994469684E-2,"2021-07-30",1051.759888,7.8739397599084573E-3,7.843102066557122E-3]
["2021-08-02",17503.279297000001,2.8840577895966292E-3,2.8799068740014639E-3,"2021-08-02",590,6.7796610169491523E-3,6.7567824628796871E-3,"2021-08-02",55.799999,-7.1684051463871716E-3,-7.1942216117976141E-3,"2021-08-02",74.699996999999996,4.0161045789600738E-3,4.0080615581823487E-3,"2021-08-02",1060.0413820000001,-1.5624966422301578E-2,-1.574832285746201E-2]
["2021-08-03",17553.759765999999,3.9952044425170807E-3,3.9872448064539844E-3,"2021-08-03",594,3.3670033670033669E-3,3.3613477027049274E-3,"2021-08-03",55.400002000000001,-3.6101262234611528E-3,-3.6166584553289972E-3,"2021-08-03",75,6.6666666666666671E-3,6.6445427186685108E-3,"2021-08-03",1043.4782709999999,1.5872981220899963E-2,1.5748322857461999E-2]
["2021-08-04",17623.890625,-1.1785980997031285E-3,-1.1792931926539177E-3,"2021-08-04",596,0,0,"2021-08-04",55.200001,0,0,"2021-08-04",75.5,-2.6489668874171684E-3,-2.6524816084943651E-3,"2021-08-04",1060.0413820000001,7.8125402843942787E-3,7.7821804141662886E-3]
["2021-08-05",17603.119140999999,-4.3651266224193231E-3,-4.3746816035741681E-3,"2021-08-05",596,-8.389261744966443E-3,-8.424649659251578E-3,"2021-08-05",55.200001,-1.8116485179049354E-3,-1.8132915377640224E-3,"2021-08-05",75.300003000000004,-1.328100876702589E-3,-1.3289835843082812E-3,"2021-08-05",1068.3229980000001,3.8759317245362895E-3,3.8684396540986168E-3]
["2021-08-06",17526.279297000001,-2.3466992225236209E-3,-2.3494570364955124E-3,"2021-08-06",591,6.7681895093062603E-3,6.7453881395316551E-3,"2021-08-06",55.099997999999999,1.8149365450067885E-3,1.8132915377640911E-3,"2021-08-06",75.199996999999996,-7.9787104246825547E-3,-8.0107106621129607E-3,"2021-08-06",1072.463745,-2.7026996609568435E-2,-2.7398942925726921E-2]
["2021-08-09",17485.150390999999,-9.2369675060462696E-3,-9.2798928280815526E-3,"2021-08-09",595,-6.7226890756302525E-3,-6.745388139531538E-3,"2021-08-09",55.200001,-5.4347643942977411E-3,-5.4495864536346517E-3,"2021-08-09",74.599997999999999,5.3619572483098541E-3,5.3476331362471629E-3,"2021-08-09",1043.4782709999999,-7.9365077646163948E-2,-8.2691713978015585E-2]
["2021-08-10",17323.640625,-5.5681677476497431E-3,-5.5837277811488254E-3,"2021-08-10",591,-1.6920473773265651E-3,-1.6934805063330315E-3,"2021-08-10",54.900002000000001,2.0036392712699708E-2,1.9838305789792371E-2,"2021-08-10",75,-7.999973333333325E-3,-8.0321448155442118E-3,"2021-08-10",960.66253700000004,3.0172377795138226E-2,2.9726145321568514E-2]
["2021-08-11",17227.179688,-4.2027976320723457E-4,-4.2036810550010953E-4,"2021-08-11",590,-6.7796610169491523E-3,-6.8027473227525231E-3,"2021-08-11",56,0,0,"2021-08-11",74.400002000000001,-1.8817230676956172E-2,-1.8996527572375133E-2,"2021-08-11",989.64801,5.4393340315007505E-2,5.2965568656446908E-2]
["2021-08-12",17219.939452999999,-1.3811319061204081E-2,-1.3907582707991976E-2,"2021-08-12",586,-8.5324232081911266E-3,-8.5690327251014033E-3,"2021-08-12",56,-1.7857142857142856E-2,-1.8018505502678365E-2,"2021-08-12",73,-4.3835575342465703E-2,-4.4825388400122554E-2,"2021-08-12",1043.4782709999999,3.9682167948085914E-3,3.9603641895814097E-3]
["2021-08-13",16982.109375,-7.2629283722298642E-3,-7.2894318430122302E-3,"2021-08-13",581,5.1635111876075735E-3,5.1502259763158611E-3,"2021-08-13",55,-1.2727290909090914E-2,-1.2808976708787546E-2,"2021-08-13",69.800003000000004,4.2979224513786272E-3,4.2887127616048903E-3,"2021-08-13",1047.619019,-5.1383375085518553E-2,-5.2750539954846777E-2]
["2021-08-16",16858.769531000002,-1.1709642013730766E-2,-1.177873980840281E-2,"2021-08-16",584,0,0,"2021-08-16",54.299999,0,0,"2021-08-16",70.099997999999999,0,0,"2021-08-16",993.78881799999999,-6.6666641644583302E-2,-6.8992844677576715E-2]
["2021-08-17",16661.359375,9.8977611783253264E-3,9.8490991733009153E-3,"2021-08-17",584,-1.7123287671232876E-2,-1.7271586508660595E-2,"2021-08-17",54.299999,1.8416759086864983E-3,1.8399821029189032E-3,"2021-08-17",70.099997999999999,0,0,"2021-08-17",927.53625499999998,-4.4643085137410533E-3,-4.4743032966163736E-3]
["2021-08-18",16826.269531000002,-2.6795549611834068E-2,-2.7161095140185977E-2,"2021-08-18",574,-2.6132404181184669E-2,-2.6479923164467265E-2,"2021-08-18",54.400002000000001,-1.102946650626963E-2,-1.1090742046224254E-2,"2021-08-18",70.099997999999999,-1.4265335642377622E-2,-1.4368063679809813E-2,"2021-08-18",923.39544699999999,-0.11031388916952282,-0.11688656292388061]
["2021-08-19",16375.400390999999,-2.0433064353277382E-3,-2.0453968339573898E-3,"2021-08-19",559,-1.2522361359570662E-2,-1.260142687800382E-2,"2021-08-19",53.799999,-1.8586989193066597E-3,-1.8604284435852117E-3,"2021-08-19",69.099997999999999,-2.8942982024398717E-3,-2.8984947828750991E-3,"2021-08-19",821.532104,8.0644992054990337E-3,8.0321549091191356E-3]
["2021-08-20",16341.940430000001,2.4470742364589421E-2,2.4176130323769199E-2,"2021-08-20",552,2.5362318840579712E-2,2.5046031926087516E-2,"2021-08-20",53.700001,2.6070707149521265E-2,2.573665972443465E-2,"2021-08-20",68.900002000000001,8.7082435788608439E-3,8.6705455235577284E-3,"2021-08-20",828.15734899999995,6.9999992235775119E-2,6.765864121752975E-2]
["2021-08-23",16741.839843999998,4.5927225273007461E-3,4.582208157957326E-3,"2021-08-23",566,1.0600706713780919E-2,1.054491317661504E-2,"2021-08-23",55.099997999999999,1.2704192838627695E-2,1.262417160489074E-2,"2021-08-23",69.5,1.4388489208633094E-2,1.4285957247476434E-2,"2021-08-23",886.12835700000005,0.12616825555442632,0.11882094622252611]
["2021-08-24",16818.730468999998,1.3504521427383709E-2,1.3414148101134456E-2,"2021-08-24",572,2.2727272727272728E-2,2.2472855852058576E-2,"2021-08-24",55.799999,3.5842473760617868E-3,3.5778392690312007E-3,"2021-08-24",70.5,1.4184113475177215E-3,1.4174063523611394E-3,"2021-08-24",997.92962599999998,3.3195008081662127E-2,3.2655950715741559E-2]
["2021-08-25",17045.859375,1.2379289618538326E-3,1.2371633595722068E-3,"2021-08-25",585,1.5384615384615385E-2,1.5267472130788381E-2,"2021-08-25",56,0,0,"2021-08-25",70.599997999999999,-1.1331374258679095E-2,-1.1396063422315516E-2,"2021-08-25",1031.055908,-1.1646605103396657E-2,-1.1714958046753965E-2]
["2021-08-26",17066.960938,8.3769307564111571E-3,8.342038993794279E-3,"2021-08-26",594,8.4175084175084174E-3,8.3822787528044385E-3,"2021-08-26",56,3.0357160714285718E-2,2.9905500109926937E-2,"2021-08-26",69.800003000000004,1.0028609884157113E-2,9.9786570699543446E-3,"2021-08-26",1019.047607,6.0747687914447027E-2,5.897402542735565E-2]
["2021-08-27",17209.929688,1.0841987525963305E-2,1.0783634574966543E-2,"2021-08-27",599,1.001669449081803E-2,9.9668599153920744E-3,"2021-08-27",57.700001,3.1195822682914678E-2,3.0719121706507896E-2,"2021-08-27",70.5,1.560280851063829E-2,1.5482336215415712E-2,"2021-08-27",1080.952393,5.28634030231524E-2,5.1513503011846491E-2]
["2021-08-30",17396.519531000002,5.390131734851005E-3,5.375656965437587E-3,"2021-08-30",605,1.487603305785124E-2,1.4766470116300995E-2,"2021-08-30",59.5,1.6806386554621743E-3,1.6792279626724686E-3,"2021-08-30",71.599997999999999,9.7766064183410235E-3,9.7291246248555705E-3,"2021-08-30",1138.0952150000001,-8.3681961530785928E-3,-8.4034060731127645E-3]
["2021-08-31",17490.289063,-9.3187876662821439E-4,-9.3231323558200382E-4,"2021-08-31",614,-1.6286644951140066E-3,-1.6299922109310643E-3,"2021-08-31",59.599997999999999,-6.7113592856160673E-3,-6.733981732404761E-3,"2021-08-31",72.300003000000004,-1.244814609482109E-2,-1.2526273301751382E-2,"2021-08-31",1128.5714109999999,-1.2658165766702929E-2,-1.2738962900118084E-2]
["2021-09-01",17473.990234000001,-8.8262878675477215E-3,-8.8654702734871152E-3,"2021-09-01",613,-9.7879282218597055E-3,-9.836144876713129E-3,"2021-09-01",59.200001,-8.4459458032779423E-3,-8.4818149120260127E-3,"2021-09-01",71.400002000000001,2.801064347309104E-3,2.7971486768958238E-3,"2021-09-01",1114.2857670000001,4.273445951679191E-3,4.2643407128086638E-3]
["2021-09-02",17319.759765999999,1.138353872477158E-2,1.1319233799409531E-2,"2021-09-02",607,2.1416803953871501E-2,2.1190686979639054E-2,"2021-09-02",58.700001,1.5332146246471086E-2,1.521579664443074E-2,"2021-09-02",71.599997999999999,5.5866202677826975E-3,5.5710729824167571E-3,"2021-09-02",1119.047607,1.2766004690629823E-2,1.2685206175625501E-2]
["2021-09-03",17516.919922000001,-1.2341862094629502E-3,-1.2349484444872472E-3,"2021-09-03",620,1.7741935483870968E-2,1.7586384502075988E-2,"2021-09-03",59.599997999999999,-6.7113592856160673E-3,-6.733981732404761E-3,"2021-09-03",72,-6.9444444444444441E-3,-6.9686693160933158E-3,"2021-09-03",1133.333374,0.10084027138161372,9.6073771268338187E-2]
["2021-09-06",17495.300781000002,-3.7971133409805484E-3,-3.8043406769861874E-3,"2021-09-06",631,-1.2678288431061807E-2,-1.2759343753759986E-2,"2021-09-06",59.200001,0,0,"2021-09-06",71.5,-1.11888531468532E-2,-1.1251919230250615E-2,"2021-09-06",1247.619019,0,0]
["2021-09-07",17428.869140999999,-9.0871591104798033E-3,-9.1286991865137702E-3,"2021-09-07",623,-6.420545746388443E-3,-6.4412461028569932E-3,"2021-09-07",59.200001,-1.1824341016480732E-2,-1.1894804544040989E-2,"2021-09-07",70.699996999999996,2.8289251553999988E-3,2.8249312771146278E-3,"2021-09-07",1247.619019,6.8702347186645502E-2,6.6445152847083883E-2]
["2021-09-08",17270.490234000001,1.9594026308169627E-3,1.9574855053540964E-3,"2021-09-08",619,0,0,"2021-09-08",58.5,3.4188205128205182E-3,3.4129896320149221E-3,"2021-09-08",70.900002000000001,-5.2186246764845005E-2,-5.3597258860580421E-2,"2021-09-08",1333.333374,-2.8571501878569171E-2,-2.8987612336488097E-2]
["2021-09-09",17304.330077999999,9.8380136204427489E-3,9.7899354364939083E-3,"2021-09-09",619,4.8465266558966073E-3,4.8348200545833111E-3,"2021-09-09",58.700001,8.5178874187753426E-3,8.4818149120258982E-3,"2021-09-09",67.199996999999996,1.7857218059102065E-2,1.7699650982024834E-2,"2021-09-09",1295.2380370000001,2.2058905146251365E-2,2.1819127249961687E-2]
["2021-09-10",17474.570313,-1.6171937560590945E-3,-1.6185028254176114E-3,"2021-09-10",622,-1.1254019292604502E-2,-1.1317824932661572E-2,"2021-09-10",59.200001,1.1824341016480732E-2,1.1754979728532938E-2,"2021-09-10",68.400002000000001,1.0233859349887135E-2,1.0181847961793337E-2,"2021-09-10",1323.8095699999999,-2.5179885955953486E-2,-2.550232342257891E-2]
["2021-09-13",17446.310547000001,-6.5401541313064502E-4,-6.5422937450534339E-4,"2021-09-13",615,-3.2520325203252032E-3,-3.2573318703065105E-3,"2021-09-13",59.900002000000001,-1.6694991095325999E-3,-1.6708942762068977E-3,"2021-09-13",69.099997999999999,4.3415920214643312E-3,4.3321945011383827E-3,"2021-09-13",1290.4761960000001,-6.2730635598643877E-2,-6.4784562708536386E-2]
["2021-09-14",17434.900390999999,-4.6401407054645688E-3,-4.6509395768187974E-3,"2021-09-14",613,-9.7879282218597055E-3,-9.836144876713129E-3,"2021-09-14",59.799999,-5.0167057695101247E-3,-5.0293316825937564E-3,"2021-09-14",69.400002000000001,0,0,"2021-09-14",1209.5238039999999,1.5748021607353148E-2,1.5625308167684246E-2]
["2021-09-15",17354,-4.3391022818947637E-3,-4.3485435070605314E-3,"2021-09-15",607,-1.1532125205930808E-2,-1.1599135843351918E-2,"2021-09-15",59.5,3.3613613445378204E-3,3.3557245973909263E-3,"2021-09-15",69.400002000000001,-4.3228240829157509E-3,-4.3321945011384711E-3,"2021-09-15",1228.5714109999999,0,0]
["2021-09-16",17278.699218999998,-1.1054975700356258E-4,-1.105558680783069E-4,"2021-09-16",600,0,0,"2021-09-16",59.700001,-1.3400318033495505E-2,-1.3490912535577188E-2,"2021-09-16",69.099997999999999,7.2358902239042034E-3,7.2098367746776778E-3,"2021-09-16",1228.5714109999999,5.4263533566792546E-2,5.2842450713469345E-2]
["2021-09-17",17276.789063,-2.0314466346737732E-2,-2.0523642839098417E-2,"2021-09-17",600,-2.3333333333333334E-2,-2.3609865639133736E-2,"2021-09-17",58.900002000000001,-3.5653699977803072E-2,-3.630481649192617E-2,"2021-09-17",69.599997999999999,-1.5804569419671528E-2,-1.5930793336561791E-2,"2021-09-17",1295.2380370000001,-3.6764215255979268E-3,-3.6831961726172774E-3]
["2021-09-22",16925.820313,9.0040179549198355E-3,8.9637234794201943E-3,"2021-09-22",586,3.4129692832764505E-3,3.4071583216143558E-3,"2021-09-22",56.799999,1.2323961484576793E-2,1.2248639681832969E-2,"2021-09-22",68.5,4.3796058394161138E-3,4.3700432757686255E-3,"2021-09-22",1290.4761960000001,2.2140207691207888E-2,2.1898671893620627E-2]
["2021-09-23",17078.220702999999,1.0655018058645592E-2,1.0598653378027447E-2,"2021-09-23",588,1.7006802721088437E-2,1.6863806052004725E-2,"2021-09-23",57.5,5.2173739130434724E-3,5.2038105739887833E-3,"2021-09-23",68.800003000000004,4.3603922517270171E-3,4.3509132861154834E-3,"2021-09-23",1319.047607,-2.1660636696033898E-2,-2.1898671893620689E-2]
["2021-09-24",17260.189452999999,3.1042578151243825E-3,3.0994495549825107E-3,"2021-09-24",598,6.688963210702341E-3,6.6666913581892974E-3,"2021-09-24",57.799999,1.5570969127525428E-2,1.545098549253218E-2,"2021-09-24",69.099997999999999,5.7887411226842673E-3,5.7720507406826913E-3,"2021-09-24",1290.4761960000001,-3.6900345893710766E-2,-3.759838956158864E-2]
["2021-09-27",17313.769531000002,-7.6430541461850925E-3,-7.6724119691461501E-3,"2021-09-27",602,-1.3289036544850499E-2,-1.3378125946176087E-2,"2021-09-27",58.700001,5.1107154154903627E-3,5.0977000358936883E-3,"2021-09-27",69.5,-1.1510834532374154E-2,-1.1577597010566031E-2,"2021-09-27",1242.857178,-3.8314250295941807E-2,-3.9067545191871909E-2]
["2021-09-28",17181.439452999999,-1.8972712728273809E-2,-1.915500403224293E-2,"2021-09-28",594,-2.3569023569023569E-2,-2.3851215822179909E-2,"2021-09-28",59,-1.6949152542372881E-2,-1.7094433359300068E-2,"2021-09-28",68.699996999999996,-1.4555895832134729E-3,-1.4566499828602042E-3,"2021-09-28",1195.2380370000001,-3.5856502782968286E-2,-3.651513941528628E-2]
["2021-09-29",16855.460938,4.7052165047117367E-3,4.694181574485686E-3,"2021-09-29",580,0,0,"2021-09-29",58,-1.7241034482758512E-3,-1.7255914251560701E-3,"2021-09-29",68.599997999999999,-4.3731050837639319E-3,-4.3826950767114374E-3,"2021-09-29",1152.380981,3.3057830377365496E-2,3.2523171510849568E-2]
["2021-09-30",16934.769531000002,-2.1487089347977363E-2,-2.1721297902930339E-2,"2021-09-30",580,-1.0344827586206896E-2,-1.0398707220898622E-2,"2021-09-30",57.900002000000001,-1.7271156570944506E-2,-1.7422042839593754E-2,"2021-09-30",68.300003000000004,-1.7569618554775238E-2,-1.7725796329232428E-2,"2021-09-30",1190.4761960000001,-4.4000023835839903E-2,-4.4997390863622998E-2]
["2021-10-01",16570.890625,-9.8088280031719301E-3,-9.8572514683920986E-3,"2021-10-01",574,-3.4843205574912892E-3,-3.4904049397684908E-3,"2021-10-01",56.900002000000001,-5.2724778463101151E-3,-5.2864264082219626E-3,"2021-10-01",67.099997999999999,5.9612818468340436E-3,5.9435837071077323E-3,"2021-10-01",1138.0952150000001,-4.1840444782117849E-3,-4.192822084796404E-3]
["2021-10-04",16408.349609000001,3.1935198998476687E-3,3.1884314456805331E-3,"2021-10-04",572,0,0,"2021-10-04",56.599997999999999,-3.5334983580741245E-3,-3.5397559084420905E-3,"2021-10-04",67.5,-1.1851896296296353E-2,-1.1922689934418414E-2,"2021-10-04",1133.333374,-4.6218510988629918E-2,-4.7320680927049975E-2]
["2021-10-05",16460.75,-4.1061217745241418E-3,-4.1145750405663598E-3,"2021-10-05",572,-1.7482517482517483E-3,-1.7497817237877064E-3,"2021-10-05",56.400002000000001,1.2411276155628483E-2,1.2334887670688756E-2,"2021-10-05",66.699996999999996,8.9955926084975338E-3,8.955373283138432E-3,"2021-10-05",1080.952393,1.7621134032680726E-2,1.7467681895016348E-2]
["2021-10-06",16393.160156000002,1.956298943877641E-2,1.9374093762109572E-2,"2021-10-06",571,1.5761821366024518E-2,1.5638893884454729E-2,"2021-10-06",57.099997999999999,0,0,"2021-10-06",67.300003000000004,1.0401143667110924E-2,1.034742394890254E-2,"2021-10-06",1100,8.6580036363635704E-3,8.6207380653660921E-3]
["2021-10-07",16713.859375,-4.3933411998089058E-3,-4.4030202826702124E-3,"2021-10-07",580,-8.6206896551724137E-3,-8.6580627431145415E-3,"2021-10-07",57.099997999999999,0,0,"2021-10-07",68,0,0,"2021-10-07",1109.5238039999999,1.7167371201348262E-2,1.7021676978351004E-2]
["2021-10-08",16640.429688,-1.0672191002860232E-2,-1.0729547276335445E-2,"2021-10-08",575,0,0,"2021-10-08",57.099997999999999,-1.2259124772648832E-2,-1.2334887670688658E-2,"2021-10-08",68,-1.1764750000000056E-2,-1.1834502289861082E-2,"2021-10-08",1128.5714109999999,-8.4388138022751386E-3,-8.4746221873093323E-3]
["2021-10-12",16462.839843999998,-6.9762939497862676E-3,-7.0007420595736853E-3,"2021-10-12",575,-6.956521739130435E-3,-6.980831141340205E-3,"2021-10-12",56.400002000000001,-3.5461168955277754E-3,-3.5524192717659351E-3,"2021-10-12",67.199996999999996,0,0,"2021-10-12",1119.047607,1.7021266906654564E-2,1.6878028260421993E-2]
["2021-10-13",16347.990234000001,2.4032962118051733E-3,2.4004129141526106E-3,"2021-10-13",571,3.5026269702276708E-3,3.496507058729306E-3,"2021-10-13",56.200001,7.1173842149931466E-3,7.0921751802080725E-3,"2021-10-13",67.199996999999996,7.4404765226403213E-3,7.4129327188364015E-3,"2021-10-13",1138.0952150000001,-4.1840444782117849E-3,-4.192822084796404E-3]
["2021-10-14",16387.279297000001,2.403755674513406E-2,2.3753202453669336E-2,"2021-10-14",573,4.712041884816754E-2,4.6043938501406798E-2,"2021-10-14",56.599997999999999,3.0035354418210411E-2,2.9593126330340273E-2,"2021-10-14",67.699996999999996,5.9084345306544576E-3,5.8910481818084948E-3,"2021-10-14",1133.333374,5.8823491418686438E-2,5.7158377957596311E-2]
["2021-10-15",16781.189452999999,-4.5127024643929975E-3,-4.5229154431644459E-3,"2021-10-15",600,-1.6666666666666666E-2,-1.6807118316381289E-2,"2021-10-15",58.299999,6.8610978878404548E-3,6.8376676660379231E-3,"2021-10-15",68.099997999999999,0,0,"2021-10-15",1200,3.1746012500000045E-2,3.1252524850258069E-2]
["2021-10-18",16705.460938,1.1685339585928926E-2,1.1617593253832164E-2,"2021-10-18",590,1.6949152542372881E-2,1.6807118316381191E-2,"2021-10-18",58.700001,-5.1107154154903627E-3,-5.1238197890696021E-3,"2021-10-18",68.099997999999999,-4.4052130515480426E-3,-4.4149445927540651E-3,"2021-10-18",1238.0952150000001,-7.6923033742603989E-3,-7.7220417423897996E-3]
["2021-10-19",16900.669922000001,-7.6030175485967825E-4,-7.6059093082214431E-4,"2021-10-19",600,-3.3333333333333335E-3,-3.3389012655145986E-3,"2021-10-19",58.400002000000001,-1.7123800783431643E-3,-1.713847876968275E-3,"2021-10-19",67.800003000000004,-5.8997195029623101E-3,-5.9171916022851476E-3,"2021-10-19",1228.5714109999999,1.1627950050027723E-2,1.1560864979263492E-2]
["2021-10-20",16887.820313,1.0003973092362498E-4,1.0003472728347528E-4,"2021-10-20",598,-3.3444816053511705E-3,-3.3500868852819744E-3,"2021-10-20",58.299999,6.8610978878404548E-3,6.8376676660379231E-3,"2021-10-20",67.400002000000001,-5.9347475983754514E-3,-5.9524282008853345E-3,"2021-10-20",1242.857178,0,0]
["2021-10-21",16889.509765999999,-4.5562719739063557E-5,-4.5563757751345548E-5,"2021-10-21",596,6.7114093959731542E-3,6.6889881507967101E-3,"2021-10-21",58.700001,-6.8143440065699598E-3,-6.8376676660379084E-3,"2021-10-21",67,4.4776567164179675E-3,4.467661836238165E-3,"2021-10-21",1242.857178,3.4482686956006738E-2,3.390148239981871E-2]
["2021-10-22",16888.740234000001,{"$f":"(B198-B197)/B197","v":3.2566076118143697E-4},{"$f":"LN(B198/B197)","v":3.2560774522560199E-4},"2021-10-22",600,{"$f":"(F198-F197)/F197","v":-1.1666666666666667E-2},{"$f":"LN(F198/F197)","v":-1.1735256218420965E-2},"2021-10-22",58.299999,{"$f":"(J198-J197)/J197","v":1.7153173536075181E-3},{"$f":"LN(J198/J197)","v":1.7138478769682687E-3},"2021-10-22",67.300003000000004,{"$f":"(N198-N197)/N197","v":-2.9718423638109559E-3},{"$f":"LN(N198/N197)","v":-2.9762670558279017E-3},"2021-10-22",1285.7142329999999,{"$f":"(R198-R197)/R197","v":1.4814901718522084E-2},{"$f":"LN(R198/R197)","v":1.4706233024731901E-2}]
["2021-10-25",16894.240234000001,8.2927440393587033E-3,8.2585481592232796E-3,"2021-10-25",593,1.0118043844856661E-2,1.0067199117723941E-2,"2021-10-25",58.400002000000001,1.1986232466224893E-2,1.1914966490348337E-2,"2021-10-25",67.099997999999999,2.980700535937489E-3,2.9762670558278492E-3,"2021-10-25",1304.7619629999999,-2.5547475283045039E-2,-2.5879478802631414E-2]
["2021-10-26",17034.339843999998,2.3605808835713091E-3,2.3577990894240765E-3,"2021-10-26",599,0,0,"2021-10-26",59.099997999999999,-6.7681389769251605E-3,-6.791146701278658E-3,"2021-10-26",67.300003000000004,-1.4859731878467759E-3,-1.4870783409585979E-3,"2021-10-26",1271.4285890000001,-1.1235996361569998E-2,-1.1299597028703919E-2]
["2021-10-27",17074.550781000002,-1.9280110160574859E-3,-1.9298720217074395E-3,"2021-10-27",599,-6.6777963272120202E-3,-6.700192569819562E-3,"2021-10-27",58.700001,-1.022151600985494E-2,-1.0274114435368782E-2,"2021-10-27",67.199996999999996,0,0,"2021-10-27",1257.142822,3.7879252195260303E-3,3.7807690963385134E-3]
["2021-10-28",17041.630859000001,-3.1816616290197422E-3,-3.1867338760204257E-3,"2021-10-28",595,-8.4033613445378148E-3,-8.4388686458645949E-3,"2021-10-28",58.099997999999999,0,0,"2021-10-28",67.199996999999996,-8.9285569462152926E-3,-8.9686553699327137E-3,"2021-10-28",1261.9047849999999,-7.5471652958348416E-3,-7.5757892586334969E-3]
["2021-10-29",16987.410156000002,4.7582343192820141E-3,4.7469497047653445E-3,"2021-10-29",590,0,0,"2021-10-29",58.099997999999999,-8.6058522755887192E-3,-8.6430964548343293E-3,"2021-10-29",66.599997999999999,4.504564699836797E-3,4.4944495132355211E-3,"2021-10-29",1252.380981,7.6045581532189739E-3,7.5757892586334067E-3]
["2021-11-01",17068.240234000001,-1.3296807221407746E-4,-1.3297691325191917E-4,"2021-11-01",590,3.3898305084745762E-3,3.3840979842404942E-3,"2021-11-01",57.599997999999999,-3.4721528983386201E-3,-3.478194810896962E-3,"2021-11-01",66.900002000000001,7.4738413311258196E-3,7.4460505623027765E-3,"2021-11-01",1261.9047849999999,-5.6603786473477774E-2,-5.8268921785862279E-2]
["2021-11-02",17065.970702999999,3.2924850263644969E-3,3.2870766655865146E-3,"2021-11-02",592,0,0,"2021-11-02",57.400002000000001,3.4842507496776519E-3,3.4781948108970843E-3,"2021-11-02",67.400002000000001,1.4836498076068211E-3,1.4825502866326298E-3,"2021-11-02",1190.4761960000001,7.9999953228799599E-3,7.9681650091768461E-3]
["2021-11-03",17122.160156000002,-2.5289321327150497E-3,-2.5321352830872754E-3,"2021-11-03",592,-8.4459459459459464E-3,-8.4818150559092306E-3,"2021-11-03",57.599997999999999,5.2084029586251246E-3,5.1948861416406993E-3,"2021-11-03",67.5,-1.037032592592587E-2,-1.0424472425705444E-2,"2021-11-03",1200,-7.9365033333332734E-3,-7.9681650091768391E-3]
["2021-11-04",17078.859375,1.2766720025762799E-2,1.2685912493646829E-2,"2021-11-04",587,2.2146507666098807E-2,2.1904835388049829E-2,"2021-11-04",57.900002000000001,1.0362659400253551E-2,1.0309335116547445E-2,"2021-11-04",66.800003000000004,4.4909429120833354E-3,4.4808887185976802E-3,"2021-11-04",1190.4761960000001,2.0000039547199821E-2,1.9802666067943429E-2]
["2021-11-05",17296.900390999999,6.8451796173613364E-3,6.821857743153698E-3,"2021-11-05",600,3.3333333333333335E-3,3.3277900926747457E-3,"2021-11-05",58.5,3.4188205128205182E-3,3.4129896320149221E-3,"2021-11-05",67.099997999999999,4.470998642950798E-3,4.4610334204750373E-3,"2021-11-05",1214.2857670000001,-2.3529497566778409E-2,-2.3810736563314686E-2]
["2021-11-08",17415.300781000002,7.2383816728291885E-3,7.2123103222029097E-3,"2021-11-08",602,1.4950166112956811E-2,1.4839513862774217E-2,"2021-11-08",58.700001,-3.4071720032849799E-3,-3.4129896320149603E-3,"2021-11-08",67.400002000000001,-1.4836646444015957E-3,-1.4847663646472521E-3,"2021-11-08",1185.7142329999999,1.6064351316595862E-2,1.5936685060564747E-2]
["2021-11-09",17541.359375,1.0427365182465636E-3,1.0421932461503294E-3,"2021-11-09",611,1.6366612111292963E-3,1.635323340730838E-3,"2021-11-09",58.5,1.7093675213675104E-3,1.7079082154627073E-3,"2021-11-09",67.300003000000004,0,0,"2021-11-09",1204.7619629999999,-4.3478283352808594E-2,-4.4451786076043068E-2]
["2021-11-10",17559.650390999999,-6.1009677080419667E-3,-6.1196546559415645E-3,"2021-11-10",612,-9.8039215686274508E-3,-9.8522964430115944E-3,"2021-11-10",58.599997999999999,0,0,"2021-11-10",67.300003000000004,-1.4859731878467759E-3,-1.4870783409585979E-3,"2021-11-10",1152.380981,4.1321759717587734E-3,4.1236619787807672E-3]
["2021-11-11",17452.519531000002,3.7594186835578133E-3,3.752369730259613E-3,"2021-11-11",606,-3.3003300330033004E-3,-3.3057881344995439E-3,"2021-11-11",58.599997999999999,5.119522359028089E-3,5.1064621601243755E-3,"2021-11-11",67.199996999999996,1.488184590246449E-3,1.4870783409584574E-3,"2021-11-11",1157.142822,-4.1151713595471828E-3,-4.1236619787808114E-3]
["2021-11-12",17518.130859000001,6.6411105691808591E-3,6.6191555446098692E-3,"2021-11-12",604,6.6225165562913907E-3,6.6006840313520927E-3,"2021-11-12",58.900002000000001,1.3582325515031387E-2,1.3490912535577158E-2,"2021-11-12",67.300003000000004,1.0401143667110924E-2,1.034742394890254E-2,"2021-11-12",1152.380981,2.0661091594325859E-2,2.0450546365324687E-2]
["2021-11-15",17634.470702999999,3.326448351524517E-3,3.3209279610151949E-3,"2021-11-15",608,3.2894736842105261E-3,3.2840752011900187E-3,"2021-11-15",59.700001,5.0251087935492614E-3,5.0125250731257323E-3,"2021-11-15",68,8.8234999999999911E-3,8.7848004012135612E-3,"2021-11-15",1176.1904300000001,-1.6194323227064582E-2,-1.6326884386543825E-2]
["2021-11-16",17693.130859000001,4.0076685446504999E-3,3.9996592330478172E-3,"2021-11-16",610,0,0,"2021-11-16",60,3.6666683333333339E-2,3.6010453600203371E-2,"2021-11-16",68.599997999999999,-2.9153936710027127E-3,-2.9196517090496884E-3,"2021-11-16",1157.142822,0,0]
["2021-11-17",17764.039063,4.3531810375865895E-3,4.3437333534098836E-3,"2021-11-17",610,4.9180327868852463E-3,4.9059787688544056E-3,"2021-11-17",62.200001,1.2861720050454656E-2,1.2779710569228584E-2,"2021-11-17",68.400002000000001,1.4619590215801362E-3,1.4608913999091121E-3,"2021-11-17",1157.142822,-1.646089543819507E-2,-1.6597881331554164E-2]
["2021-11-18",17841.369140999999,-1.2924228974674891E-3,-1.2932587962411644E-3,"2021-11-18",613,8.1566068515497546E-3,8.1235215214793474E-3,"2021-11-18",63,-1.9047634920634927E-2,-1.9231378109117465E-2,"2021-11-18",68.5,-4.3796058394161138E-3,-4.3892244070339956E-3,"2021-11-18",1138.0952150000001,-2.9288632058786162E-2,-2.9726107256797758E-2]
["2021-11-19",17818.310547000001,-8.2900586792656391E-4,-8.2934968332087184E-4,"2021-11-19",618,-4.8543689320388345E-3,-4.8661896511728994E-3,"2021-11-19",61.799999,-1.1326877205936529E-2,-1.1391514838090281E-2,"2021-11-19",68.199996999999996,-1.0263886081989068E-2,-1.0316922982661415E-2,"2021-11-19",1104.7619629999999,-2.1551764812163338E-2,-2.1787395755048677E-2]
["2021-11-22",17803.539063,-7.7186856789385385E-3,-7.7486289143776912E-3,"2021-11-22",615,-4.8780487804878049E-3,-4.8899852941917919E-3,"2021-11-22",61.099997999999999,-4.9099674274948367E-3,-4.922060919572104E-3,"2021-11-22",67.5,-5.9259555555555652E-3,-5.9435837071077626E-3,"2021-11-22",1080.952393,-1.3215907650060661E-2,-1.3304014896737992E-2]
["2021-11-23",17666.119140999999,-1.3358683823900452E-3,-1.3367614499934027E-3,"2021-11-23",612,-1.4705882352941176E-2,-1.4815085785140587E-2,"2021-11-23",60.799999,4.9341941601018721E-3,4.9220609195720043E-3,"2021-11-23",67.099997999999999,5.9612818468340436E-3,5.9435837071077323E-3,"2021-11-23",1066.666626,-4.4642261076986243E-3,-4.4742205210416466E-3]
["2021-11-24",17642.519531000002,6.6146572656427421E-4,6.6124705453457098E-4,"2021-11-24",603,0,0,"2021-11-24",61.099997999999999,8.183306323512482E-3,8.1500046276161212E-3,"2021-11-24",67.5,8.8888592592592502E-3,8.8495859084065358E-3,"2021-11-24",1061.9047849999999,6.7264589075187287E-2,6.5098916344829644E-2]
["2021-11-25",17654.189452999999,-1.6132081779127096E-2,-1.6263620389794918E-2,"2021-11-25",603,-1.1608623548922056E-2,-1.1676529661835629E-2,"2021-11-25",61.599997999999999,-2.2727224763870919E-2,-2.2989469145870169E-2,"2021-11-25",68.099997999999999,-1.027894303315543E-2,-1.0332136195039228E-2,"2021-11-25",1133.333374,-1.6806711455759151E-2,-1.6949546888434381E-2]
["2021-11-26",17369.390625,-2.3777910170640622E-3,-2.3806224513876809E-3,"2021-11-26",596,-5.0335570469798654E-3,-5.0462680676242721E-3,"2021-11-26",60.200001,-1.4950199087206005E-2,-1.5063079785797646E-2,"2021-11-26",67.400002000000001,-1.4836646444015957E-3,-1.4847663646472521E-3,"2021-11-26",1114.2857670000001,-4.2735563362895851E-3,-4.2827140782329505E-3]
["2021-11-29",17328.089843999998,5.7519278176245449E-3,5.7354486419707905E-3,"2021-11-29",593,5.0590219224283303E-3,5.0462680676242192E-3,"2021-11-29",59.299999,1.1804401548134939E-2,1.1735273081827424E-2,"2021-11-29",67.300003000000004,-2.8231811520127319E-2,-2.8637992183011909E-2,"2021-11-29",1109.5238039999999,2.1459269205548404E-2,2.1232260966667332E-2]
["2021-11-30",17427.759765999999,9.0792201708388854E-3,9.0382518383434075E-3,"2021-11-30",596,6.7114093959731542E-3,6.6889881507967101E-3,"2021-11-30",60,-1.6666333333333228E-3,-1.6680237117158863E-3,"2021-11-30",65.400002000000001,2.5993821835051299E-2,2.5661725127184006E-2,"2021-11-30",1133.333374,2.5210067624815129E-2,2.4897535616423678E-2]
["2021-12-01",17585.990234000001,7.8977995069890814E-3,7.8667751309394376E-3,"2021-12-01",600,2.5000000000000001E-2,2.4692612590371414E-2,"2021-12-01",59.900002000000001,-6.6778294932277405E-3,-6.7002259588006428E-3,"2021-12-01",67.099997999999999,8.941863157730599E-3,8.9021214337055895E-3,"2021-12-01",1161.9047849999999,8.1967163944506472E-3,8.1633057621120688E-3]
["2021-12-02",17724.880859000001,-1.5650448779132627E-3,-1.5662708399389435E-3,"2021-12-02",615,-1.1382113821138212E-2,-1.1447385840350835E-2,"2021-12-02",59.5,6.7227226890756407E-3,6.7002259588006263E-3,"2021-12-02",67.699996999999996,-2.954165566654253E-3,-2.9585377265979335E-3,"2021-12-02",1171.4285890000001,-8.1300764634148377E-3,-8.1633057621119283E-3]
["2021-12-03",17697.140625,-5.0458360416627079E-4,-5.0471094931238913E-4,"2021-12-03",608,-1.3157894736842105E-2,-1.324522675002068E-2,"2021-12-03",59.900002000000001,1.6694156370812704E-3,1.668023711716E-3,"2021-12-03",67.5,-2.9629185185184623E-3,-2.9673166512799495E-3,"2021-12-03",1161.9047849999999,-2.4590148322695737E-2,-2.4897535616423713E-2]
["2021-12-06",17688.210938,6.145843939844629E-3,6.1270352650917492E-3,"2021-12-06",600,1.1666666666666667E-2,1.159913584335194E-2,"2021-12-06",60,1.1666683333333339E-2,1.1599152317816431E-2,"2021-12-06",67.300003000000004,1.7830563841133799E-2,1.767346404097539E-2,"2021-12-06",1133.333374,-1.2605088077111614E-2,-1.2685206175625572E-2]
["2021-12-07",17796.919922000001,1.9947271862540664E-3,1.9927403596596517E-3,"2021-12-07",607,-8.2372322899505763E-3,-8.2713457506771934E-3,"2021-12-07",60.700001,0,0,"2021-12-07",68.5,-1.4598248175182388E-3,-1.4608913999091995E-3,"2021-12-07",1119.047607,2.1276638143957003E-2,2.1053450713789456E-2]
["2021-12-08",17832.419922000001,4.5814992781324807E-3,4.5710361560009427E-3,"2021-12-08",602,9.9667774086378731E-3,9.9174366573459242E-3,"2021-12-08",60.700001,0,0,"2021-12-08",68.400002000000001,7.3099413067268621E-3,7.2833531789181652E-3,"2021-12-08",1142.857178,-1.2500045740623663E-2,-1.2578828526480117E-2]
["2021-12-09",17914.119140999999,-4.9044764249064569E-3,-4.9165428385354384E-3,"2021-12-09",608,-4.9342105263157892E-3,-4.9464239353255741E-3,"2021-12-09",60.700001,-3.2949093361629486E-3,-3.3003495031212436E-3,"2021-12-09",68.900002000000001,0,0,"2021-12-09",1128.5714109999999,1.6877627604550478E-2,1.6736782987384711E-2]
["2021-12-10",17826.259765999999,-3.2906598338637962E-3,-3.2960859618992653E-3,"2021-12-10",605,-6.6115702479338841E-3,-6.633523495633906E-3,"2021-12-10",60.5,3.3058016528925674E-3,3.3003495031213074E-3,"2021-12-10",68.900002000000001,-7.2568938386968406E-3,-7.2833531789182658E-3,"2021-12-10",1147.619019,-4.1493221366698209E-3,-4.1579544609045534E-3]
["2021-12-13",17767.599609000001,-9.468384683476664E-3,-9.5134948102384882E-3,"2021-12-13",601,-3.3277870216306157E-3,-3.3333364197582274E-3,"2021-12-13",60.700001,-8.2372321542465866E-3,-8.271345613846081E-3,"2021-12-13",68.400002000000001,5.8479676652641492E-3,5.8309346756777293E-3,"2021-12-13",1142.857178,-2.4999983856250407E-2,-2.531779142659818E-2]
["2021-12-14",17599.369140999999,3.4507184611817765E-3,3.4447783933116136E-3,"2021-12-14",599,1.6694490818030051E-3,1.6680571006970134E-3,"2021-12-14",60.200001,-6.6445513846420138E-3,-6.6667246918930469E-3,"2021-12-14",68.800003000000004,-5.8139677697398228E-3,-5.8309346756778386E-3,"2021-12-14",1114.2857670000001,4.273445951679191E-3,4.2643407128086638E-3]
["2021-12-15",17660.099609000001,7.1143780489194182E-3,7.0891902545106716E-3,"2021-12-15",600,8.3333333333333332E-3,8.2988028146950641E-3,"2021-12-15",59.799999,8.3612041531973946E-3,8.3264429152137137E-3,"2021-12-15",68.400002000000001,1.4619590215801362E-3,1.4608913999091121E-3,"2021-12-15",1119.047607,2.1276638143957003E-2,2.1053450713789456E-2]
["2021-12-16",17785.740234000001,1.5096144240693784E-3,1.5084761016892893E-3,"2021-12-16",605,3.3057851239669421E-3,3.3003330286566998E-3,"2021-12-16",60.299999,3.3167662241586492E-3,3.3112778874041034E-3,"2021-12-16",68.5,-8.7590948905109395E-3,-8.7976812484486123E-3,"2021-12-16",1142.857178,-8.3333282437500922E-3,-8.3682445381637865E-3]
["2021-12-17",17812.589843999998,-8.0550032452652194E-3,-8.0876200543197885E-3,"2021-12-17",607,-1.4827018121911038E-2,-1.4938037108866493E-2,"2021-12-17",60.5,-9.9173223140495755E-3,-9.9668265264110743E-3,"2021-12-17",67.900002000000001,-4.4183209302409336E-3,-4.4281105566119144E-3,"2021-12-17",1133.333374,4.2016242610005443E-3,4.1928220847964673E-3]
["2021-12-20",17669.109375,6.8005779719727232E-3,6.7775583471671218E-3,"2021-12-20",598,-1.6722408026755853E-3,-1.6736405580296484E-3,"2021-12-20",59.900002000000001,6.677746020776411E-3,6.6555486390068343E-3,"2021-12-20",67.599997999999999,4.437929125382537E-3,4.4281105566117739E-3,"2021-12-20",1138.0952150000001,-8.3681961530785928E-3,-8.4034060731127645E-3]
["2021-12-21",17789.269531000002,2.1114159260189644E-3,2.1091900200707839E-3,"2021-12-21",597,5.0251256281407036E-3,5.0125418235441935E-3,"2021-12-21",60.299999,0,0,"2021-12-21",67.900002000000001,4.4181883823802472E-3,4.408456841414503E-3,"2021-12-21",1128.5714109999999,-8.4388138022751386E-3,-8.4746221873093323E-3]
["2021-12-22",17826.830077999999,6.7218948896519961E-3,6.6994036869422917E-3,"2021-12-22",600,0.01,9.950330853168092E-3,"2021-12-22",60.299999,3.3167662241586492E-3,3.3112778874041034E-3,"2021-12-22",68.199996999999996,1.4663637008665497E-3,1.4652896394631251E-3,"2021-12-22",1119.047607,1.2766004690629823E-2,1.2685206175625501E-2]
["2021-12-23",17946.660156000002,8.3472182956503653E-4,8.3437364304442209E-4,"2021-12-23",606,-3.3003300330033004E-3,-3.3057881344995439E-3,"2021-12-23",60.5,9.9173223140495755E-3,9.8684684075291407E-3,"2021-12-23",68.300003000000004,2.9282136341926106E-3,2.9239347675708255E-3,"2021-12-23",1133.333374,4.2016242610005443E-3,4.1928220847964673E-3]
["2021-12-24",17961.640625,4.8602925435715337E-3,4.8485194534643632E-3,"2021-12-24",604,3.3112582781456954E-3,3.3057881344994103E-3,"2021-12-24",61.099997999999999,3.2733388960176448E-3,3.2679931846269117E-3,"2021-12-24",68.5,-1.4598248175182388E-3,-1.4608913999091995E-3,"2021-12-24",1138.0952150000001,-8.3681961530785928E-3,-8.4034060731127645E-3]
["2021-12-27",18048.939452999999,8.1927857525957593E-3,8.1594070690761168E-3,"2021-12-27",606,1.4851485148514851E-2,1.4742281737203431E-2,"2021-12-27",61.299999,1.6313213969220457E-2,1.6181583113090994E-2,"2021-12-27",68.400002000000001,4.3858916846229853E-3,4.3763016919098393E-3,"2021-12-27",1128.5714109999999,1.6877627604550478E-2,1.6736782987384711E-2]
["2021-12-28",18196.810547000001,2.8284489673101173E-3,2.8244564322124108E-3,"2021-12-28",615,1.6260162601626016E-3,1.6246957270019829E-3,"2021-12-28",62.299999,1.1235971287896815E-2,1.1173316649489796E-2,"2021-12-28",68.699996999999996,1.0189301754991408E-2,1.0137740771021872E-2,"2021-12-28",1147.619019,-2.9045573006489103E-2,-2.9475745887502677E-2]
["2021-12-29",18248.279297000001,-1.6132728199114369E-3,-1.6145755457971822E-3,"2021-12-29",616,-1.6233766233766235E-3,-1.624695727001922E-3,"2021-12-29",63,-7.9365079365079361E-3,-7.9681696491768449E-3,"2021-12-29",69.400002000000001,-1.1527434826298727E-2,-1.1594390753882033E-2,"2021-12-29",1114.2857670000001,0.16239305513807212,0.15048085866736838]
["2021-12-30",18218.839843999998,2.8360709267125691E-3,2.8320568652129949E-3,"2021-12-30",615,2.6016260162601626E-2,2.5683594734695381E-2,"2021-12-30",62.5,-1.4400032000000011E-2,-1.4504718670414779E-2,"2021-12-30",68.599997999999999,-2.9153936710027127E-3,-2.9196517090496884E-3,"2021-12-30",1295.2380370000001,3.3088263914225965E-2,3.2552630741198178E-2]
["2022-01-03",18270.509765999999,1.4002884773149551E-2,1.3905750108878977E-2,"2022-01-03",631,3.9619651347068144E-2,3.885492640287587E-2,"2022-01-03",61.599997999999999,6.4935391718681651E-3,6.4725469731504249E-3,"2022-01-03",68.400002000000001,5.8479676652641492E-3,5.8309346756777293E-3,"2022-01-03",1338.0952150000001,-2.4910971675509749E-2,-2.5226501050853469E-2]
["2022-01-04",18526.349609000001,-1.4243858912810941E-3,-1.4254012931954182E-3,"2022-01-04",656,-9.1463414634146336E-3,-9.1884260544062551E-3,"2022-01-04",62,-1.6128709677419252E-3,-1.6141730443638928E-3,"2022-01-04",68.800003000000004,1.4534737738310394E-3,1.45241850324037E-3,"2022-01-04",1304.7619629999999,-7.2993590172584204E-3,-7.3261296903445964E-3]
["2022-01-05",18499.960938,-7.1373672864778461E-3,-7.1629601421504194E-3,"2022-01-05",650,-9.2307692307692316E-3,-9.2736367853292149E-3,"2022-01-05",61.900002000000001,1.6154765229248194E-3,1.6141730443639426E-3,"2022-01-05",68.900002000000001,-7.2568938386968406E-3,-7.2833531789182658E-3,"2022-01-05",1295.2380370000001,-3.676468466776512E-2,-3.7457540510595841E-2]
["2022-01-06",18367.919922000001,-1.078838305270796E-2,-1.0846999623716196E-2,"2022-01-06",644,-1.5527950310559006E-2,-1.5649771667127665E-2,"2022-01-06",62,0,0,"2022-01-06",68.400002000000001,-5.8479822851467264E-3,-5.8651486921637297E-3,"2022-01-06",1247.619019,-7.2519090861983687E-2,-7.5283067851987656E-2]
["2022-01-07",18169.759765999999,3.8317013486485062E-3,3.8243790795743199E-3,"2022-01-07",634,1.4195583596214511E-2,1.4095769800393376E-2,"2022-01-07",62,1.6128709677419252E-3,1.611571688221784E-3,"2022-01-07",68,1.029407352941171E-2,1.0241450384073664E-2,"2022-01-07",1157.142822,6.9958860272824663E-2,6.7620199391503849E-2]
["2022-01-10",18239.380859000001,2.6771785389801089E-3,2.673601279734047E-3,"2022-01-10",643,1.2441679626749611E-2,1.2364917970949935E-2,"2022-01-10",62.099997999999999,3.8647376445970265E-2,3.791926706841342E-2,"2022-01-10",68.699996999999996,0,0,"2022-01-10",1238.0952150000001,-4.2307717019970978E-2,-4.3228760354806162E-2]
["2022-01-11",18288.210938,4.7675222740805774E-3,4.7561936318642533E-3,"2022-01-11",651,1.3824884792626729E-2,1.3730192811902037E-2,"2022-01-11",64.5,3.1007286821704838E-3,3.0959313372753185E-3,"2022-01-11",68.699996999999996,8.733712171777935E-3,8.6957939257195187E-3,"2022-01-11",1185.7142329999999,-1.2048134029609664E-2,-1.2121301074512486E-2]
["2022-01-12",18375.400390999999,3.3484602071657222E-3,3.3428665974610905E-3,"2022-01-12",660,1.5151515151515152E-3,1.5140048312150113E-3,"2022-01-12",64.699996999999996,4.1731145675323669E-2,4.0883892452849388E-2,"2022-01-12",69.300003000000004,7.2150069026692531E-3,7.1891032623686993E-3,"2022-01-12",1171.4285890000001,-2.0325242378048294E-2,-2.0534642379467487E-2]
["2022-01-13",18436.929688,-1.8224080998622031E-3,-1.8240707057748354E-3,"2022-01-13",661,1.6641452344931921E-2,1.6504500671463199E-2,"2022-01-13",67.400002000000001,4.4509642596152381E-3,4.4410880132307066E-3,"2022-01-13",69.800003000000004,-7.1633234743557241E-3,-7.1891032623687089E-3,"2022-01-13",1147.619019,1.2448178152753293E-2,1.2371336617355412E-2]
["2022-01-14",18403.330077999999,6.6351782249438607E-3,6.6132623204458582E-3,"2022-01-14",672,1.636904761904762E-2,1.6236519047640573E-2,"2022-01-14",67.699996999999996,-1.7725214965666782E-2,-1.7884187943273615E-2,"2022-01-14",69.300003000000004,-7.2150069026692531E-3,-7.2411609419517544E-3,"2022-01-14",1161.9047849999999,-4.0984106972241476E-3,-4.1068322000731754E-3]
["2022-01-17",18525.439452999999,-7.9241752063391145E-3,-7.9557383344358457E-3,"2022-01-17",683,-3.074670571010249E-2,-3.1229303633781881E-2,"2022-01-17",66.5,6.0150676691729417E-3,5.9970493677401837E-3,"2022-01-17",68.800003000000004,-7.2674415435708623E-3,-7.2939780433394523E-3,"2022-01-17",1157.142822,-8.2304472869988068E-3,-8.2645044172823517E-3]
["2022-01-18",18378.640625,-8.2258361804166263E-3,-8.2598550550890149E-3,"2022-01-18",662,-1.2084592145015106E-2,-1.2158204479809519E-2,"2022-01-18",66.900002000000001,-1.195820592053198E-2,-1.2030280429094499E-2,"2022-01-18",68.300003000000004,0,0,"2022-01-18",1147.619019,0,0]
["2022-01-19",18227.460938,-5.037257263219607E-4,-5.038526387467952E-4,"2022-01-19",654,-4.5871559633027525E-3,-4.5977092486294314E-3,"2022-01-19",66.099997999999999,-4.5385024066112011E-3,-4.5488326764783933E-3,"2022-01-19",68.300003000000004,0,0,"2022-01-19",1147.619019,0,0]
["2022-01-20",18218.279297000001,-1.750870709576427E-2,-1.7663797461974096E-2,"2022-01-20",651,-1.5360983102918587E-2,-1.5480185287899172E-2,"2022-01-20",65.800003000000004,-2.1276609972191083E-2,-2.1506219757767592E-2,"2022-01-20",68.300003000000004,-7.3206438951400922E-3,-7.3475713064721938E-3,"2022-01-20",1147.619019,-4.1493221366698209E-3,-4.1579544609045534E-3]
["2022-01-21",17899.300781000002,{"$f":"(B262-B261)/B261","v":5.0135076837892504E-3},{"$f":"LN(B262/B261)","v":5.0009819020988659E-3},"2022-01-21",641,{"$f":"(F262-F261)/F261","v":1.8720748829953199E-2},{"$f":"LN(F262/F261)","v":1.854767235576105E-2},"2022-01-21",64.400002000000001,{"$f":"(J262-J261)/J261","v":-1.5527794548825765E-3},{"$f":"LN(J262/J261)","v":-1.5539862663367533E-3},"2022-01-21",67.800003000000004,{"$f":"(N262-N261)/N261","v":4.4247048189657977E-3},{"$f":"LN(N262/N261)","v":4.4149445927540876E-3},"2022-01-21",1142.857178,{"$f":"(R262-R261)/R261","v":-5.4166685209374385E-2},{"$f":"LN(R262/R261)","v":-5.5688925465213736E-2}]
["2022-01-24",17989.039063,-1.6005297503199987E-2,-1.6134765585838904E-2,"2022-01-24",653,-1.8376722817764167E-2,-1.8547672355761002E-2,"2022-01-24",64.300003000000004,-2.0217775106480224E-2,-2.0424951508338625E-2,"2022-01-24",68.099997999999999,-7.3421441216488734E-3,-7.3692303237715097E-3,"2022-01-24",1080.952393,-2.202647512895603E-2,-2.2272679997741445E-2]
["2022-01-25",17701.119140999999,-1.5094384590696882E-3,-1.5105788089703508E-3,"2022-01-25",641,-7.8003120124804995E-3,-7.830893580547945E-3,"2022-01-25",63,4.7618888888888841E-3,4.7505869608094461E-3,"2022-01-25",67.599997999999999,0,0,"2022-01-25",1057.142822,1.8018008166544672E-2,1.785760772289537E-2]
["2022-01-26",17674.400390999999,1.2781219447480294E-2,1.2700229036282214E-2,"2022-01-26",636,-1.5723270440251573E-3,-1.573564447430552E-3,"2022-01-26",63.299999,3.7914660946519074E-2,3.7213566476121208E-2,"2022-01-26",67.599997999999999,-8.8757103217665684E-3,-8.9153340721531103E-3,"2022-01-26",1076.1904300000001,4.4248330660215246E-3,4.4150722748459749E-3]
["2022-02-07",17900.300781000002,3.7016007055216426E-3,3.6947666410900404E-3,"2022-02-07",635,-1.1023622047244094E-2,-1.108483242449293E-2,"2022-02-07",65.699996999999996,4.5662559162674516E-3,4.5558621979621813E-3,"2022-02-07",67,1.1940343283582146E-2,1.1869619803170434E-2,"2022-02-07",1080.952393,-1.3215907650060661E-2,-1.3304014896737992E-2]
["2022-02-08",17966.560547000001,1.0307995151076495E-2,1.0255230060815374E-2,"2022-02-08",628,7.9617834394904458E-3,7.9302556759775645E-3,"2022-02-08",66,0,0,"2022-02-08",67.800003000000004,8.849542381288638E-3,8.8106146741338855E-3,"2022-02-08",1066.666626,4.4642946389512453E-2,4.3675148935353542E-2]
["2022-02-09",18151.759765999999,1.026297270355812E-2,1.0210665976462904E-2,"2022-02-09",633,2.5276461295418641E-2,2.4962294559913775E-2,"2022-02-09",66,-3.0302575757575182E-3,-3.0348581024498018E-3,"2022-02-09",68.400002000000001,5.8479676652641492E-3,5.8309346756777293E-3,"2022-02-09",1114.2857670000001,5.5555464166671009E-2,5.4067134691328872E-2]
["2022-02-10",18338.050781000002,-1.4784192891478221E-3,-1.4795132292794897E-3,"2022-02-10",649,1.5408320493066256E-3,1.5396461855928362E-3,"2022-02-10",65.800003000000004,-3.0395895270704533E-3,-3.0442184617377522E-3,"2022-02-10",68.800003000000004,0,0,"2022-02-10",1176.1904300000001,-1.2145690557948306E-2,-1.2220052186470685E-2]
["2022-02-11",18310.939452999999,-1.7108326517276159E-2,-1.7256364823272845E-2,"2022-02-11",650,-0.02,-2.0202707317519466E-2,"2022-02-11",65.599997999999999,-2.1341479309191492E-2,-2.1572501495295639E-2,"2022-02-11",68.800003000000004,-1.0174490835414707E-2,-1.022660475705758E-2,"2022-02-11",1161.9047849999999,-5.3278707342615812E-2,-5.4750534648457312E-2]
["2022-02-14",17997.669922000001,-2.5480729004782108E-3,-2.5513247633950202E-3,"2022-02-14",637,-6.2794348508634227E-3,-6.2992334279872008E-3,"2022-02-14",64.199996999999996,1.5577259294888689E-3,1.5565139329288024E-3,"2022-02-14",68.099997999999999,-2.9367989115065573E-3,-2.9411197671595952E-3,"2022-02-14",1100,1.298706090909098E-2,1.290345214359913E-2]
["2022-02-15",17951.810547000001,1.5578381649461716E-2,1.5458284337330031E-2,"2022-02-15",633,2.0537124802527645E-2,2.032908163842569E-2,"2022-02-15",64.300003000000004,7.7760494039168238E-3,7.7459717546529364E-3,"2022-02-15",67.900002000000001,7.3637700334677455E-3,7.336789848539341E-3,"2022-02-15",1114.2857670000001,1.7094005473373305E-2,1.6949546888434298E-2]
["2022-02-16",18231.470702999999,2.0349214061977107E-3,2.0328537581586425E-3,"2022-02-16",646,-1.5479876160990713E-3,-1.5491869868293781E-3,"2022-02-16",64.800003000000004,-1.5433023976867343E-3,-1.5444945155221755E-3,"2022-02-16",68.400002000000001,1.4619590215801362E-3,1.4608913999091121E-3,"2022-02-16",1133.333374,-6.3025223326742069E-2,-6.5098916344829658E-2]
["2022-02-17",18268.570313,-1.982678632176518E-3,-1.9846467413046171E-3,"2022-02-17",645,-1.2403100775193798E-2,-1.2480661223609144E-2,"2022-02-17",64.699996999999996,-1.5455796698104461E-3,-1.5467753101987163E-3,"2022-02-17",68.5,-1.3138715328467162E-2,-1.322579180506041E-2,"2022-02-17",1061.9047849999999,1.7937208937240153E-2,1.7778235417779589E-2]
["2022-02-18",18232.349609000001,-5.9561028791590889E-4,-5.9578773418613199E-4,"2022-02-18",637,-7.8492935635792772E-3,-7.8802614253059757E-3,"2022-02-18",64.599997999999999,0,0,"2022-02-18",67.599997999999999,1.3313639447149106E-2,1.3225791805060496E-2,"2022-02-18",1080.952393,1.3215793861515645E-2,1.3129227122503867E-2]
["2022-02-21",18221.490234000001,-1.3840864153328756E-2,-1.393754202031558E-2,"2022-02-21",632,-7.9113924050632917E-3,-7.9428535139367696E-3,"2022-02-21",64.599997999999999,-1.3931842536589538E-2,-1.4029801552098669E-2,"2022-02-21",68.5,-1.3138715328467162E-2,-1.322579180506041E-2,"2022-02-21",1095.2380370000001,-3.0434709966158824E-2,-3.0907462540283592E-2]
["2022-02-22",17969.289063,4.8105078446306973E-3,4.7989743250371128E-3,"2022-02-22",627,-3.189792663476874E-3,-3.1948908965191767E-3,"2022-02-22",63.700001,0,0,"2022-02-22",67.599997999999999,5.9171895241772144E-3,5.8997517129875327E-3,"2022-02-22",1061.9047849999999,8.9686044686201841E-3,8.9286253954226468E-3]
["2022-02-23",18055.730468999998,-2.5542012204479846E-2,-2.5873872512829871E-2,"2022-02-23",625,-3.3599999999999998E-2,-3.417745180158651E-2,"2022-02-23",63.700001,-1.0989026515085931E-2,-1.1049851885171984E-2,"2022-02-23",68,-1.7647014705882296E-2,-1.780457972332793E-2,"2022-02-23",1071.4285890000001,-0.11111109897777804,-0.11778302200638385]
["2022-02-24",17594.550781000002,3.2753838229408346E-3,3.2700314375735734E-3,"2022-02-24",604,0,0,"2022-02-24",63,-1.1111126984126989E-2,-1.1173316649489713E-2,"2022-02-24",66.800003000000004,4.4909429120833354E-3,4.4808887185976802E-3,"2022-02-24",952.38098100000002,4.4999971497750875E-2,4.4016858141894454E-2]
["2022-02-25",17652.179688,1.3939939222762337E-2,1.3843671878997434E-2,"2022-02-25",604,0,0,"2022-02-25",62.299999,4.815393335720594E-3,4.8038364151276533E-3,"2022-02-25",67.099997999999999,5.9612818468340436E-3,5.9435837071077323E-3,"2022-02-25",995.23809800000004,-8.5167461103363096E-2,-8.9014248055684253E-2]
["2022-03-01",17898.25,-1.7124797675749986E-3,-1.7139477372037999E-3,"2022-03-01",604,-4.9668874172185433E-3,-4.9792633996073379E-3,"2022-03-01",62.599997999999999,-9.584632894077719E-3,-9.6308611120789964E-3,"2022-03-01",67.5,7.4074074074074077E-3,7.38010729762246E-3,"2022-03-01",910.47619599999996,-8.368235252577589E-3,-8.4034455025659045E-3]
["2022-03-02",17867.599609000001,3.7386545177758817E-3,3.7316831193382437E-3,"2022-03-02",601,1.6638935108153079E-3,1.6625107736134572E-3,"2022-03-02",62,1.6128709677419252E-3,1.611571688221784E-3,"2022-03-02",68,0,0,"2022-03-02",902.85711700000002,-8.4387871087690386E-3,-8.4745952666248642E-3]
["2022-03-03",17934.400390999999,-1.1033592185178369E-2,-1.1094913745354363E-2,"2022-03-03",602,-1.1627906976744186E-2,-1.1696039763191298E-2,"2022-03-03",62.099997999999999,-1.4492705780763455E-2,-1.4598750875163831E-2,"2022-03-03",68,-1.1764750000000056E-2,-1.1834502289861082E-2,"2022-03-03",895.23809800000004,4.1489390457107179E-2,4.0651794875940263E-2]
["2022-03-04",17736.519531000002,-3.1450932468741893E-2,-3.1956133989154201E-2,"2022-03-04",595,-3.1932773109243695E-2,-3.2453744849738515E-2,"2022-03-04",61.200001,-2.9411747885428951E-2,-2.9852945819517241E-2,"2022-03-04",67.199996999999996,-1.4880953045280643E-2,-1.4992785260504822E-2,"2022-03-04",932.38098100000002,-3.7793668809295494E-2,-3.8526369827077543E-2]
["2022-03-07",17178.689452999999,-2.057429665790228E-2,-2.0788896090451883E-2,"2022-03-07",576,-2.2569444444444444E-2,-2.2828032556200833E-2,"2022-03-07",59.400002000000001,-1.515154831139569E-2,-1.5267505800821504E-2,"2022-03-07",66.199996999999996,-1.2084517163950863E-2,-1.2158128581548591E-2,"2022-03-07",897.14288299999998,-3.7155033642506122E-2,-3.7862870427314399E-2]
["2022-03-08",16825.25,1.1299052020029419E-2,1.1235694538056337E-2,"2022-03-08",563,8.8809946714031966E-3,8.8417905814610117E-3,"2022-03-08",58.5,8.5470085470085479E-3,8.5106896679086105E-3,"2022-03-08",65.400002000000001,-4.5872169851004178E-3,-4.597770551635477E-3,"2022-03-08",863.80950900000005,2.0948225055947952E-2,2.0731827863379525E-2]
["2022-03-09",17015.359375,2.4556627620449436E-2,2.425996059091784E-2,"2022-03-09",568,3.345070422535211E-2,3.2903401106945E-2,"2022-03-09",59,2.2033881355932199E-2,2.1794643243672245E-2,"2022-03-09",65.099997999999999,1.3824915939321544E-2,1.3730223533868689E-2,"2022-03-09",881.90478499999995,2.2678185151246231E-2,2.2424857959174555E-2]
["2022-03-10",17433.199218999998,-9.663113630709751E-3,-9.7101044768514912E-3,"2022-03-10",587,-2.0442930153321975E-2,-2.0654779030746025E-2,"2022-03-10",60.299999,0,0,"2022-03-10",66,4.5455000000000573E-3,4.535200414259124E-3,"2022-03-10",901.90478499999995,-3.0623054073274425E-2,-3.1101737649892131E-2]
["2022-03-11",17264.740234000001,-9.8534410419361151E-5,-9.8539265253337239E-5,"2022-03-11",575,-5.2173913043478265E-3,-5.2310494175525557E-3,"2022-03-11",60.299999,1.4925406549343403E-2,1.4815118708757838E-2,"2022-03-11",66.300003000000004,-1.2066409710418924E-2,-1.2139799799478424E-2,"2022-03-11",874.285706,-1.960780427079294E-2,-1.980258765238925E-2]
["2022-03-14",17263.039063,-1.9520231331819654E-2,-1.9713267247363879E-2,"2022-03-14",572,-2.4475524475524476E-2,-2.4780028998486966E-2,"2022-03-14",61.200001,1.6339542216674042E-3,1.6326207708023744E-3,"2022-03-14",65.5,-3.0533893129770415E-3,-3.0580604170148194E-3,"2022-03-14",857.14288299999998,-0.1399999957766668,-0.15082288482373105]
["2022-03-15",16926.060547000001,8.725911714061468E-4,8.7221068505331561E-4,"2022-03-15",558,0,0,"2022-03-15",61.299999,1.1419266091668294E-2,1.135455841613971E-2,"2022-03-15",65.300003000000004,0,0,"2022-03-15",737.14288299999998,-1.6795903868205724E-2,-1.693855461633538E-2]
["2022-03-16",16940.830077999999,2.9950753455635956E-2,2.9510988919511587E-2,"2022-03-16",558,4.3010752688172046E-2,4.2111485350126848E-2,"2022-03-16",62,1.7741903225806443E-2,1.7586352806354264E-2,"2022-03-16",65.300003000000004,3.0627410537790662E-3,3.0580604170148715E-3,"2022-03-16",724.76190199999996,1.3140756948894256E-3,1.3132130530586329E-3]
["2022-03-17",17448.220702999999,4.7562603323648978E-4,4.7551295902744506E-4,"2022-03-17",582,-1.718213058419244E-3,-1.7196908795265881E-3,"2022-03-17",63.099997999999999,3.1695880560883745E-3,3.1645755008962739E-3,"2022-03-17",65.5,0,0,"2022-03-17",725.714294,-2.6247037101903179E-3,-2.6281542841187161E-3]
["2022-03-18",17456.519531000002,5.9484849666392673E-3,5.9308625797431964E-3,"2022-03-18",581,8.6058519793459545E-3,8.5690327251013668E-3,"2022-03-18",63.299999,4.7393207699734669E-3,4.7281255471930657E-3,"2022-03-18",65.5,3.0533893129770415E-3,3.0487371872569349E-3,"2022-03-18",723.80950900000005,4.2105273032548615E-2,4.1242968009727023E-2]
["2022-03-21",17560.359375,-3.6926180504197721E-5,-3.6926862292402621E-5,"2022-03-21",586,-5.1194539249146756E-3,-5.1326032265202022E-3,"2022-03-21",63.599997999999999,0,0,"2022-03-21",65.699996999999996,-3.0440945073406354E-3,-3.0487371872570676E-3,"2022-03-21",754.285706,-2.5252510883455571E-2,-2.5576827048324442E-2]
["2022-03-22",17559.710938,9.7756850101970074E-3,9.7282121373226497E-3,"2022-03-22",583,1.2006861063464836E-2,1.1935350549272854E-2,"2022-03-22",63.599997999999999,1.886800373798761E-2,1.869221075498919E-2,"2022-03-22",65.5,6.1069007633587887E-3,6.0883292162684545E-3,"2022-03-22",735.23809800000004,-5.1813269883085522E-3,-5.1947966101435154E-3]
["2022-03-23",17731.369140999999,-1.8221150179142992E-3,-1.8237770887799395E-3,"2022-03-23",590,1.6949152542372881E-3,1.6934805063331477E-3,"2022-03-23",64.800003000000004,-7.7160490254915568E-3,-7.7459717546530735E-3,"2022-03-23",65.900002000000001,-4.552412608424523E-3,-4.5628063952367522E-3,"2022-03-23",731.42858899999999,-7.8125125076290835E-3,-7.8431900671402845E-3]
["2022-03-24",17699.060547000001,-1.2492938786940625E-3,-1.2500748968403315E-3,"2022-03-24",591,1.1844331641285956E-2,1.1774736544533537E-2,"2022-03-24",64.300003000000004,-1.2441725702563401E-2,-1.2519772001225322E-2,"2022-03-24",65.599997999999999,-1.5243598025719354E-3,-1.5255228210317633E-3,"2022-03-24",725.714294,7.8740284534067513E-3,7.8431900671402516E-3]
["2022-03-25",17676.949218999998,-8.8781978754180792E-3,-8.9178439054798577E-3,"2022-03-25",598,-2.3411371237458192E-2,-2.3689771122404665E-2,"2022-03-25",63.5,-3.1496220472440996E-3,-3.1545925463039165E-3,"2022-03-25",65.5,0,0,"2022-03-25",731.42858899999999,-3.6458360256957395E-2,-3.7139574891812875E-2]
["2022-03-28",17520.009765999999,1.6352953213303887E-3,1.6339596818480894E-3,"2022-03-28",584,8.5616438356164379E-3,8.5252008233596271E-3,"2022-03-28",63.299999,7.8988942796033856E-3,7.8678613244208689E-3,"2022-03-28",65.5,1.5266870229007537E-3,1.5255228210317247E-3,"2022-03-28",704.76190199999996,-5.4054021495617027E-2,-5.5569816735892189E-2]
["2022-03-29",17548.660156000002,1.0935330064750682E-2,1.0875971686518483E-2,"2022-03-29",589,1.8675721561969439E-2,1.8503471564559726E-2,"2022-03-29",63.799999,9.4044358840820828E-3,9.3604894894452496E-3,"2022-03-29",65.599997999999999,1.5243750464748009E-3,1.5232143662253113E-3,"2022-03-29",666.66668700000002,3.8571439823571078E-2,3.7846153324364591E-2]
["2022-03-30",17740.560547000001,-2.6543605471341762E-3,-2.6578896084086126E-3,"2022-03-30",600,-5.0000000000000001E-3,-5.0125418235442863E-3,"2022-03-30",64.400002000000001,1.5527639269327874E-3,1.5515596355187592E-3,"2022-03-30",65.699996999999996,-1.5220548640207221E-3,-1.5232143662252272E-3,"2022-03-30",692.38098100000002,-3.1636895872505288E-2,-3.2148154471090221E-2]
["2022-03-31",17693.470702999999,-3.8364920110609676E-3,-3.8438702235508394E-3,"2022-03-31",597,-1.340033500837521E-2,-1.3490929741015402E-2,"2022-03-31",64.5,7.7519379844961239E-3,7.7220460939103185E-3,"2022-03-31",65.599997999999999,7.6219514518887635E-3,7.5930511382159933E-3,"2022-03-31",670.47619599999996,-5.3977292879164286E-2,-5.5488706919352697E-2]
["2022-04-01",17625.589843999998,-5.8488734228143583E-3,-5.8660450722456264E-3,"2022-04-01",589,-1.8675721561969439E-2,-1.8852314979209188E-2,"2022-04-01",65,7.6923076923076927E-3,7.6628727455690972E-3,"2022-04-01",66.099997999999999,-3.0256581853451603E-3,-3.0302447429793214E-3,"2022-04-01",634.285706,-4.9549577899521496E-2,-5.0819278224145996E-2]
["2022-04-06",17522.5,-1.9624433785133354E-2,-1.9819549900202179E-2,"2022-04-06",578,-2.0761245674740483E-2,-2.0979790469194522E-2,"2022-04-06",65.5,-1.0686977099236583E-2,-1.0744492986681963E-2,"2022-04-06",65.900002000000001,-6.0698328962114547E-3,-6.0883292162684875E-3,"2022-04-06",602.85711700000002,-3.4755054571247716E-2,-3.5373380392551231E-2]
["2022-04-07",17178.630859000001,6.1651132077567969E-3,6.1461866470830136E-3,"2022-04-07",566,1.7667844522968198E-3,1.7652255245691492E-3,"2022-04-07",64.800003000000004,3.0863733139024113E-3,3.0816202411127862E-3,"2022-04-07",65.5,7.6335877862595417E-3,7.6045993852192125E-3,"2022-04-07",581.90478499999995,-1.6366601969083187E-2,-1.6502014325422504E-2]
["2022-04-08",17284.539063,-1.3663651725926327E-2,-1.3757858538851777E-2,"2022-04-08",567,-1.5873015873015872E-2,-1.6000341346441189E-2,"2022-04-08",65,-3.0768769230768646E-3,-3.0816202411128521E-3,"2022-04-08",66,-7.575757575757576E-3,-7.6045993852193036E-3,"2022-04-08",572.38098100000002,-4.9917399334412525E-3,-5.0042402835712698E-3]
["2022-04-11",17048.369140999999,-3.3703508250424435E-3,-3.3760432512988563E-3,"2022-04-11",558,-1.7921146953405018E-3,-1.7937224540268775E-3,"2022-04-11",64.800003000000004,1.5431943730002116E-3,1.5420048721605389E-3,"2022-04-11",65.5,3.0533893129770415E-3,3.0487371872569349E-3,"2022-04-11",569.52380400000004,-3.3445221896292515E-3,-3.3501276057497052E-3]
["2022-04-12",16990.910156000002,1.8288616215786754E-2,1.8123390928228837E-2,"2022-04-12",557,2.8725314183123879E-2,2.8320476787455515E-2,"2022-04-12",64.900002000000001,7.7041600091167948E-3,7.6746345175074671E-3,"2022-04-12",65.699996999999996,4.5662559162674516E-3,4.5558621979621813E-3,"2022-04-12",567.61901899999998,3.1879261254986267E-2,3.1381665306973887E-2]
["2022-04-13",17301.650390999999,-3.2366854452873565E-3,-3.241934841780481E-3,"2022-04-13",573,0,0,"2022-04-13",65.400002000000001,-1.0703440039650219E-2,-1.0761133905190151E-2,"2022-04-13",66,4.5455000000000573E-3,4.535200414259124E-3,"2022-04-13",585.714294,-3.7398412885583335E-2,-3.8115673335745677E-2]
["2022-04-14",17245.650390999999,-1.4001832202629804E-2,-1.4100782598905456E-2,"2022-04-14",573,-1.9197207678883072E-2,-1.9383866821048531E-2,"2022-04-14",64.699996999999996,-1.0819119512478435E-2,-1.0878071779330213E-2,"2022-04-14",66.300003000000004,1.6591236051678563E-2,1.6455105151166896E-2,"2022-04-14",563.80950900000005,-7.0945947809475482E-2,-7.3588358663324527E-2]
["2022-04-15",17004.179688,-6.1932153701198265E-3,-6.2124728802067835E-3,"2022-04-15",562,-1.7793594306049821E-3,-1.7809443709948087E-3,"2022-04-15",64,-1.8750015625000005E-2,-1.8928025809085876E-2,"2022-04-15",67.400002000000001,-5.9347475983754514E-3,-5.9524282008853345E-3,"2022-04-15",523.80950900000005,2.7272712225619417E-2,2.6907438272297034E-2]
["2022-04-18",16898.869140999999,5.5939394057232198E-3,5.5783514317884111E-3,"2022-04-18",561,7.1301247771836003E-3,7.1048256237445824E-3,"2022-04-18",62.799999,-1.5923248661198126E-3,-1.5935939627477829E-3,"2022-04-18",67,-2.9850298507462119E-3,-2.9894939381873401E-3,"2022-04-18",538.09521500000005,7.0797321622714932E-3,7.0547885188729925E-3]
["2022-04-19",16993.400390999999,9.1494618159145315E-3,9.1078590594980829E-3,"2022-04-19",565,8.8495575221238937E-3,8.8106296821549059E-3,"2022-04-19",62.700001,1.9138771624581E-2,1.895792909455497E-2,"2022-04-19",66.800003000000004,7.4850296039657357E-3,7.4571557744254353E-3,"2022-04-19",541.90478499999995,-1.7574895560295118E-3,-1.7590357526811626E-3]
["2022-04-20",17148.880859000001,-1.2205834405233076E-3,-1.2213289591978883E-3,"2022-04-20",570,-8.771929824561403E-3,-8.8106296821549197E-3,"2022-04-20",63.900002000000001,0,0,"2022-04-20",67.300003000000004,2.9717234930880495E-3,2.9673166512798168E-3,"2022-04-20",540.95239300000003,1.7605621350860592E-2,1.7452437714701549E-2]
["2022-04-21",17127.949218999998,-6.0053526364906729E-3,-6.0234572862296097E-3,"2022-04-21",565,-1.2389380530973451E-2,-1.2466768765130047E-2,"2022-04-21",63.900002000000001,4.694757286548998E-3,4.6837712845491999E-3,"2022-04-21",67.5,-1.4814518518518425E-3,-1.4825502866327629E-3,"2022-04-21",550.47619599999996,-3.8062303424288159E-2,-3.8805594888051721E-2]
["2022-04-22",17025.089843999998,-2.374081174922222E-2,-2.4027166091965681E-2,"2022-04-22",558,-1.9713261648745518E-2,-1.9910159959329751E-2,"2022-04-22",64.199996999999996,-6.2304987335123482E-3,-6.2499892901794864E-3,"2022-04-22",67.400002000000001,2.9672996152136422E-3,2.9629058712677694E-3,"2022-04-22",529.52380400000004,-6.2949602545157787E-2,-6.5018212219112123E-2]
["2022-04-25",16620.900390999999,1.4372670215228747E-3,1.4362351418832778E-3,"2022-04-25",547,-1.8281535648994515E-3,-1.829826677076116E-3,"2022-04-25",63.799999,3.1348119613606941E-3,3.1299086829090685E-3,"2022-04-25",67.599997999999999,8.8757251146663763E-3,8.836567398026355E-3,"2022-04-25",496.19049100000001,5.7581030910969612E-3,5.7415885800048876E-3]
["2022-04-26",16644.789063,-2.0513294143149657E-2,-2.0726614066522715E-2,"2022-04-26",546,-3.6630036630036632E-2,-3.7317763007195165E-2,"2022-04-26",64,-3.125E-2,-3.1748698314580298E-2,"2022-04-26",68.199996999999996,-1.3196393542363242E-2,-1.328423963394138E-2,"2022-04-26",499.04760700000003,-2.862593628266813E-2,-2.9043649326743814E-2]
["2022-04-27",16303.349609000001,7.1170190655757528E-3,7.0918126112669653E-3,"2022-04-27",526,9.5057034220532317E-3,9.4608085042288889E-3,"2022-04-27",62,1.6128709677419252E-3,1.611571688221784E-3,"2022-04-27",67.300003000000004,1.4858840348045748E-2,1.4749529273404659E-2,"2022-04-27",484.76190200000002,9.823177069719401E-3,9.775243318041589E-3]
["2022-04-28",16419.380859000001,1.0524077033348227E-2,1.0469084429092069E-2,"2022-04-28",531,1.3182674199623353E-2,1.30965389198455E-2,"2022-04-28",62.099997999999999,6.4412562460952191E-3,6.4206000090423565E-3,"2022-04-28",68.300003000000004,1.464114137740182E-3,1.4630433676617689E-3,"2022-04-28",489.52380399999998,-9.7276209268874776E-3,-9.7752433180415491E-3]
["2022-04-29",16592.179688,-5.6218832458440372E-3,-5.6377455099258884E-3,"2022-04-29",538,-1.3011152416356878E-2,-1.3096538919845569E-2,"2022-04-29",62.5,-3.2000160000000052E-3,-3.205147000312822E-3,"2022-04-29",68.400002000000001,2.9239180431602724E-3,2.9196517090496099E-3,"2022-04-29",484.76190200000002,-3.9292588632512272E-3,-3.9369986820120299E-3]
["2022-05-03",16498.900390999999,4.0566150115379429E-3,4.0484091334350592E-3,"2022-05-03",531,5.6497175141242938E-3,5.6338177182560642E-3,"2022-05-03",62.299999,9.6308669282643318E-3,9.5847857608537534E-3,"2022-05-03",68.599997999999999,-5.8309185373446098E-3,-5.8479847161745802E-3,"2022-05-03",482.857147,2.3668613110535582E-2,2.3392854231817844E-2]
["2022-05-04",16565.830077999999,7.8649281313725779E-3,7.8341608007221029E-3,"2022-05-04",534,1.4981273408239701E-2,1.4870162479451407E-2,"2022-05-04",62.900002000000001,-9.5389981068681202E-3,-9.5847857608537413E-3,"2022-05-04",68.199996999999996,-2.9325074603741728E-3,-2.9368156850389376E-3,"2022-05-04",494.285706,8.4778468184147623E-2,8.1375789356700673E-2]
["2022-05-05",16696.119140999999,-1.7244721337245816E-2,-1.7395143376603368E-2,"2022-05-05",542,-2.5830258302583026E-2,-2.616971773338472E-2,"2022-05-05",62.299999,-1.7656468983249893E-2,-1.7814203883893421E-2,"2022-05-05",68,-1.029407352941171E-2,-1.0347423948902472E-2,"2022-05-05",536.19049099999995,-5.8614595983202421E-2,-6.0402654685113882E-2]
["2022-05-06",16408.199218999998,{"$f":"(B326-B325)/B325","v":-2.1896327086519583E-2},{"$f":"LN(B326/B325)","v":-2.2139609541446618E-2},"2022-05-06",528,{"$f":"(F326-F325)/F325","v":-1.5151515151515152E-2},{"$f":"LN(F326/F325)","v":-1.5267472130788421E-2},"2022-05-06",61.200001,{"$f":"(J326-J325)/J325","v":-4.0849672535136071E-2},{"$f":"LN(J326/J325)","v":-4.1707461988323778E-2},"2022-05-06",67.300003000000004,{"$f":"(N326-N325)/N325","v":-1.18871168549577E-2},{"$f":"LN(N326/N325)","v":-1.1958333565395751E-2},"2022-05-06",504.76190200000002,{"$f":"(R326-R325)/R325","v":-4.7169782239230976E-2},{"$f":"LN(R326/R325)","v":-4.8318546749605007E-2}]
["2022-05-09",16048.919921999999,7.9633228043470992E-4,7.9601537611391092E-4,"2022-05-09",520,-3.8461538461538464E-3,-3.8535693159899662E-3,"2022-05-09",58.700001,-1.1925059422060322E-2,-1.1996733323406441E-2,"2022-05-09",66.5,6.0150676691729417E-3,5.9970493677401837E-3,"2022-05-09",480.95239299999997,1.9801585642594995E-3,1.9782006345379368E-3]
["2022-05-10",16061.700194999999,-3.4523241205349519E-3,-3.4582971426193499E-3,"2022-05-10",518,5.7915057915057912E-3,5.7747994938839578E-3,"2022-05-10",58,-3.1034465517241375E-2,-3.1526235853179846E-2,"2022-05-10",66.900002000000001,-8.9685946496682739E-3,-9.0090545888638976E-3,"2022-05-10",481.90475500000002,-5.9288645118266052E-3,-5.9465100087686771E-3]
["2022-05-11",16006.25,-2.4338637219835989E-2,-2.4639717139692398E-2,"2022-05-11",521,-3.0710172744721688E-2,-3.1191612478007055E-2,"2022-05-11",56.200001,-3.7366600758601425E-2,-3.808262580938112E-2,"2022-05-11",66.300003000000004,-1.508295557694017E-2,-1.5197860216493213E-2,"2022-05-11",479.04760700000003,-6.9582082266826401E-3,-6.9825294446081692E-3]
["2022-05-12",15616.679688,1.382242290375389E-2,1.3727764491292588E-2,"2022-05-12",505,1.1881188118811881E-2,1.1811160928344619E-2,"2022-05-12",54.099997999999999,3.6968762919362829E-3,3.6900596398248705E-3,"2022-05-12",65.300003000000004,-1.5314853814020128E-3,-1.5326593038552186E-3,"2022-05-12",475.714294,4.1041028714600671E-2,4.0221201646370511E-2]
["2022-05-13",15832.540039,4.3265325608692748E-3,4.3172000275257701E-3,"2022-05-13",511,1.7612524461839529E-2,1.745922137176855E-2,"2022-05-13",54.299999,-2.0257790428320255E-2,-2.0465793379092261E-2,"2022-05-13",65.199996999999996,-1.0736150800743078E-2,-1.0794199118609413E-2,"2022-05-13",495.23809799999998,-3.8461378631657064E-3,-3.8535532712915608E-3]
["2022-05-16",15901.040039,9.7509222428039041E-3,9.7036887987287639E-3,"2022-05-16",520,1.9230769230769232E-2,1.9048194970694411E-2,"2022-05-16",53.200001,-1.1278251667702055E-2,-1.1342333423741224E-2,"2022-05-16",64.5,-4.6512093023256401E-3,-4.6620598347844426E-3,"2022-05-16",493.33334400000001,4.8262578010538799E-2,4.713410605282968E-2]
["2022-05-17",16056.089844,1.4995587988066293E-2,1.4884265674516381E-2,"2022-05-17",530,1.509433962264151E-2,1.4981553615616894E-2,"2022-05-17",52.599997999999999,2.8517111350460509E-2,2.8118067163008704E-2,"2022-05-17",64.199996999999996,1.4018707820188889E-2,1.3921354525614596E-2,"2022-05-17",517.14288299999998,9.5764257090240265E-2,9.1452071494047854E-2]
["2022-05-18",16296.860352,-1.6968915056455133E-2,-1.7114536808456777E-2,"2022-05-18",538,-2.9739776951672861E-2,-3.0190972279145682E-2,"2022-05-18",54.099997999999999,-2.5877949200663539E-2,-2.621867436120991E-2,"2022-05-18",65.099997999999999,-9.2165594229357637E-3,-9.2592946908300559E-3,"2022-05-18",566.66668700000002,-4.5378164254077626E-2,-4.6440000435704148E-2]
["2022-05-19",16020.320313,7.773208872668351E-3,7.7431531371105712E-3,"2022-05-19",522,1.532567049808429E-2,1.5209418663528708E-2,"2022-05-19",52.700001,3.7950853169813094E-3,3.7879021487877648E-3,"2022-05-19",64.5,1.5503565891472769E-3,1.5491560270765336E-3,"2022-05-19",540.95239300000003,6.6901432488902873E-2,6.4758589879015629E-2]
["2022-05-20",16144.849609000001,7.1605169945681418E-4,7.157954567534483E-4,"2022-05-20",530,-3.7735849056603774E-3,-3.7807228399060443E-3,"2022-05-20",52.900002000000001,-1.1342211291409799E-2,-1.14070247210182E-2,"2022-05-20",64.599997999999999,7.7399383201219299E-3,7.710138663753573E-3,"2022-05-20",577.14288299999998,-3.960401778011699E-2,-4.0409598088309538E-2]
["2022-05-23",16156.410156,-1.1932122986392962E-2,-1.2003882163328147E-2,"2022-05-23",528,-1.5151515151515152E-2,-1.5267472130788421E-2,"2022-05-23",52.299999,-5.7361186565223392E-3,-5.752633368990792E-3,"2022-05-23",65.099997999999999,-1.0752627058452424E-2,-1.0810854326348847E-2,"2022-05-23",554.285706,-5.4982830461083466E-2,-5.6552182829195052E-2]
["2022-05-24",15963.629883,8.7950166114485022E-3,8.756565739091924E-3,"2022-05-24",520,7.6923076923076927E-3,7.6628727455690972E-3,"2022-05-24",52,-1.1538423076923064E-2,-1.1605507209802874E-2,"2022-05-24",64.400002000000001,7.7639749141622701E-3,7.7339903604767357E-3,"2022-05-24",523.80950900000005,2.0000013020000283E-2,1.9802640060885716E-2]
["2022-05-25",16104.030273,-8.3954260336107246E-3,-8.430866118560195E-3,"2022-05-25",524,-1.9083969465648856E-2,-1.9268418865877032E-2,"2022-05-25",51.400002000000001,1.9454863056230886E-3,1.9435962980660466E-3,"2022-05-25",64.900002000000001,0,0,"2022-05-25",534.285706,-1.6042749981411648E-2,-1.6172827976710064E-2]
["2022-05-26",15968.830078000001,1.8623133163005332E-2,1.8451845953664326E-2,"2022-05-26",514,3.1128404669260701E-2,3.0653741091002305E-2,"2022-05-26",51.5,2.1359184466019403E-2,2.1134274051159363E-2,"2022-05-26",64.900002000000001,1.5408011851833128E-3,1.5396153689523709E-3,"2022-05-26",525.714294,7.2463504292695638E-3,7.2202217809628827E-3]
["2022-05-27",16266.219727,2.1172676859168283E-2,2.0951650111821062E-2,"2022-05-27",530,3.2075471698113207E-2,3.1571795875813789E-2,"2022-05-27",52.599997999999999,2.6616008616578288E-2,2.6267964843424654E-2,"2022-05-27",65,1.5384615384615385E-2,1.5267472130788381E-2,"2022-05-27",529.52380400000004,1.4388548621319282E-2,1.4286015817427904E-2]
["2022-05-30",16610.619140999999,1.1868936872640474E-2,1.1799053459126772E-2,"2022-05-30",547,2.376599634369287E-2,2.3487981307213759E-2,"2022-05-30",54,3.1481500000000003E-2,3.0996118322285101E-2,"2022-05-30",66,2.1212151515151524E-2,2.0990305565425898E-2,"2022-05-30",537.14288299999998,3.5460285527044535E-3,3.5397562170037477E-3]
["2022-05-31",16807.769531000002,-7.8939496853101792E-3,-7.9252718520932183E-3,"2022-05-31",560,-1.9642857142857142E-2,-1.9838342219664327E-2,"2022-05-31",55.700001,-1.7953321042130682E-2,-1.811643717708851E-2,"2022-05-31",67.400002000000001,-2.6706290008715449E-2,-2.7069382129613465E-2,"2022-05-31",539.04760699999997,0,0]
["2022-06-01",16675.089843999998,-7.3474585232344561E-3,-7.3745840473934373E-3,"2022-06-01",549,-1.6393442622950821E-2,-1.6529301951210582E-2,"2022-06-01",54.700001,-3.6563253444913159E-3,-3.6630260402726426E-3,"2022-06-01",65.599997999999999,-7.6219514518887635E-3,-7.6511469696810787E-3,"2022-06-01",539.04760699999997,-1.0600722321729917E-2,-1.0657310249165174E-2]
["2022-06-02",16552.570313,3.225518695309106E-3,3.2203278689587737E-3,"2022-06-02",540,0,0,"2022-06-02",54.5,5.504568807339444E-3,5.4894740365960659E-3,"2022-06-02",65.099997999999999,1.5360829965001971E-3,1.5349044277792444E-3,"2022-06-02",533.33331299999998,-1.249992422655952E-2,-1.2578705474265133E-2]
["2022-06-06",16605.960938,-5.6052208810753613E-3,-5.6209890820767654E-3,"2022-06-06",540,-9.2592592592592587E-3,-9.3023926623135612E-3,"2022-06-06",54.799999,0,0,"2022-06-06",65.199996999999996,-6.1348775828930242E-3,-6.1537732658118903E-3,"2022-06-06",526.66668700000002,4.1591246495527798E-2,4.0749588534711619E-2]
["2022-06-07",16512.880859000001,9.5458150728487869E-3,9.5005416664918473E-3,"2022-06-07",535,1.6822429906542057E-2,1.6682499959936061E-2,"2022-06-07",54.799999,0,0,"2022-06-07",64.800003000000004,7.7160490254915568E-3,7.6864325696670757E-3,"2022-06-07",548.57141100000001,-2.4305519268119451E-2,-2.4605773610807229E-2]
["2022-06-08",16670.509765999999,-2.9495152032053915E-3,-2.9538735953781527E-3,"2022-06-08",544,-5.5147058823529415E-3,-5.5299680094610861E-3,"2022-06-08",54.799999,0,0,"2022-06-08",65.300003000000004,-6.1255893051031431E-3,-6.1444276975065465E-3,"2022-06-08",535.23809800000004,1.7793583893947564E-2,1.7637131256034295E-2]
["2022-06-09",16621.339843999998,-9.6996213610418894E-3,-9.7469691072219894E-3,"2022-06-09",541,-2.0332717190388171E-2,-2.0542272300314038E-2,"2022-06-09",54.799999,0,0,"2022-06-09",64.900002000000001,-4.6225576387501693E-3,-4.6332746978814988E-3,"2022-06-09",544.76190199999996,-1.9230779468128005E-2,-1.9418096295192946E-2]
["2022-06-10",16460.119140999999,-2.3641303484292876E-2,-2.392524316501525E-2,"2022-06-10",530,-2.6415094339622643E-2,-2.677024106460478E-2,"2022-06-10",54.799999,-1.8248175515477656E-2,-1.8416727125416518E-2,"2022-06-10",64.599997999999999,-3.095913408542191E-3,-3.1007156625952898E-3,"2022-06-10",534.285706,-6.4171108481797953E-2,-6.6322627423051089E-2]
["2022-06-13",16070.980469,-1.4691295310539831E-3,-1.4702097599705412E-3,"2022-06-13",516,-5.8139534883720929E-3,-5.8309203107932096E-3,"2022-06-13",53.799999,-7.4348886140313689E-3,-7.4626651610460127E-3,"2022-06-13",64.400002000000001,-6.2112109872294822E-3,-6.2305808065361724E-3,"2022-06-13",500,-2.6666688000000022E-2,-2.702869430572782E-2]
["2022-06-14",16047.370117,-2.9986294731884876E-3,-3.0031343704797807E-3,"2022-06-14",513,-7.7972709551656916E-3,-7.8278286202467916E-3,"2022-06-14",53.400002000000001,3.7452433054215753E-3,3.7382473439906742E-3,"2022-06-14",64,1.5624687499999901E-3,1.5612493657039528E-3,"2022-06-14",486.66665599999999,0,0]
["2022-06-15",15999.25,-1.0040448646030303E-2,-1.0091193906392704E-2,"2022-06-15",509,-1.9646365422396855E-3,-1.9665689720408269E-3,"2022-06-15",53.599997999999999,1.8657276815570209E-3,1.8639893734700012E-3,"2022-06-15",64.099997999999999,1.5600468505474344E-3,1.5588312415665804E-3,"2022-06-15",486.66665599999999,-1.5655580480122232E-2,-1.5779423335262416E-2]
["2022-06-16",15838.610352,-1.246009476930407E-2,-1.2538372663138345E-2,"2022-06-16",508,-1.3779527559055118E-2,-1.3875346493617068E-2,"2022-06-16",53.700001,-1.3035400129694603E-2,-1.3121106584670948E-2,"2022-06-16",64.199996999999996,-9.3457792529179854E-3,-9.3897250674073347E-3,"2022-06-16",479.04760700000003,-1.5904575847301993E-2,-1.6032410866792138E-2]
["2022-06-17",15641.259765999999,-1.7497291912183844E-2,-1.7652178919042413E-2,"2022-06-17",501,-5.9880239520958087E-3,-6.0060240602119218E-3,"2022-06-17",53,-2.2641528301886798E-2,-2.2901783591703972E-2,"2022-06-17",63.599997999999999,-9.4339311142745529E-3,-9.4787125080024303E-3,"2022-06-17",471.42855800000001,-5.3535295161308408E-2,-5.502159921432985E-2]
["2022-06-20",15367.580078000001,2.3494887820164147E-2,2.3223131304744026E-2,"2022-06-20",498,1.4056224899598393E-2,1.3958352250706855E-2,"2022-06-20",51.799999,4.6332085836526767E-2,4.5290796935367035E-2,"2022-06-20",63,2.6984079365079305E-2,2.6626428747469427E-2,"2022-06-20",446.19049100000001,2.8815307047859114E-2,2.8407952936275235E-2]
["2022-06-21",15728.639648,-2.4216312187458178E-2,-2.4514348472508125E-2,"2022-06-21",505,-2.0792079207920793E-2,-2.1011278212593038E-2,"2022-06-21",54.200001,-2.2140239443907028E-2,-2.2389013343662972E-2,"2022-06-21",64.699996999999996,-1.0819119512478435E-2,-1.0878071779330213E-2,"2022-06-21",459.04760700000003,-4.3568465873736709E-2,-4.4546072249485653E-2]
["2022-06-22",15347.75,-1.1161868677819188E-2,-1.1224629791892147E-2,"2022-06-22",494.5,-1.8200202224469161E-2,-1.8367863331387208E-2,"2022-06-22",53,0,0,"2022-06-22",64,3.125E-2,3.0771658666753687E-2,"2022-06-22",439.04760700000003,-1.9522737086686847E-2,-1.9715822892211576E-2]
["2022-06-23",15176.440430000001,8.3603189815966358E-3,8.3255650829592055E-3,"2022-06-23",485.5,2.0597322348094747E-3,2.0576138946801622E-3,"2022-06-23",53,7.5472075471698236E-3,7.5188698672101935E-3,"2022-06-23",66,6.0606363636363731E-3,6.0423445764441397E-3,"2022-06-23",430.47619600000002,1.1062098309379143E-3,1.1055984316920083E-3]
["2022-06-24",15303.320313,1.5989304804143588E-2,1.586282233330806E-2,"2022-06-24",486.5,2.4665981500513873E-2,2.4366687775833305E-2,"2022-06-24",53.400002000000001,1.8726216527107876E-3,1.8708704826288277E-3,"2022-06-24",66.400002000000001,3.0119878610846838E-3,3.0074609134432134E-3,"2022-06-24",430.95239299999997,4.0883979962028007E-2,4.0070332856941518E-2]
["2022-06-27",15548.009765999999,-6.9520051522200784E-3,-6.976282924934742E-3,"2022-06-27",498.5,-2.0060180541624875E-3,-2.0080328032455234E-3,"2022-06-27",53.5,5.6074579439252276E-3,5.5917946784170098E-3,"2022-06-27",66.599997999999999,7.5075077329581899E-3,7.4794666550634615E-3,"2022-06-27",448.57144199999999,-4.0339719174543383E-2,-4.1175931288633456E-2]
["2022-06-28",15439.919921999999,-1.2939836476439436E-2,-1.302428545547144E-2,"2022-06-28",497.5,-1.3065326633165829E-2,-1.3151428804126895E-2,"2022-06-28",53.799999,-1.858736094028552E-2,-1.8762276807556343E-2,"2022-06-28",67.099997999999999,-2.9805664077664912E-3,-2.9850171418277522E-3,"2022-06-28",430.47619600000002,-5.5309701723902953E-3,-5.5463226233825637E-3]
["2022-06-29",15240.129883,-2.7191330860129492E-2,-2.7567856276357966E-2,"2022-06-29",491,-3.0549898167006109E-2,-3.1026273563100618E-2,"2022-06-29",52.799999,-3.5984792348196806E-2,-3.6648208923614561E-2,"2022-06-29",66.900002000000001,1.4947383708598298E-3,1.4936223614175766E-3,"2022-06-29",428.09524499999998,-4.5606213168754038E-2,-4.6678918245557741E-2]
["2022-06-30",14825.730469,-3.255491471460388E-2,-3.3096615084015048E-2,"2022-06-30",476,-4.7268907563025209E-2,-4.8422584676228765E-2,"2022-06-30",50.900002000000001,-2.3575657226889701E-2,-2.3858009625899949E-2,"2022-06-30",67,1.34328656716418E-2,1.3343444628764974E-2,"2022-06-30",408.57144199999999,-5.1282079083735797E-2,-5.2643762789900725E-2]
["2022-07-01",14343.080078000001,-8.786153832697121E-3,-8.8249796694293524E-3,"2022-07-01",453.5,-2.9768467475192944E-2,-3.0220542642884408E-2,"2022-07-01",49.700001,-8.4507060673902207E-2,-8.8292627266402496E-2,"2022-07-01",67.900002000000001,1.4727245516134059E-3,1.4716411563757863E-3,"2022-07-01",387.61904900000002,2.7027041181353188E-2,2.6668260864005065E-2]
["2022-07-04",14217.059569999999,9.2945115935812329E-3,9.2515834133342616E-3,"2022-07-04",440,1.3636363636363636E-2,1.3544225107757253E-2,"2022-07-04",45.5,2.7472527472527472E-2,2.7101929777791179E-2,"2022-07-04",68,1.029407352941171E-2,1.0241450384073664E-2,"2022-07-04",398.09524499999998,3.9473628980421546E-2,3.8714459047930048E-2]
["2022-07-05",14349.200194999999,-2.534569342246188E-2,-2.5672428210981674E-2,"2022-07-05",446,-2.3542600896860985E-2,-2.3824155727506593E-2,"2022-07-05",46.75,-3.8502652406417107E-2,-3.9263472570125968E-2,"2022-07-05",68.699996999999996,1.3100451809335643E-2,1.3015383044560951E-2,"2022-07-05",413.80950899999999,-3.337165700559093E-2,-3.394119763976975E-2]
["2022-07-06",13985.509765999999,2.5080227383111085E-2,2.4770880145055799E-2,"2022-07-06",435.5,5.0516647531572902E-2,4.9282088423018428E-2,"2022-07-06",44.950001,2.22464956118687E-3,2.2221786922182866E-3,"2022-07-06",69.599997999999999,1.4367816504822313E-2,1.4265577565842633E-2,"2022-07-06",400,2.2619017500000071E-2,2.2367000694043543E-2]
["2022-07-07",14336.269531,8.9465911423230477E-3,8.9068075050118944E-3,"2022-07-07",457.5,2.0765027322404372E-2,2.0552372953321199E-2,"2022-07-07",45.049999,-5.549389690330515E-3,-5.5648447572777095E-3,"2022-07-07",70.599997999999999,-2.5495680608942729E-2,-2.5826327626635802E-2,"2022-07-07",409.04760700000003,3.8416787510995004E-2,3.7697233546364485E-2]
["2022-07-08",14464.530273,-8.5726945610852465E-3,-8.6096514722276401E-3,"2022-07-08",467,-1.0706638115631691E-2,-1.076436658715843E-2,"2022-07-08",44.799999,5.580357267418689E-3,5.564844757277739E-3,"2022-07-08",68.800003000000004,7.2674415435708623E-3,7.2411609419517995E-3,"2022-07-08",424.76190200000002,-2.4663690294898472E-2,-2.4972934429138022E-2]
["2022-07-11",14340.530273,-2.7189382022651785E-2,-2.7565852968217848E-2,"2022-07-11",462,-2.7056277056277056E-2,-2.7429037170063942E-2,"2022-07-11",45.049999,-2.7746948451652573E-2,-2.8139167305438473E-2,"2022-07-11",69.300003000000004,2.8859594710262306E-3,2.8818030848464732E-3,"2022-07-11",414.285706,-5.0574667908045066E-2,-5.1898391009007457E-2]
["2022-07-12",13950.620117,2.681311424602386E-2,2.6459941890848843E-2,"2022-07-12",449.5,4.6718576195773083E-2,4.5660105113759411E-2,"2022-07-12",43.799999,3.8812809105315281E-2,3.8078531405554762E-2,"2022-07-12",69.5,-1.2949669064748211E-2,-1.3034246993426341E-2,"2022-07-12",393.33334400000001,1.6949124964091497E-2,1.6807091197737409E-2]
["2022-07-13",14324.679688,7.9471126391304301E-3,7.9157006527928332E-3,"2022-07-13",470.5,9.5642933049946872E-3,9.5188450092068399E-3,"2022-07-13",45.5,-1.098901098901099E-2,-1.1049836186584935E-2,"2022-07-13",68.599997999999999,7.2886299501058295E-3,7.2621962527435599E-3,"2022-07-13",400,2.6190490000000038E-2,2.5853392283410336E-2]
["2022-07-14",14438.519531,7.7639944842902101E-3,7.7340097798331122E-3,"2022-07-14",475,3.6842105263157891E-2,3.6179656577502259E-2,"2022-07-14",45,-1.8888844444444431E-2,-1.9069517420238453E-2,"2022-07-14",69.099997999999999,-8.6830393251241395E-3,-8.7209565618841349E-3,"2022-07-14",410.47619600000002,-1.8561488033279321E-2,-1.8735914230858408E-2]
["2022-07-15",14550.620117,1.1615967542340582E-2,1.1549020131904118E-2,"2022-07-15",492.5,6.0913705583756344E-3,6.072893157899082E-3,"2022-07-15",44.150002000000001,2.3782535728990445E-2,2.3504136611997836E-2,"2022-07-15",68.5,-8.7590948905109395E-3,-8.7976812484486123E-3,"2022-07-15",402.857147,2.6004744058816497E-2,2.5672370576890292E-2]
["2022-07-18",14719.639648,-1.7364263399934721E-3,-1.73793567569718E-3,"2022-07-18",495.5,-9.0817356205852677E-3,-9.1232259755220629E-3,"2022-07-18",45.200001,-5.5309733289607673E-3,-5.5463257975090167E-3,"2022-07-18",67.900002000000001,-5.8910454818543396E-3,-5.9084661412469146E-3,"2022-07-18",413.33334400000001,6.9124522409689682E-3,6.8886707722573557E-3]
["2022-07-19",14694.080078000001,2.6636338438497261E-3,2.6600926581102882E-3,"2022-07-19",491,8.1466395112016286E-3,8.113634774169631E-3,"2022-07-19",44.950001,-1.112324780593435E-3,-1.1129438729325955E-3,"2022-07-19",67.5,4.444488888888945E-3,4.4346413156525306E-3,"2022-07-19",416.19049100000001,0,0]
["2022-07-20",14733.219727,1.387887181409982E-2,1.3783442228943291E-2,"2022-07-20",495,1.2121212121212121E-2,1.2048338516174574E-2,"2022-07-20",44.900002000000001,3.3406902743567594E-3,3.3351225651508478E-3,"2022-07-20",67.800003000000004,1.4749114391631639E-3,1.4738248255945121E-3,"2022-07-20",416.19049100000001,1.7562892853311227E-2,1.7410447582427435E-2]
["2022-07-21",14937.700194999999,7.8058582297047192E-4,7.8028132430499396E-4,"2022-07-21",501,3.9920159680638719E-3,3.9840690148745129E-3,"2022-07-21",45.049999,-1.1098557405073346E-3,-1.1104720864686776E-3,"2022-07-21",67.900002000000001,2.5036759203630049E-2,2.4728474585010311E-2,"2022-07-21",423.5,-2.3612750885478157E-3,-2.3640672948805068E-3]
["2022-07-22",14949.360352,-8.7162752741160401E-4,-8.7200761556450795E-4,"2022-07-22",503,-6.958250497017893E-3,-6.9825720111310313E-3,"2022-07-22",45,1.2222199999999992E-2,1.2148111981750583E-2,"2022-07-22",69.599997999999999,5.747155337561944E-3,5.73070344461756E-3,"2022-07-22",422.5,-1.6568047337278107E-2,-1.6706832501725673E-2]
["2022-07-25",14936.330078000001,-8.673469608897897E-3,-8.7113030702005035E-3,"2022-07-25",499.5,-9.0090090090090089E-3,-9.0498355199179273E-3,"2022-07-25",45.549999,1.0976729110356222E-3,1.0970709086200973E-3,"2022-07-25",70,7.1428571428571426E-3,7.1174677688639549E-3,"2022-07-25",415.5,-2.0457280385078221E-2,-2.0669428852907887E-2]
["2022-07-26",14806.780273,7.7538512008146539E-3,7.7239445913780506E-3,"2022-07-26",495,1.4141414141414142E-2,1.4042357123038984E-2,"2022-07-26",45.599997999999999,-7.6753950734822262E-3,-7.7050025147551923E-3,"2022-07-26",70.5,-1.4184113475177215E-3,-1.4194182451357613E-3,"2022-07-26",407,2.334152334152334E-2,2.3073276164302336E-2]
["2022-07-27",14921.589844,-1.9896977004725171E-3,-1.991679778536001E-3,"2022-07-27",502,-1.9920318725099601E-3,-1.9940186068643953E-3,"2022-07-27",45.25,1.2154674033149165E-2,1.2081399140142673E-2,"2022-07-27",70.400002000000001,-7.1022725255036213E-3,-7.1276137210198086E-3,"2022-07-27",416.5,-2.6410564225690276E-2,-2.6765588051429819E-2]
["2022-07-28",14891.900390999999,7.2636748272486449E-3,7.2374213955215651E-3,"2022-07-28",501,1.5968063872255488E-2,1.5841915465657923E-2,"2022-07-28",45.799999,-6.5501966495676058E-3,-6.5717433291731303E-3,"2022-07-28",69.900002000000001,7.1530756179377505E-3,7.1276137210196724E-3,"2022-07-28",405.5,-1.2330456226880395E-3,-1.2338064489284325E-3]
["2022-07-29",15000.070313,-1.2253197896059495E-3,-1.2260711076986664E-3,"2022-07-29",509,-9.823182711198428E-3,-9.8717484791541171E-3,"2022-07-29",45.5,-1.0988791208791139E-3,-1.0994833312169298E-3,"2022-07-29",70.400002000000001,-5.6818464294930079E-3,-5.6980495237282207E-3,"2022-07-29",405,-3.7037037037037038E-3,-3.7105793965356015E-3]
["2022-08-01",14981.690430000001,-1.5649766766673238E-2,-1.5773517174608329E-2,"2022-08-01",504,-2.3809523809523808E-2,-2.409755157906053E-2,"2022-08-01",45.450001,-1.3201385848154348E-2,-1.3289298713971767E-2,"2022-08-01",70,-2.9999971428571418E-2,-3.0459178029628022E-2,"2022-08-01",403.5,-4.9566294919454771E-3,-4.9689543231871778E-3]
["2022-08-02",14747.230469,2.0199767042780748E-3,2.0179392945539709E-3,"2022-08-02",492,1.8292682926829267E-2,1.8127384592556701E-2,"2022-08-02",44.849997999999999,2.2297213926297378E-3,2.227239252853971E-3,"2022-08-02",67.900002000000001,8.8364945850811522E-3,8.7976812484486123E-3,"2022-08-02",401.5,2.3661270236612703E-2,2.3385681109418334E-2]
["2022-08-03",14777.019531,-5.0632223800638945E-3,-5.0760839227668884E-3,"2022-08-03",501,-1.996007984031936E-3,-1.9980026626731087E-3,"2022-08-03",44.950001,-2.2247607958896585E-3,-2.2272392528540053E-3,"2022-08-03",68.5,-4.9635065693430666E-2,-5.0909226775622748E-2,"2022-08-03",411,-2.1897810218978103E-2,-2.2141125877213518E-2]
["2022-08-04",14702.200194999999,2.2706794872343943E-2,2.2452832860113806E-2,"2022-08-04",500,3.2000000000000001E-2,3.1498667059371016E-2,"2022-08-04",44.849997999999999,2.0066935120041714E-2,1.9868247809814322E-2,"2022-08-04",65.099997999999999,1.0752765307304686E-2,1.069536543141888E-2,"2022-08-04",402,3.3582089552238806E-2,3.3030525676481751E-2]
["2022-08-05",15036.040039,{"$f":"(B390-B389)/B389","v":-1.0394946381799542E-3},{"$f":"LN(B390/B389)","v":-1.040035287431858E-3},"2022-08-05",516,{"$f":"(F390-F389)/F389","v":-7.7519379844961239E-3},{"$f":"LN(F390/F389)","v":-7.7821404420549628E-3},"2022-08-05",45.75,{"$f":"(J390-J389)/J389","v":8.7432131147541121E-3},{"$f":"LN(J390/J389)","v":8.7052125642745632E-3},"2022-08-05",65.800003000000004,{"$f":"(N390-N389)/N389","v":3.0394679465287591E-3},{"$f":"LN(N390/N389)","v":3.0348581024497345E-3},"2022-08-05",415.5,{"$f":"(R390-R389)/R389","v":0},{"$f":"LN(R390/R389)","v":0}]
["2022-08-08",15020.410156,1.9886352429642927E-3,1.9866605254613722E-3,"2022-08-08",512,-3.90625E-3,-3.9138993211363287E-3,"2022-08-08",46.150002000000001,-1.0835102455683809E-3,-1.0840976671510716E-3,"2022-08-08",66,3.0302575757575182E-3,3.0256755993153129E-3,"2022-08-08",415.5,1.684717208182912E-2,1.67068325017256E-2]
["2022-08-09",15050.280273,-7.392602661333866E-3,-7.4200633694958473E-3,"2022-08-09",510,-1.9607843137254902E-2,-1.9802627296179754E-2,"2022-08-09",46.099997999999999,6.5076792411140946E-3,6.4865957170029687E-3,"2022-08-09",66.199996999999996,-9.0634294137505299E-3,-9.1047521635028526E-3,"2022-08-09",422.5,-1.301775147928994E-2,-1.310322499842711E-2]
["2022-08-10",14939.019531,1.7325774122117041E-2,1.7177394309179115E-2,"2022-08-10",500,2.8000000000000001E-2,2.7615167032973391E-2,"2022-08-10",46.400002000000001,1.7241357015458741E-2,1.7094411442293282E-2,"2022-08-10",65.599997999999999,6.097591649316828E-3,6.0790765641876021E-3,"2022-08-10",417,4.6762589928057555E-2,4.5702153480855379E-2]
["2022-08-11",15197.849609000001,5.9955928203183802E-3,5.9776907736355757E-3,"2022-08-11",514,5.8365758754863814E-3,5.8196090532640025E-3,"2022-08-11",47.200001,1.0593008250148063E-3,1.0587401618016186E-3,"2022-08-11",66,-1.5151212121212025E-3,-1.516270168950763E-3,"2022-08-11",436.5,8.1328751431844218E-2,7.8190610305898425E-2]
["2022-08-12",15288.969727,8.3968955588475599E-3,8.361837745817462E-3,"2022-08-12",517,1.160541586073501E-2,1.1538589556493806E-2,"2022-08-12",47.25,1.0581798941798875E-3,1.0576204164861351E-3,"2022-08-12",65.900002000000001,-3.0349771461312615E-3,-3.0395920290114211E-3,"2022-08-12",472,2.2245762711864406E-2,2.2001935193485235E-2]
["2022-08-15",15417.349609000001,2.0890127561998563E-4,2.0887945878674485E-4,"2022-08-15",523,3.8240917782026767E-3,3.8167985267008112E-3,"2022-08-15",47.299999,-4.2283510407685274E-3,-4.2373157967119119E-3,"2022-08-15",65.699996999999996,1.5221614089268162E-3,1.5210040955125298E-3,"2022-08-15",482.5,0,0]
["2022-08-16",15420.570313,2.9103905425705424E-3,2.9061635554847851E-3,"2022-08-16",525,3.8095238095238095E-3,3.8022859497384787E-3,"2022-08-16",47.099997999999999,7.4310618866693144E-3,7.4035875712261077E-3,"2022-08-16",65.800003000000004,3.0394679465287591E-3,3.0348581024497345E-3,"2022-08-16",482.5,-1.7616580310880828E-2,-1.7773599083964163E-2]
["2022-08-17",15465.450194999999,-4.4415408626260313E-3,-4.451433809396158E-3,"2022-08-17",527,-1.3282732447817837E-2,-1.3371736965889308E-2,"2022-08-17",47.450001,-4.2149841050582977E-3,-4.2238921910004662E-3,"2022-08-17",66,-1.5151212121212025E-3,-1.516270168950763E-3,"2022-08-17",474,1.1603375527426161E-2,1.1536572628416331E-2]
["2022-08-18",15396.759765999999,7.8071666913615532E-4,7.804120684051294E-4,"2022-08-18",520,-1.9230769230769232E-3,-1.9249284095843938E-3,"2022-08-18",47.25,5.2910052910052907E-3,5.2770571008438193E-3,"2022-08-18",65.900002000000001,-1.5174354622932613E-3,-1.5185879334989924E-3,"2022-08-18",479.5,3.1282586027111575E-3,3.1233757822683762E-3]
["2022-08-19",15408.780273,-1.0619959665901584E-2,-1.0676753897071876E-2,"2022-08-19",519,-1.348747591522158E-2,-1.3579258126380866E-2,"2022-08-19",47.5,-1.2631536842105251E-2,-1.2711992944439523E-2,"2022-08-19",65.800003000000004,6.0789358930575183E-3,6.0605337017652014E-3,"2022-08-19",481,4.1580041580041582E-3,4.1493835468113969E-3]
["2022-08-22",15245.139648,-9.7900054342617976E-3,-9.8382426238927713E-3,"2022-08-22",512,-1.5625E-2,-1.5748356968139168E-2,"2022-08-22",46.900002000000001,-1.1727163679012238E-2,-1.1796469234238913E-2,"2022-08-22",66.199996999999996,-4.5316467310413258E-3,-4.5419457682661698E-3,"2022-08-22",483,-9.316770186335404E-3,-9.360442759563695E-3]
["2022-08-23",15095.889648,-1.7686415721472255E-3,-1.7702074652606965E-3,"2022-08-23",504,-1.984126984126984E-3,-1.9860979716294028E-3,"2022-08-23",46.349997999999999,0,0,"2022-08-23",65.900002000000001,-1.5174354622932613E-3,-1.5185879334989924E-3,"2022-08-23",478.5,3.9707419017763847E-2,3.8939345705638423E-2]
["2022-08-24",15069.190430000001,8.6832540611804423E-3,8.6457714351264314E-3,"2022-08-24",503,9.9403578528827041E-3,9.8912774787427004E-3,"2022-08-24",46.349997999999999,4.3150163674225035E-3,4.3057333788816578E-3,"2022-08-24",65.800003000000004,4.5591943210093102E-3,4.548832676478304E-3,"2022-08-24",497.5,9.0452261306532659E-3,9.0045630930817525E-3]
["2022-08-25",15200.040039,5.1579068738531395E-3,5.1446504363011477E-3,"2022-08-25",508,7.874015748031496E-3,7.8431774610258787E-3,"2022-08-25",46.549999,4.2964769988502113E-3,4.2872734938973504E-3,"2022-08-25",66.099997999999999,4.5386385639527745E-3,4.5283700024155811E-3,"2022-08-25",502,0,0]
["2022-08-26",15278.440430000001,-2.3055363642243164E-2,-2.3325295527837103E-2,"2022-08-26",512,-2.63671875E-2,-2.6721035637614764E-2,"2022-08-26",46.75,-2.4598973262032101E-2,-2.4906583074005697E-2,"2022-08-26",66.400002000000001,-6.0241263245745177E-3,-6.0423445764440859E-3,"2022-08-26",502,-2.4900398406374501E-2,-2.52156577211641E-2]
["2022-08-29",14926.190430000001,1.8383426855421037E-3,1.8366550016717413E-3,"2022-08-29",498.5,-5.0150451354062184E-3,-5.0276626769655006E-3,"2022-08-29",45.599997999999999,-2.5219233562247065E-2,-2.5542688203589133E-2,"2022-08-29",66,-6.0606363636363731E-3,-6.0790765641875735E-3,"2022-08-29",489.5,1.3278855975485188E-2,1.3191464754362503E-2]
["2022-08-30",14953.629883,9.4833527450895357E-3,9.4386680405187974E-3,"2022-08-30",496,1.8145161290322582E-2,1.798250255043227E-2,"2022-08-30",44.450001,2.249673740164806E-3,2.2471470130276628E-3,"2022-08-30",65.599997999999999,6.097591649316828E-3,6.0790765641876021E-3,"2022-08-30",496,4.0322580645161289E-3,4.024150299725548E-3]
["2022-08-31",15095.440430000001,-1.9448261835179913E-2,-1.9639867614138884E-2,"2022-08-31",505,-2.8712871287128714E-2,-2.9133150269942079E-2,"2022-08-31",44.549999,0,0,"2022-08-31",66,-4.5455000000000573E-3,-4.5558621979623079E-3,"2022-08-31",498,-1.8072289156626505E-2,-1.8237587549780901E-2]
["2022-09-01",14801.860352,-8.702981242664826E-3,-8.7410733549141192E-3,"2022-09-01",490.5,-1.1213047910295617E-2,-1.1276388067934609E-2,"2022-09-01",44.549999,-1.1223344808604822E-2,-1.1286801789416342E-2,"2022-09-01",65.699996999999996,-3.0440945073406354E-3,-3.0487371872570676E-3,"2022-09-01",489,0,0]
["2022-09-02",14673.040039,-8.1376660652883416E-4,-8.1409789431331108E-4,"2022-09-02",485,2.0618556701030928E-3,2.0597329630105622E-3,"2022-09-02",44.049999,0,0,"2022-09-02",65.5,3.0533893129770415E-3,3.0487371872569349E-3,"2022-09-02",489,-3.8854805725971372E-2,-3.9629794770767716E-2]
["2022-09-05",14661.099609000001,1.0981840673202302E-3,1.0975815043071787E-3,"2022-09-05",486,6.1728395061728392E-3,6.1538655743782859E-3,"2022-09-05",44.049999,4.5403179237302662E-3,4.5300417732258222E-3,"2022-09-05",65.699996999999996,1.0654566696555625E-2,1.0598206774406378E-2,"2022-09-05",470,2.7659574468085105E-2,2.7283958948468509E-2]
["2022-09-06",14677.200194999999,-1.8201726926843142E-2,-1.8369416299274736E-2,"2022-09-06",489,-3.3742331288343558E-2,-3.4324742541074607E-2,"2022-09-06",44.25,-2.4858711864406767E-2,-2.5172907574560605E-2,"2022-09-06",66.400002000000001,1.5059939305423419E-3,1.5048610589388665E-3,"2022-09-06",483,-4.5548654244306416E-2,-4.6618610655924181E-2]
["2022-09-07",14410.049805000001,1.203119484985004E-2,1.1959395340639379E-2,"2022-09-07",472.5,5.2910052910052907E-3,5.2770571008438193E-3,"2022-09-07",43.150002000000001,0,0,"2022-09-07",66.5,6.0150676691729417E-3,5.9970493677401837E-3,"2022-09-07",461,2.6030368763557483E-2,2.5697345495284431E-2]
["2022-09-08",14583.419921999999,1.5360578465005202E-2,1.5243799126726638E-2,"2022-09-08",475,2.4210526315789474E-2,2.3922097591418532E-2,"2022-09-08",43.150002000000001,2.0857403436505034E-2,2.0642865801334662E-2,"2022-09-08",66.900002000000001,4.4842300602621144E-3,4.4742058566971093E-3,"2022-09-08",473,1.7970401691331923E-2,1.781084274624737E-2]
["2022-09-12",14807.429688,5.8741098105965723E-3,5.8569244936815638E-3,"2022-09-12",486.5,1.3360739979445015E-2,1.327227241663043E-2,"2022-09-12",44.049999,-9.0805223400799405E-3,-9.1220015760875902E-3,"2022-09-12",67.199996999999996,8.9286611128867703E-3,8.8890363078908442E-3,"2022-09-12",481.5,7.2689511941848393E-3,7.2426596993029144E-3]
["2022-09-13",14894.410156,-1.585162376536883E-2,-1.5978604441048053E-2,"2022-09-13",493,-2.6369168356997971E-2,-2.6723070140753508E-2,"2022-09-13",43.650002000000001,-1.8327696754744736E-2,-1.8497729735283151E-2,"2022-09-13",67.800003000000004,-1.1799453755186467E-2,-1.1869619803170474E-2,"2022-09-13",485,-1.6494845360824743E-2,-1.6632400049142033E-2]
["2022-09-14",14658.309569999999,8.0026069472621223E-4,7.9994065686749851E-4,"2022-09-14",480,-7.2916666666666668E-3,-7.3183808076798399E-3,"2022-09-14",42.849997999999999,5.8343059899326017E-3,5.817352336646783E-3,"2022-09-14",67,-1.4925074626865576E-3,-1.4936223614175426E-3,"2022-09-14",477,1.6771488469601678E-2,1.663240004914205E-2]
["2022-09-15",14670.040039,-7.3810482256448807E-3,-7.408422948045364E-3,"2022-09-15",476.5,-9.4438614900314802E-3,-9.4887375087014583E-3,"2022-09-15",43.099997999999999,-6.9605339656860239E-3,-6.9848714827239235E-3,"2022-09-15",66.900002000000001,-1.7937293933115345E-2,-1.8100117201085314E-2,"2022-09-15",485,-8.2474226804123713E-3,-8.2816208317219864E-3]
["2022-09-16",14561.759765999999,-9.3450297345057196E-3,-9.3889684783643578E-3,"2022-09-16",472,-1.059322033898305E-2,-1.0649727916658039E-2,"2022-09-16",42.799999,-1.1682009618738469E-3,-1.1688838404956422E-3,"2022-09-16",65.699996999999996,-7.6103504236080871E-3,-7.6394569081271076E-3,"2022-09-16",481,-2.4948024948024949E-2,-2.5264501659481818E-2]
["2022-09-19",14425.679688,8.5694483500027927E-3,8.5329390555613765E-3,"2022-09-19",467,2.0342612419700215E-2,2.0138465425359423E-2,"2022-09-19",42.75,7.01752046783625E-3,6.9930122621665531E-3,"2022-09-19",65.199996999999996,4.6012732178500534E-3,4.5907197208699454E-3,"2022-09-19",469,-5.3304904051172707E-3,-5.3447481588808163E-3]
["2022-09-20",14549.299805000001,-8.576376572920626E-3,-8.6133653286571167E-3,"2022-09-20",476.5,-1.1542497376705142E-2,-1.1609629077839008E-2,"2022-09-20",43.049999,-1.1614402128092964E-2,-1.1682376127315571E-2,"2022-09-20",65.5,3.0533893129770415E-3,3.0487371872569349E-3,"2022-09-20",466.5,-2.3579849946409433E-2,-2.3862303587385454E-2]
["2022-09-21",14424.519531,-9.6980455882333481E-3,-9.745377901574934E-3,"2022-09-21",471,-1.3800424628450107E-2,-1.3896535762524538E-2,"2022-09-21",42.549999,-2.1151516360787673E-2,-2.1378414885562028E-2,"2022-09-21",65.699996999999996,-6.0881890146812709E-3,-6.1067976042717981E-3,"2022-09-21",455.5,-2.3051591657519209E-2,-2.3321434533772833E-2]
["2022-09-22",14284.629883,-1.163838344862211E-2,-1.1706639543857011E-2,"2022-09-22",464.5,-2.0452099031216361E-2,-2.0664139302942794E-2,"2022-09-22",41.650002000000001,1.0804225171465747E-2,1.074627655033809E-2,"2022-09-22",65.300003000000004,3.0627410537790662E-3,3.0580604170148715E-3,"2022-09-22",445,-5.3932584269662923E-2,-5.5441448483858839E-2]
["2022-09-23",14118.379883,-2.4095502162370813E-2,-2.439054793292408E-2,"2022-09-23",455,-1.8681318681318681E-2,-1.8858018634396723E-2,"2022-09-23",42.099997999999999,-1.4251734643787855E-2,-1.4354265945743695E-2,"2022-09-23",65.5,7.6335877862595417E-3,7.6045993852192125E-3,"2022-09-23",421,-5.2256532066508314E-2,-5.3671416792517912E-2]
["2022-09-26",13778.190430000001,3.5127554845385835E-3,3.5066001695242361E-3,"2022-09-26",446.5,3.3594624860022394E-3,3.353832098431458E-3,"2022-09-26",41.5,-1.3252987951807221E-2,-1.3341592517550014E-2,"2022-09-26",66,-1.5151212121212025E-3,-1.516270168950763E-3,"2022-09-26",399,7.5187969924812026E-3,7.4906717291576587E-3]
["2022-09-27",13826.589844,-2.6074363604301612E-2,-2.642032692402416E-2,"2022-09-27",448,-2.2321428571428572E-2,-2.2574322038539065E-2,"2022-09-27",40.950001,-2.8083076237287532E-2,-2.8484947554339037E-2,"2022-09-27",65.900002000000001,1.062209375957225E-2,1.0566075658838209E-2,"2022-09-27",402,-7.8358208955223885E-2,-8.1598643882879421E-2]
["2022-09-28",13466.070313,5.0637974862027622E-3,5.0510195820374949E-3,"2022-09-28",438,-6.8493150684931503E-3,-6.8728792877620643E-3,"2022-09-28",39.799999,8.7940454470865938E-3,8.7556030412063116E-3,"2022-09-28",66.599997999999999,1.3513543949355684E-2,1.342305036217116E-2,"2022-09-28",370.5,2.6990553306342779E-3,2.6954194216723027E-3]
["2022-09-29",13534.259765999999,-8.1038556889183877E-3,-8.136870412780231E-3,"2022-09-29",435,-2.9885057471264367E-2,-3.0340717052672272E-2,"2022-09-29",40.150002000000001,-4.9813447082767345E-3,-4.993792962397452E-3,"2022-09-29",67.5,-2.9629185185184623E-3,-2.9673166512799495E-3,"2022-09-29",371.5,4.0376850605652759E-3,4.0295554860016423E-3]
["2022-09-30",13424.580078000001,-9.2442078842654707E-3,-9.2872007356616451E-3,"2022-09-30",422,-1.1848341232227487E-2,-1.1919092237210311E-2,"2022-09-30",39.950001,-2.3779749091871118E-2,-2.4067051113926013E-2,"2022-09-30",67.300003000000004,-1.3372971172081569E-2,-1.3463194624334577E-2,"2022-09-30",373,1.3404825737265416E-2,1.3315775975772156E-2]
["2022-10-03",13300.480469,2.0754066940918105E-2,2.0541635476981072E-2,"2022-10-03",417,2.8776978417266189E-2,2.8370697129215566E-2,"2022-10-03",39,1.4102538461538453E-2,1.4004022799566135E-2,"2022-10-03",66.400002000000001,-1.0542243658366221E-2,-1.0598206774406361E-2,"2022-10-03",378,3.439153439153439E-2,3.3813364365778108E-2]
["2022-10-04",13576.519531,1.6566113022299326E-2,1.6430391835798547E-2,"2022-10-04",429,3.7296037296037296E-2,3.6617363238223309E-2,"2022-10-04",39.549999,3.034136612746818E-2,2.9890170757659124E-2,"2022-10-04",65.699996999999996,9.1325118325349033E-3,9.0910626122214008E-3,"2022-10-04",391,-2.557544757033248E-2,-2.5908184858664803E-2]
["2022-10-05",13801.429688,6.565994904049131E-3,6.5445326556260331E-3,"2022-10-05",445,1.3483146067415731E-2,1.3393057336438035E-2,"2022-10-05",40.75,1.2269693251533665E-3,1.2262172134401307E-3,"2022-10-05",66.300003000000004,-4.5249319219488387E-3,-4.5352004142590564E-3,"2022-10-05",381,7.874015748031496E-3,7.8431774610258787E-3]
["2022-10-06",13892.049805000001,-1.3660297412099599E-2,-1.3754457763721735E-2,"2022-10-06",451,-2.8824833702882482E-2,-2.9248429126232201E-2,"2022-10-06",40.799999,-7.3529168468852088E-3,-7.3800827878183371E-3,"2022-10-06",66,-4.5455000000000573E-3,-4.5558621979623079E-3,"2022-10-06",384,-1.6927083333333332E-2,-1.7071983898647503E-2]
["2022-10-07",13702.280273,-4.3514655088094767E-2,-4.4489811795886347E-2,"2022-10-07",438,-8.3333333333333329E-2,-8.701137698962981E-2,"2022-10-07",40.5,-2.2222271604938289E-2,-2.2472906357110384E-2,"2022-10-07",65.699996999999996,1.5221614089268162E-3,1.5210040955125298E-3,"2022-10-07",377.5,-1.9867549668874173E-2,-2.0067563050809256E-2]
["2022-10-11",13106.030273,-1.8914986829436818E-3,-1.8932898255631281E-3,"2022-10-11",401.5,-9.9626400996264009E-3,-1.0012599292429814E-2,"2022-10-11",39.599997999999999,-1.2626010738687331E-3,-1.2633988261706172E-3,"2022-10-11",65.800003000000004,1.6717309268207733E-2,1.6579113105572911E-2,"2022-10-11",370,-8.1081081081081086E-3,-8.1411575836998849E-3]
["2022-10-12",13081.240234000001,-2.0679213909466122E-2,-2.0896023023140899E-2,"2022-10-12",397.5,-6.2893081761006293E-3,-6.309169193264721E-3,"2022-10-12",39.549999,-5.3097295906379148E-2,-5.4558932263714638E-2,"2022-10-12",66.900002000000001,-7.4738413311258196E-3,-7.5019104266789063E-3,"2022-10-12",367,-5.858310626702997E-2,-6.0369204846845721E-2]
["2022-10-13",12810.730469,2.4775296675551367E-2,2.4473365801991238E-2,"2022-10-13",395,4.3037974683544304E-2,4.2137584448404528E-2,"2022-10-13",37.450001,5.3404804982515302E-3,5.3262707012532952E-3,"2022-10-13",66.400002000000001,-4.518132394032176E-3,-4.528370002415627E-3,"2022-10-13",345.5,1.3024602026049204E-2,1.2940511275734732E-2]
["2022-10-14",13128.120117,-1.2345279488274187E-2,-1.242211548051664E-2,"2022-10-14",412,-3.640776699029126E-2,-3.7087068662335958E-2,"2022-10-14",37.650002000000001,0,0,"2022-10-14",66.099997999999999,-3.0256581853451603E-3,-3.0302447429793214E-3,"2022-10-14",350,-1.7142857142857144E-2,-1.7291497110060994E-2]
["2022-10-17",12966.049805000001,1.2234249087862392E-2,1.216001551058956E-2,"2022-10-17",397,2.5188916876574308E-2,2.4876904755404477E-2,"2022-10-17",37.650002000000001,1.3280211777943597E-2,1.31928027883531E-2,"2022-10-17",65.900002000000001,-9.1046886462916466E-3,-9.1463896332833281E-3,"2022-10-17",344,-2.0348837209302327E-2,-2.0558727021036664E-2]
["2022-10-18",13124.679688,-1.1270364345367248E-2,-1.1334356163315282E-2,"2022-10-18",407,-2.8255528255528257E-2,-2.8662398234886408E-2,"2022-10-18",38.150002000000001,3.9317691254642413E-3,3.9240599218352407E-3,"2022-10-18",65.300003000000004,0,0,"2022-10-18",337,8.9020771513353119E-3,8.8626872578453243E-3]
["2022-10-19",12976.759765999999,-2.36269743394111E-3,-2.3654930077881614E-3,"2022-10-19",395.5,5.0568900126422255E-3,5.0441468866780029E-3,"2022-10-19",38.299999,-1.174937367491838E-2,-1.1818943033641503E-2,"2022-10-19",65.300003000000004,-9.1884528703621588E-3,-9.2309270851893277E-3,"2022-10-19",340,-5.8823529411764705E-3,-5.8997221271882708E-3]
["2022-10-20",12946.099609000001,-9.8021348384946857E-3,-9.8504920241094703E-3,"2022-10-20",397.5,-2.0125786163522012E-2,-2.0331068783583633E-2,"2022-10-20",37.849997999999999,-3.4346078433082079E-2,-3.4949768207291898E-2,"2022-10-20",64.699996999999996,-9.2735552986192085E-3,-9.3168224136262797E-3,"2022-10-20",338,-4.4378698224852072E-3,-4.4477463982362537E-3]
["2022-10-21",12819.200194999999,2.947163116676847E-3,2.9428287454365122E-3,"2022-10-21",389.5,-6.4184852374839542E-3,-6.4391722810212011E-3,"2022-10-21",36.549999,1.231192920142078E-2,1.2236753808218537E-2,"2022-10-21",64.099997999999999,1.5600624511719953E-2,1.5480185767181059E-2,"2022-10-21",336.5,7.429420505200594E-3,7.4019582956677387E-3]
["2022-10-24",12856.980469,-1.484488153810228E-2,-1.4956169536850099E-2,"2022-10-24",387,-4.1343669250645997E-2,-4.2222630422346703E-2,"2022-10-24",37,1.3513513513513514E-2,1.3423020332140771E-2,"2022-10-24",65.099997999999999,6.1444241519024419E-3,6.125624148649339E-3,"2022-10-24",339,-1.3274336283185841E-2,-1.3363227812167141E-2]
["2022-10-25",12666.120117,4.9683476406905585E-3,4.9560461301797381E-3,"2022-10-25",371,1.3477088948787063E-2,1.3387080782459279E-2,"2022-10-25",37.5,2.6666666666666668E-2,2.6317308317373358E-2,"2022-10-25",65.5,1.5266870229007537E-3,1.5255228210317247E-3,"2022-10-25",334.5,1.4947683109118087E-3,1.493652256783372E-3]
["2022-10-26",12729.049805000001,1.5501574353373333E-2,1.5382652360461768E-2,"2022-10-26",376,2.5265957446808509E-2,2.4952049613489749E-2,"2022-10-26",38.5,0,0,"2022-10-26",65.599997999999999,3.0488568002700919E-3,3.0442184617376117E-3,"2022-10-26",335,2.6865671641791045E-2,2.6511125548331863E-2]
["2022-10-27",12926.370117,-1.0671997919862846E-2,-1.0729352110509951E-2,"2022-10-27",385.5,-1.556420233463035E-2,-1.5686596167699508E-2,"2022-10-27",38.5,-6.4935064935064939E-3,-6.5146810211936419E-3,"2022-10-27",65.800003000000004,0,0,"2022-10-27",344,-2.0348837209302327E-2,-2.0558727021036664E-2]
["2022-10-28",12788.419921999999,1.2615325347775272E-2,1.2536415090314529E-2,"2022-10-28",379.5,2.766798418972332E-2,2.7292142288007554E-2,"2022-10-28",38.25,-1.1764732026143799E-2,-1.1834484102029664E-2,"2022-10-28",65.800003000000004,-4.5593159015510044E-3,-4.5697412827694723E-3,"2022-10-28",337,3.7091988130563795E-2,3.6420631321503229E-2]
["2022-10-31",12949.75,6.7537953242340952E-3,6.7310906198810271E-3,"2022-10-31",390,3.8461538461538464E-3,3.8387763071656669E-3,"2022-10-31",37.799999,7.9364816914413057E-3,7.9051534687004116E-3,"2022-10-31",65.5,9.1602748091602956E-3,9.118573959247896E-3,"2022-10-31",349.5,1.0014306151645207E-2,9.9644952594317281E-3]
["2022-11-01",13037.209961,4.8292511348930825E-3,4.8176277082408398E-3,"2022-11-01",391.5,8.9399744572158362E-3,8.9002494702640784E-3,"2022-11-01",38.099997999999999,1.0498740708595329E-2,1.044401165452289E-2,"2022-11-01",66.099997999999999,-3.0256581853451603E-3,-3.0302447429793214E-3,"2022-11-01",353,-5.6657223796033997E-3,-5.6818334674309462E-3]
["2022-11-02",13100.169921999999,-8.66937709023698E-3,-8.7071747531547138E-3,"2022-11-02",395,-2.7848101265822784E-2,-2.824321231339505E-2,"2022-11-02",38.5,9.0908571428571262E-3,9.0497840398651372E-3,"2022-11-02",65.900002000000001,-4.552412608424523E-3,-4.5628063952367522E-3,"2022-11-02",351,-9.9715099715099714E-3,-1.002155846101899E-2]
["2022-11-03",12986.599609000001,3.0885954143224938E-3,3.0838355019497036E-3,"2022-11-03",384,-5.208333333333333E-3,-5.2219439811517126E-3,"2022-11-03",38.849997999999999,2.5740799265935857E-3,2.5707726570943293E-3,"2022-11-03",65.599997999999999,-1.5243598025719354E-3,-1.5255228210317633E-3,"2022-11-03",347.5,1.0071942446043165E-2,1.0021558461018969E-2]
["2022-11-04",13026.709961,1.5124349017507047E-2,1.5011116337145984E-2,"2022-11-04",382,2.0942408376963352E-2,2.0726130517116952E-2,"2022-11-04",38.950001,1.5404312826590156E-2,1.5286870938514597E-2,"2022-11-04",65.5,4.5801984732825006E-3,4.5697412827694715E-3,"2022-11-04",351,5.6980056980056983E-3,5.6818334674308638E-3]
["2022-11-07",13223.730469,{"$f":"(B454-B453)/B453","v":9.3792971121694699E-3},{"$f":"LN(B454/B453)","v":9.3355846207334742E-3},"2022-11-07",390,{"$f":"(F454-F453)/F453","v":2.3076923076923078E-2},{"$f":"LN(F454/F453)","v":2.2814677766171264E-2},"2022-11-07",39.549999,{"$f":"(J454-J453)/J453","v":3.7927181742786046E-3},{"$f":"LN(J454/J453)","v":3.7855439528487115E-3},"2022-11-07",65.800003000000004,{"$f":"(N454-N453)/N453","v":-4.5593159015510044E-3},{"$f":"LN(N454/N453)","v":-4.5697412827694723E-3},"2022-11-07",353,{"$f":"(R454-R453)/R453","v":5.6657223796033997E-3},{"$f":"LN(R454/R453)","v":5.6497325421191276E-3}]
["2022-11-08",13347.759765999999,2.180514251847528E-2,2.157081070525806E-2,"2022-11-08",399,4.5112781954887216E-2,4.4124804908938095E-2,"2022-11-08",39.700001,1.1335037497858006E-2,1.1271277323908676E-2,"2022-11-08",65.5,-3.0533893129770415E-3,-3.0580604170148194E-3,"2022-11-08",355,1.8309859154929577E-2,1.8144252123403558E-2]
["2022-11-09",13638.809569999999,-9.9018762089806214E-3,-9.9512258246390178E-3,"2022-11-09",417,-2.2781774580335732E-2,-2.3045289117884019E-2,"2022-11-09",40.150002000000001,-1.2453299504194297E-2,-1.2531491683752276E-2,"2022-11-09",65.300003000000004,-6.1255893051031431E-3,-6.1444276975065465E-3,"2022-11-09",361.5,-1.2448132780082987E-2,-1.2526259819180256E-2]
["2022-11-10",13503.759765999999,3.7308113646132547E-2,3.6629005314703207E-2,"2022-11-10",407.5,8.3435582822085894E-2,8.013708736309727E-2,"2022-11-10",39.650002000000001,5.6746529293995998E-2,5.5194876138570104E-2,"2022-11-10",64.900002000000001,7.7041600091167948E-3,7.6746345175074671E-3,"2022-11-10",357,6.8627450980392163E-2,6.6375068944872592E-2]
["2022-11-11",14007.559569999999,1.1946465061508198E-2,1.1875669329162614E-2,"2022-11-11",441.5,7.9275198187995465E-3,7.8962621222255398E-3,"2022-11-11",41.900002000000001,-3.5799998291169682E-3,-3.5864233639233056E-3,"2022-11-11",65.400002000000001,1.0703302424975442E-2,1.064642755626171E-2,"2022-11-11",381.5,1.310615989515072E-2,1.3021017302964972E-2]
["2022-11-14",14174.900390999999,2.6201889872596019E-2,2.5864501146128618E-2,"2022-11-14",445,7.8651685393258425E-2,7.5711821735696377E-2,"2022-11-14",41.75,1.5568910179640735E-2,1.5448958110857872E-2,"2022-11-14",66.099997999999999,-1.5128290926725802E-3,-1.5139745740285128E-3,"2022-11-14",386.5,-5.1746442432082798E-3,-5.1880790817779446E-3]
["2022-11-15",14546.309569999999,-6.1596111074643225E-4,-6.1615089272765665E-4,"2022-11-15",480,1.4583333333333334E-2,1.4478019180653235E-2,"2022-11-15",42.400002000000001,-1.6509456768421856E-2,-1.6647256622151472E-2,"2022-11-15",66,-2.2727272727272728E-2,-2.2989518224698718E-2,"2022-11-15",384.5,-9.1027308192457735E-3,-9.1444138189976567E-3]
["2022-11-16",14537.349609000001,-1.4577210131128365E-4,-1.4578272709668276E-4,"2022-11-16",487,-4.1067761806981521E-3,-4.1152321451065439E-3,"2022-11-16",41.700001,-3.5971701775259104E-3,-3.6036555515026312E-3,"2022-11-16",64.5,-6.2015813953488468E-3,-6.2208910763510254E-3,"2022-11-16",381,1.5748031496062992E-2,1.5625317903080815E-2]
["2022-11-17",14535.230469,-2.0804785355481039E-3,-2.0826457374162935E-3,"2022-11-17",485,4.1237113402061857E-3,4.1152321451065794E-3,"2022-11-17",41.549999,8.4236584458161103E-3,8.3883774267196586E-3,"2022-11-17",64.099997999999999,0,0,"2022-11-17",387,-1.937984496124031E-2,-1.9570096194097223E-2]
["2022-11-18",14504.990234000001,-3.8332039596739292E-3,-3.8405695144461244E-3,"2022-11-18",487,-1.0266940451745379E-2,-1.0320009031989472E-2,"2022-11-18",41.900002000000001,4.7731739965071775E-3,4.7618185216084692E-3,"2022-11-18",64.099997999999999,1.5600468505474344E-3,1.5588312415665804E-3,"2022-11-18",379.5,9.22266139657444E-3,9.1803923449613935E-3]
["2022-11-21",14449.389648,6.4231465315107913E-3,6.4026060353202527E-3,"2022-11-21",482,1.8672199170124481E-2,1.8500013743920209E-2,"2022-11-21",42.099997999999999,2.3753682838654993E-3,2.3725515562518854E-3,"2022-11-21",64.199996999999996,-6.2304987335123482E-3,-6.2499892901794864E-3,"2022-11-21",383,2.2193211488250653E-2,2.1950526250211749E-2]
["2022-11-22",14542.200194999999,4.5618849355965755E-3,4.5515110761179612E-3,"2022-11-22",491,2.0366598778004071E-3,2.0345886977874567E-3,"2022-11-22",42.200001,1.3033151349925316E-2,1.2948950644120927E-2,"2022-11-22",63.799999,3.1348119613606941E-3,3.1299086829090685E-3,"2022-11-22",391.5,-2.554278416347382E-3,-2.5575461511171205E-3]
["2022-11-23",14608.540039,1.2010780032198978E-2,1.1939223014269609E-2,"2022-11-23",492,8.130081300813009E-3,8.0972102326193028E-3,"2022-11-23",42.75,-4.6783859649122883E-3,-4.6893638651490342E-3,"2022-11-23",64,2.0312546875000059E-2,2.0108998864519567E-2,"2022-11-23",390.5,2.5608194622279128E-3,2.5575461511171929E-3]
["2022-11-24",14784,-3.7136323051953346E-4,-3.7143220292045658E-4,"2022-11-24",496,4.0322580645161289E-3,4.024150299725548E-3,"2022-11-24",42.549999,0,0,"2022-11-24",65.300003000000004,6.1254821075581323E-3,6.1067976042717478E-3,"2022-11-24",391.5,4.0868454661558112E-2,4.005541725005958E-2]
["2022-11-25",14778.509765999999,-1.4997428868634064E-2,-1.5111027527804289E-2,"2022-11-25",498,-3.5140562248995984E-2,-3.5772848614305734E-2,"2022-11-25",42.549999,-1.2925946249728459E-2,-1.3010213234251887E-2,"2022-11-25",65.699996999999996,-6.0881890146812709E-3,-6.1067976042717981E-3,"2022-11-25",407.5,-1.2269938650306749E-2,-1.2345835822299379E-2]
["2022-11-28",14556.870117,1.049466882455663E-2,1.0439982067865741E-2,"2022-11-28",480.5,1.3527575442247659E-2,1.3436894672242647E-2,"2022-11-28",42,3.4523833333333344E-2,3.3941256442992174E-2,"2022-11-28",65.300003000000004,7.6569674889601456E-3,7.6278016997842974E-3,"2022-11-28",402.5,-3.7267080745341614E-3,-3.7336695520488379E-3]
["2022-11-29",14709.639648,1.1550939456433396E-2,1.1484736670460995E-2,"2022-11-29",487,6.1601642710472282E-3,6.1412680220824288E-3,"2022-11-29",43.450001,2.3014498894948095E-3,2.298805610038574E-3,"2022-11-29",65.800003000000004,4.5591943210093102E-3,4.548832676478304E-3,"2022-11-29",401,-4.9875311720698253E-3,-5.0000104167057515E-3]
["2022-11-30",14879.549805000001,8.9552440595496892E-3,8.9153836578017287E-3,"2022-11-30",490,1.7346938775510204E-2,1.7198198297220822E-2,"2022-11-30",43.549999,-1.8702870693522008E-3,-1.8720382400149891E-3,"2022-11-30",66.099997999999999,-3.0256581853451603E-3,-3.0302447429793214E-3,"2022-11-30",399,4.2606516290726815E-2,4.1723843371399769E-2]
["2022-12-01",15012.799805000001,-2.8056137127714393E-3,-2.8095568238820741E-3,"2022-12-01",498.5,-1.2036108324974924E-2,-1.210912878974945E-2,"2022-12-01",43.468547999999998,-3.3975369961748024E-3,-3.4033217312791604E-3,"2022-12-01",65.900002000000001,-1.3657086080209839E-2,-1.375120196183767E-2,"2022-12-01",416,3.3653846153846152E-2,3.3099948426344922E-2]
["2022-12-02",14970.679688,6.7201664918826716E-4,6.7179094711123809E-4,"2022-12-02",492.5,-7.1065989847715737E-3,-7.1319711372715899E-3,"2022-12-02",43.320861999999998,-1.0869220469343358E-2,-1.0928721995762971E-2,"2022-12-02",65,6.1538769230769326E-3,6.1350191485551667E-3,"2022-12-02",430,2.0930232558139535E-2,2.0714204387563235E-2]
["2022-12-05",14980.740234000001,-1.6812276767765037E-2,-1.695520734993456E-2,"2022-12-05",489,-2.2494887525562373E-2,-2.2751756983416069E-2,"2022-12-05",42.849997999999999,-3.3838881392713224E-2,-3.4424669228895623E-2,"2022-12-05",65.400002000000001,-1.2232476690138347E-2,-1.2307909215388997E-2,"2022-12-05",439,-3.8724373576309798E-2,-3.9494099039159507E-2]
["2022-12-06",14728.879883,-6.712670466823196E-3,-6.7353017737490656E-3,"2022-12-06",478,-6.2761506276150627E-3,-6.2959284568148118E-3,"2022-12-06",41.400002000000001,0,0,"2022-12-06",64.599997999999999,9.287910504269626E-3,9.245043091532814E-3,"2022-12-06",422,-2.7251184834123223E-2,-2.7629385143528924E-2]
["2022-12-07",14630.009765999999,-5.2610851415066445E-3,-5.2749733828362511E-3,"2022-12-07",475,-7.3684210526315788E-3,-7.3957019611290246E-3,"2022-12-07",41.400002000000001,-1.5700530642486457E-2,-1.582508945357456E-2,"2022-12-07",65.199996999999996,-3.0674387914465121E-3,-3.0721530246991435E-3,"2022-12-07",410.5,-4.8721071863580996E-3,-4.8840145924253483E-3]
["2022-12-08",14553.040039,1.0471327543359936E-2,1.0416882934837546E-2,"2022-12-08",471.5,2.1208907741251327E-2,2.0987129164668127E-2,"2022-12-08",40.75,8.5889079754601066E-3,8.5522331535156058E-3,"2022-12-08",65,1.5384615384615385E-2,1.5267472130788381E-2,"2022-12-08",408.5,1.7135862913096694E-2,1.6990699995445269E-2]
["2022-12-09",14705.429688,-6.3133037231655822E-3,-6.3333169024343506E-3,"2022-12-09",481.5,-1.3499480789200415E-2,-1.3591427203539001E-2,"2022-12-09",41.099997999999999,-2.4330414809265771E-3,-2.4360061360794564E-3,"2022-12-09",66,-3.0302575757575182E-3,-3.0348581024498018E-3,"2022-12-09",415.5,-8.4235860409145602E-3,-8.4592649459764632E-3]
["2022-12-12",14612.589844,-6.1337438439635714E-3,-6.1526325292499736E-3,"2022-12-12",475,-7.3684210526315788E-3,-7.3957019611290246E-3,"2022-12-12",41,-1.219487804878041E-3,-1.2202319852052193E-3,"2022-12-12",65.800003000000004,-6.079042276031555E-3,-6.097594879783343E-3,"2022-12-12",412,0,0]
["2022-12-13",14522.959961,1.4900570653718076E-2,1.4790647748285779E-2,"2022-12-13",471.5,1.9088016967126194E-2,1.8908126336834946E-2,"2022-12-13",40.950001,-1.2209767711605106E-3,-1.2217227705921757E-3,"2022-12-13",65.400002000000001,9.1742810650066852E-3,9.1324529822331621E-3,"2022-12-13",412,6.0679611650485436E-3,6.0496252258232181E-3]
["2022-12-14",14739.360352,-3.5486404261025862E-4,-3.5492702175436876E-4,"2022-12-14",480.5,0,0,"2022-12-14",40.900002000000001,-7.3350607660117298E-3,-7.3620946019084272E-3,"2022-12-14",66,-7.575757575757576E-3,-7.6045993852193036E-3,"2022-12-14",414.5,-1.2062726176115801E-3,-1.2070007500352277E-3]
["2022-12-15",14734.129883,-1.3952644617120825E-2,-1.4050897761115446E-2,"2022-12-15",480.5,-1.9771071800208116E-2,-1.9969134393929413E-2,"2022-12-15",40.599997999999999,-9.8521433424700929E-3,-9.9009968460050148E-3,"2022-12-15",65.5,-3.0533893129770415E-3,-3.0580604170148194E-3,"2022-12-15",414,-3.864734299516908E-2,-3.9413968540876629E-2]
["2022-12-16",14528.549805000001,-6.5546453898122142E-3,-6.5762214116998471E-3,"2022-12-16",471,-9.5541401273885346E-3,-9.600073729019231E-3,"2022-12-16",40.200001,-1.243756187966256E-3,-1.2445302946269949E-3,"2022-12-16",65.300003000000004,0,0,"2022-12-16",398,-1.0050251256281407E-2,-1.0101095986503933E-2]
["2022-12-19",14433.320313,-1.8241820613019735E-2,-1.8410254123042792E-2,"2022-12-19",466.5,-1.9292604501607719E-2,-1.9481135571822541E-2,"2022-12-19",40.150002000000001,0,0,"2022-12-19",65.300003000000004,4.5941039237011299E-3,4.5835832380466375E-3,"2022-12-19",394,-3.2994923857868022E-2,-3.3551534171232897E-2]
["2022-12-20",14170.030273,4.5426944586456994E-3,4.5324075638884086E-3,"2022-12-20",457.5,3.2786885245901639E-3,3.2733253449691085E-3,"2022-12-20",40.150002000000001,-3.7360396644563216E-3,-3.7430360920336766E-3,"2022-12-20",65.599997999999999,-3.0487196051438709E-3,-3.0533764180456762E-3,"2022-12-20",381,5.2493438320209973E-3,5.2356140539449427E-3]
["2022-12-21",14234.400390999999,1.4650426661586335E-2,1.4544145941995467E-2,"2022-12-21",459,1.9607843137254902E-2,1.9418085857101516E-2,"2022-12-21",40,1.0000050000000016E-2,9.9503803581172806E-3,"2022-12-21",65.400002000000001,7.6452597050379297E-3,7.6161828132823191E-3,"2022-12-21",383,0,0]
["2022-12-22",14442.940430000001,-1.1861195982236766E-2,-1.193210120552907E-2,"2022-12-22",468,-2.7777777777777776E-2,-2.8170876966696335E-2,"2022-12-22",40.400002000000001,1.8564355516616064E-2,1.8394141253697236E-2,"2022-12-22",65.900002000000001,0,0,"2022-12-22",383,7.5718015665796348E-2,7.298836016888044E-2]
["2022-12-23",14271.629883,9.4593260270019013E-4,9.4548549039224908E-4,"2022-12-23",455,3.2967032967032967E-3,3.2912810840727306E-3,"2022-12-23",41.150002000000001,-3.6452489115310523E-3,-3.6519090214430063E-3,"2022-12-23",65.900002000000001,-1.5174354622932613E-3,-1.5185879334989924E-3,"2022-12-23",412,-1.9417475728155338E-2,-1.9608471388376313E-2]
["2022-12-26",14285.129883,3.0311103472380353E-3,3.0265257941240837E-3,"2022-12-26",456.5,1.0952902519167579E-3,1.0946908591815748E-3,"2022-12-26",41,3.658585365853674E-3,3.6519090214430501E-3,"2022-12-26",65.800003000000004,6.0789358930575183E-3,6.0605337017652014E-3,"2022-12-26",404,-2.9702970297029702E-2,-3.0153038170687558E-2]
["2022-12-27",14328.429688,-1.0840691016552056E-2,-1.0899879458504231E-2,"2022-12-27",457,-1.3129102844638949E-2,-1.3216051391526375E-2,"2022-12-27",41.150002000000001,-1.215066769620084E-2,-1.2225090531440429E-2,"2022-12-27",66.199996999999996,0,0,"2022-12-27",392,-3.4438775510204078E-2,-3.5045766912959124E-2]
["2022-12-28",14173.099609000001,-6.2145952847230046E-3,-6.2339862617934033E-3,"2022-12-28",451,-1.1086474501108648E-2,-1.11483874826143E-2,"2022-12-28",40.650002000000001,-1.3530233036642933E-2,-1.3622600757099868E-2,"2022-12-28",66.199996999999996,1.510664721027217E-3,1.509524814943753E-3,"2022-12-28",378.5,6.6050198150594455E-3,6.5833022491973963E-3]
["2022-12-29",14085.019531,3.7394977610131258E-3,3.7325232213702396E-3,"2022-12-29",446,5.6053811659192822E-3,5.5897294787868122E-3,"2022-12-29",40.099997999999999,-2.4937158350980307E-3,-2.4968303232742418E-3,"2022-12-29",66.300003000000004,4.5248112583040996E-3,4.5146050756282897E-3,"2022-12-29",381,1.5748031496062992E-2,1.5625317903080815E-2]
["2022-12-30",14137.690430000001,6.113423364865673E-3,6.0948122056595465E-3,"2022-12-30",448.5,1.0033444816053512E-2,9.9834439841832052E-3,"2022-12-30",40,-1.2499749999999922E-3,-1.2507568703638455E-3,"2022-12-30",66.599997999999999,0,0,"2022-12-30",387,2.5839793281653748E-3,2.580646593491713E-3]
["2023-01-03",14224.120117,-1.7568913784785625E-3,-1.7584365221680804E-3,"2023-01-03",453,-7.7262693156732896E-3,-7.7562715713590967E-3,"2023-01-03",39.950001,0,0,"2023-01-03",66.599997999999999,-1.5014715165606967E-3,-1.5025998545044692E-3,"2023-01-03",388,2.1907216494845359E-2,2.1670701451629158E-2]
["2023-01-04",14199.129883,7.1778991276095893E-3,7.152260623623577E-3,"2023-01-04",449.5,2.0022246941045607E-2,1.9824437784844565E-2,"2023-01-04",39.950001,7.5093615141586523E-3,7.4813066209998419E-3,"2023-01-04",66.5,1.5037293233082611E-3,1.5025998545044681E-3,"2023-01-04",396.5,2.269861286254729E-2,2.2444832480564912E-2]
["2023-01-05",14301.049805000001,5.0548763891952279E-3,5.0421433926628638E-3,"2023-01-05",458.5,0,0,"2023-01-05",40.25,1.2422360248447204E-2,1.2345835822299362E-2,"2023-01-05",66.599997999999999,0,0,"2023-01-05",405.5,2.096177558569667E-2,2.0745100269846665E-2]
["2023-01-06",14373.339844,2.6359226255834738E-2,2.601780852617264E-2,"2023-01-06",458.5,4.9073064340239912E-2,4.7906978409241671E-2,"2023-01-06",40.75,3.0674846625766871E-2,3.0213778596496633E-2,"2023-01-06",66.599997999999999,1.501501546591638E-2,1.4903405946806128E-2,"2023-01-06",414,-7.246376811594203E-3,-7.2727593290798087E-3]
["2023-01-09",14752.209961,3.440162533896029E-3,3.4342587109652666E-3,"2023-01-09",481,1.0395010395010396E-2,1.0341353794732531E-2,"2023-01-09",42,-7.1428333333333257E-3,-7.1684654977974679E-3,"2023-01-09",67.599997999999999,-7.396449922971891E-3,-7.4239392917427481E-3,"2023-01-09",411,-2.5547445255474453E-2,-2.5879447987820721E-2]
["2023-01-10",14802.959961,-3.4803533303970082E-3,-3.4864238491753544E-3,"2023-01-10",486,-3.0864197530864196E-3,-3.0911925696728579E-3,"2023-01-10",41.700001,-7.1942204509779194E-3,-7.2202236451245723E-3,"2023-01-10",67.099997999999999,-2.9805664077664912E-3,-2.9850171418277522E-3,"2023-01-10",400.5,4.8689138576779027E-2,4.7540944768999976E-2]
["2023-01-11",14751.440430000001,-1.3422948147986558E-3,-1.3431964994583066E-3,"2023-01-11",484.5,4.1279669762641896E-3,4.119470295238804E-3,"2023-01-11",41.400002000000001,7.246352306939494E-3,7.2202236451245324E-3,"2023-01-11",66.900002000000001,2.9894767417196597E-3,2.9850171418276997E-3,"2023-01-11",420,9.8809523809523805E-2,9.4227342665492944E-2]
["2023-01-12",14731.639648,6.2783394930893506E-3,6.2587128254461763E-3,"2023-01-12",486.5,2.7749229188078109E-2,2.7371196796131977E-2,"2023-01-12",41.700001,2.3980335156346725E-3,2.395162821694467E-3,"2023-01-12",67.099997999999999,5.9612818468340436E-3,5.9435837071077323E-3,"2023-01-12",461.5,3.2502708559046588E-3,3.2450001433271367E-3]
["2023-01-13",14824.129883,6.9400284409259052E-3,6.9160572866354755E-3,"2023-01-13",500,0.01,9.950330853168092E-3,"2023-01-13",41.799999,-1.1961483539748333E-3,-1.1968643104008953E-3,"2023-01-13",67.5,7.4074074074074077E-3,7.38010729762246E-3,"2023-01-13",463,2.3758099352051837E-2,2.3480267608842448E-2]
["2023-01-16",14927.009765999999,3.9659128605148069E-4,3.9651266451382245E-4,"2023-01-16",505,-3.9603960396039604E-3,-3.9682591756206222E-3,"2023-01-16",41.75,5.9880239520958087E-3,5.9701669865037544E-3,"2023-01-16",68,-1.4705588235294025E-3,-1.4716411563756985E-3,"2023-01-16",474,3.1645569620253167E-2,3.1155167779795479E-2]
["2023-01-17",14932.929688,3.7560655324770452E-2,3.687243437745806E-2,"2023-01-17",503,7.9522862823061632E-2,7.6519149834196137E-2,"2023-01-17",42,1.6666690476190484E-2,1.6529325370414075E-2,"2023-01-17",67.900002000000001,1.4727245516134059E-3,1.4716411563757863E-3,"2023-01-17",489,4.0899795501022499E-3,4.0816383196484564E-3]
["2023-01-30",15493.820313,-1.4755567922017163E-2,-1.4865514201365676E-2,"2023-01-30",543,-3.8674033149171269E-2,-3.9441732051296731E-2,"2023-01-30",42.700001,-3.5129273181984384E-3,-3.5191121361620968E-3,"2023-01-30",68,-1.029407352941171E-2,-1.0347423948902472E-2,"2023-01-30",491,-1.7311608961303463E-2,-1.7463207015479959E-2]
["2023-01-31",15265.200194999999,1.0149207741851051E-2,1.0098050379577846E-2,"2023-01-31",522,1.532567049808429E-2,1.5209418663528708E-2,"2023-01-31",42.549999,1.0575816934801816E-2,1.0520284175942189E-2,"2023-01-31",67.300003000000004,-2.9718423638109559E-3,-2.9762670558279017E-3,"2023-01-31",482.5,-3.1088082901554403E-3,-3.1136506732794699E-3]
["2023-02-01",15420.129883,1.1350765157494771E-2,1.1286828587101717E-2,"2023-02-01",530,1.8867924528301886E-2,1.8692133012152546E-2,"2023-02-01",43,2.4418581395348828E-2,2.4125213987150205E-2,"2023-02-01",67.099997999999999,5.9612818468340436E-3,5.9435837071077323E-3,"2023-02-01",481,3.3264033264033266E-2,3.2722755990867547E-2]
["2023-02-02",15595.160156,4.8091843398700138E-4,4.8080282977946921E-4,"2023-02-02",540,3.7037037037037038E-3,3.6968618813262026E-3,"2023-02-02",44.049999,-1.7026107083453056E-2,-1.7172717766957023E-2,"2023-02-02",67.5,-1.7777733333333278E-2,-1.793765543779955E-2,"2023-02-02",497,-1.6096579476861168E-2,-1.6227536621756695E-2]
["2023-02-03",15602.660156,-1.3448978629410567E-2,-1.354023527189184E-2,"2023-02-03",542,-2.9520295202952029E-2,-2.9964788701936394E-2,"2023-02-03",43.299999,-1.5011478406731581E-2,-1.5125291082750904E-2,"2023-02-03",66.300003000000004,-1.5083860554275931E-3,-1.5095248149437238E-3,"2023-02-03",489,-1.7382413087934562E-2,-1.7535261064524816E-2]
["2023-02-06",15392.820313,5.255595034242992E-4,5.254214453982339E-4,"2023-02-06",526,-5.7034220532319393E-3,-5.7197486727869531E-3,"2023-02-06",42.650002000000001,3.5169283227700445E-3,3.5107583922601229E-3,"2023-02-06",66.199996999999996,9.0635351539367533E-3,9.0227078270378423E-3,"2023-02-06",480.5,9.3652445369406864E-3,9.3216625271360914E-3]
["2023-02-07",15400.910156,1.4106943277982668E-2,1.4008366351337983E-2,"2023-02-07",523,3.2504780114722756E-2,3.1987675493397101E-2,"2023-02-07",42.799999,1.1682009618738469E-3,1.167519146077124E-3,"2023-02-07",66.800003000000004,-2.9940866918824003E-3,-2.9985779364657605E-3,"2023-02-07",485,2.88659793814433E-2,2.845720481403537E-2]
["2023-02-08",15618.169921999999,-1.2459821539389869E-3,-1.2467590350900568E-3,"2023-02-08",540,0,0,"2023-02-08",42.849997999999999,-5.8343059899326017E-3,-5.8513920423751559E-3,"2023-02-08",66.599997999999999,3.0030781682606721E-3,2.9985779364657171E-3,"2023-02-08",499,9.8196392785571143E-2,9.3669191196496859E-2]
["2023-02-09",15598.709961,-7.731132914293987E-4,-7.7341229763044331E-4,"2023-02-09",540,9.2592592592592587E-3,9.2166551049240476E-3,"2023-02-09",42.599997999999999,1.1738028720095542E-3,1.1731145040380069E-3,"2023-02-09",66.800003000000004,-2.9940866918824003E-3,-2.9985779364657605E-3,"2023-02-09",548,-6.0218978102189784E-2,-6.21083862842794E-2]
["2023-02-10",15586.650390999999,-2.7183594253492815E-3,-2.722060873765161E-3,"2023-02-10",545,-7.3394495412844041E-3,-7.366515816762554E-3,"2023-02-10",42.650002000000001,5.8616644379055364E-3,5.8445517230120356E-3,"2023-02-10",66.599997999999999,7.5075077329581899E-3,7.4794666550634615E-3,"2023-02-10",515,-3.3009708737864081E-2,-3.3566823639083275E-2]
["2023-02-13",15544.280273,7.0894370189280862E-3,7.0644251043247928E-3,"2023-02-13",541,7.3937153419593345E-3,7.3665158167626459E-3,"2023-02-13",42.900002000000001,1.6316922316227368E-2,1.6185231929411122E-2,"2023-02-13",67.099997999999999,-1.4902832038832456E-3,-1.4913947804102601E-3,"2023-02-13",498,-1.2048192771084338E-2,-1.212136053234485E-2]
["2023-02-14",15654.480469,-1.4155105398662578E-2,-1.4256244460210989E-2,"2023-02-14",545,-3.669724770642202E-2,-3.7387532071620329E-2,"2023-02-14",43.599997999999999,-1.4908188757256344E-2,-1.5020432770276702E-2,"2023-02-14",67,-7.462686567164179E-3,-7.4906717291576257E-3,"2023-02-14",492,-8.130081300813009E-3,-8.1633106391609811E-3]
["2023-02-15",15432.889648,7.6207602518068426E-3,7.5918689480262069E-3,"2023-02-15",525,5.7142857142857143E-3,5.6980211146377959E-3,"2023-02-15",42.950001,2.3282420878173987E-3,2.3255359317846777E-3,"2023-02-15",66.5,-3.0074736842104692E-3,-3.0120052211238552E-3,"2023-02-15",488,1.6393442622950821E-2,1.6260520871780326E-2]
["2023-02-16",15550.5,{"$f":"(B518-B517)/B517","v":-4.5528957268255402E-3},{"$f":"LN(B518/B517)","v":-4.5632917231679324E-3},"2023-02-16",528,{"$f":"(F518-F517)/F517","v":-1.893939393939394E-2},{"$f":"LN(F518/F517)","v":-1.9121041446778397E-2},"2023-02-16",43.049999,{"$f":"(J518-J517)/J517","v":2.2067387272180897E-2},{"$f":"LN(J518/J517)","v":2.1827426273325283E-2},"2023-02-16",66.300003000000004,{"$f":"(N518-N517)/N517","v":1.5082804747383923E-3},{"$f":"LN(N518/N517)","v":1.5071441621850117E-3},"2023-02-16",496,{"$f":"(R518-R517)/R517","v":2.2177419354838711E-2},{"$f":"LN(R518/R517)","v":2.1935076866255714E-2}]
["2023-02-17",15479.700194999999,4.620908228126097E-3,4.6102646078994385E-3,"2023-02-17",518,-1.9305019305019305E-3,-1.9323677510539241E-3,"2023-02-17",44,1.0227295454545461E-2,1.0175350538840047E-2,"2023-02-17",66.400002000000001,0,0,"2023-02-17",507,7.889546351084813E-3,7.8585866125213105E-3]
["2023-02-20",15551.230469,7.568231352150193E-4,7.5653688900214646E-4,"2023-02-20",517,-1.9342359767891683E-3,-1.9361090268664404E-3,"2023-02-20",44.450001,-1.3498379898799123E-2,-1.3590311248944376E-2,"2023-02-20",66.400002000000001,6.0241112643340455E-3,6.006038849909032E-3,"2023-02-20",511,-1.7612524461839529E-2,-1.7769470511975295E-2]
["2023-02-21",15563,-9.2675235494441999E-3,-9.3107342236460108E-3,"2023-02-21",516,-1.7441860465116279E-2,-1.7595761890379601E-2,"2023-02-21",43.849997999999999,-1.1402509071950243E-2,-1.1468016117708547E-2,"2023-02-21",66.800003000000004,-2.9940866918824003E-3,-2.9985779364657605E-3,"2023-02-21",502,-4.3824701195219126E-2,-4.4814015789792543E-2]
["2023-02-22",15418.769531,1.2753327987985476E-2,1.2672689185597401E-2,"2023-02-22",507,2.1696252465483234E-2,2.1464238668300002E-2,"2023-02-22",43.349997999999999,-1.1533795226472603E-3,-1.1540451766926217E-3,"2023-02-22",66.599997999999999,9.0089942645343157E-3,8.9686553699327726E-3,"2023-02-22",480,1.2500000000000001E-2,1.242251999855711E-2]
["2023-02-23",15615.410156,-7.1480746189117516E-3,-7.1737445042737349E-3,"2023-02-23",518,-1.3513513513513514E-2,-1.3605652055778598E-2,"2023-02-23",43.299999,3.4642495026385714E-3,3.4582628126047345E-3,"2023-02-23",67.199996999999996,4.4643305564433852E-3,4.4543949922384429E-3,"2023-02-23",486,-1.646090534979424E-2,-1.6597891409037828E-2]
["2023-02-24",15503.790039,-1,{"$error":"#NUM!"},"2023-02-24",511,-1,{"$error":"#NUM!"},"2023-02-24",43.450001,-1,{"$error":"#NUM!"},"2023-02-24",67.5,-1,{"$error":"#NUM!"},"2023-02-24",478,-1,{"$error":"#NUM!"}]

{"sheet":"台灣美元兌新台幣匯率(元)(USD)","index":2,"n_rows":42,"n_cols":3,"rows_kept":42,"cut":false,"hidden":false,"merged":[]}
["台灣美元兌新台幣匯率(元)(USD)"]
["年月","數值","變動匯率"]
["2020/01",30.25,{"$f":"(B3-B4)/B3","v":-2.6446280991734975E-3}]
["2020/02",30.33,2.5057698648202099E-3]
["2020/03",30.254000000000001,1.4940173200238042E-2]
["2020/04",29.802,-7.717602845446629E-3]
["2020/05",30.032,1.2386787426744802E-2]
["2020/06",29.66,5.3270397842212153E-3]
["2020/07",29.501999999999999,-8.1350416920889803E-4]
["2020/08",29.526,1.3547381968434552E-2]
["2020/09",29.126000000000001,6.9010506077044741E-3]
["2020/10",28.925000000000001,3.4917891097666063E-3]
["2020/11",28.824000000000002,1.0963086316958177E-2]
["2020/12",28.507999999999999,3.3674757962677175E-3]
["2021/01",28.411999999999999,3.730817964240395E-3]
["2021/02",28.306000000000001,-7.9488447678936567E-3]
["2021/03",28.530999999999999,2.0363814797939066E-2]
["2021/04",27.95,1.0483005366726271E-2]
["2021/05",27.657,-7.7014860613949798E-3]
["2021/06",27.87,-3.4445640473627585E-3]
["2021/07",27.966000000000001,6.9369949224058714E-3]
["2021/08",27.771999999999998,-3.3847040184358779E-3]
["2021/09",27.866,1.6507571951481868E-3]
["2021/10",27.82,3.5945363048172404E-4]
["2021/11",27.81,4.3149946062566507E-3]
["2021/12",27.69,-4.9837486457204091E-3]
["2022/01",27.827999999999999,-6.935460687077814E-3]
["2022/02",28.021000000000001,-2.1448199564612223E-2]
["2022/03",28.622,-2.9976940814757897E-2]
["2022/04",29.48,1.4077340569877854E-2]
["2022/05",29.065000000000001,-2.2742129709272245E-2]
["2022/06",29.725999999999999,-7.1318038081141007E-3]
["2022/07",29.937999999999999,-1.6600975349054709E-2]
["2022/08",30.434999999999999,-4.2976835879743713E-2]
["2022/09",31.742999999999999,-1.4711904986926325E-2]
["2022/10",32.21,4.0608506674945664E-2]
["2022/11",30.902000000000001,6.2779108148340755E-3]
["2022/12",30.707999999999998,2.1362511397681347E-2]
["2023/01",30.052,-1.4241980567017198E-2]
["2023/02",30.48,8.5301837270340556E-4]
["2023/03",30.454000000000001,-3.7958888815919282E-3]
["2023/04",30.569600000000001,1]

{"sheet":"台灣重貼現率-月（百分比）","index":3,"n_rows":37,"n_cols":3,"rows_kept":37,"cut":false,"hidden":false,"merged":[]}
["證券代碼","年月","數值"]
["MB0101 台灣-中央銀行-重貼現率-月(百分比)",202005,1.125]
["MB0101 台灣-中央銀行-重貼現率-月(百分比)",202006,1.125]
["MB0101 台灣-中央銀行-重貼現率-月(百分比)",202007,1.125]
["MB0101 台灣-中央銀行-重貼現率-月(百分比)",202008,1.125]
["MB0101 台灣-中央銀行-重貼現率-月(百分比)",202009,1.125]
["MB0101 台灣-中央銀行-重貼現率-月(百分比)",202010,1.125]
["MB0101 台灣-中央銀行-重貼現率-月(百分比)",202011,1.125]
["MB0101 台灣-中央銀行-重貼現率-月(百分比)",202012,1.125]
["MB0101 台灣-中央銀行-重貼現率-月(百分比)",202101,1.125]
["MB0101 台灣-中央銀行-重貼現率-月(百分比)",202102,1.125]
["MB0101 台灣-中央銀行-重貼現率-月(百分比)",202103,1.125]
["MB0101 台灣-中央銀行-重貼現率-月(百分比)",202104,1.125]
["MB0101 台灣-中央銀行-重貼現率-月(百分比)",202105,1.125]
["MB0101 台灣-中央銀行-重貼現率-月(百分比)",202106,1.125]
["MB0101 台灣-中央銀行-重貼現率-月(百分比)",202107,1.125]
["MB0101 台灣-中央銀行-重貼現率-月(百分比)",202108,1.125]
["MB0101 台灣-中央銀行-重貼現率-月(百分比)",202109,1.125]
["MB0101 台灣-中央銀行-重貼現率-月(百分比)",202110,1.125]
["MB0101 台灣-中央銀行-重貼現率-月(百分比)",202111,1.125]
["MB0101 台灣-中央銀行-重貼現率-月(百分比)",202112,1.125]
["MB0101 台灣-中央銀行-重貼現率-月(百分比)",202201,1.125]
["MB0101 台灣-中央銀行-重貼現率-月(百分比)",202202,1.125]
["MB0101 台灣-中央銀行-重貼現率-月(百分比)",202203,1.375]
["MB0101 台灣-中央銀行-重貼現率-月(百分比)",202204,1.375]
["MB0101 台灣-中央銀行-重貼現率-月(百分比)",202205,1.375]
["MB0101 台灣-中央銀行-重貼現率-月(百分比)",202206,1.5]
["MB0101 台灣-中央銀行-重貼現率-月(百分比)",202207,1.5]
["MB0101 台灣-中央銀行-重貼現率-月(百分比)",202208,1.5]
["MB0101 台灣-中央銀行-重貼現率-月(百分比)",202209,1.625]
["MB0101 台灣-中央銀行-重貼現率-月(百分比)",202210,1.625]
["MB0101 台灣-中央銀行-重貼現率-月(百分比)",202211,1.625]
["MB0101 台灣-中央銀行-重貼現率-月(百分比)",202212,1.75]
["MB0101 台灣-中央銀行-重貼現率-月(百分比)",202301,1.75]
["MB0101 台灣-中央銀行-重貼現率-月(百分比)",202302,1.75]
["MB0101 台灣-中央銀行-重貼現率-月(百分比)",202303,1.875]
["MB0101 台灣-中央銀行-重貼現率-月(百分比)",202304,1.875]

{"sheet":"美國十年期公債殖利率（百分比）","index":4,"n_rows":37,"n_cols":3,"rows_kept":37,"cut":false,"hidden":false,"merged":[]}
["證券代碼","年月","數值"]
["CA15 美國十年期公債殖利率(百分比)",202005,0.67]
["CA15 美國十年期公債殖利率(百分比)",202006,0.73]
["CA15 美國十年期公債殖利率(百分比)",202007,0.62]
["CA15 美國十年期公債殖利率(百分比)",202008,0.65]
["CA15 美國十年期公債殖利率(百分比)",202009,0.68]
["CA15 美國十年期公債殖利率(百分比)",202010,0.79]
["CA15 美國十年期公債殖利率(百分比)",202011,0.87]
["CA15 美國十年期公債殖利率(百分比)",202012,0.93]
["CA15 美國十年期公債殖利率(百分比)",202101,1.08]
["CA15 美國十年期公債殖利率(百分比)",202102,1.26]
["CA15 美國十年期公債殖利率(百分比)",202103,1.61]
["CA15 美國十年期公債殖利率(百分比)",202104,1.64]
["CA15 美國十年期公債殖利率(百分比)",202105,1.62]
["CA15 美國十年期公債殖利率(百分比)",202106,1.52]
["CA15 美國十年期公債殖利率(百分比)",202107,1.32]
["CA15 美國十年期公債殖利率(百分比)",202108,1.28]
["CA15 美國十年期公債殖利率(百分比)",202109,1.37]
["CA15 美國十年期公債殖利率(百分比)",202110,1.58]
["CA15 美國十年期公債殖利率(百分比)",202111,1.56]
["CA15 美國十年期公債殖利率(百分比)",202112,1.47]
["CA15 美國十年期公債殖利率(百分比)",202201,1.76]
["CA15 美國十年期公債殖利率(百分比)",202202,1.93]
["CA15 美國十年期公債殖利率(百分比)",202203,2.13]
["CA15 美國十年期公債殖利率(百分比)",202204,2.75]
["CA15 美國十年期公債殖利率(百分比)",202205,2.9]
["CA15 美國十年期公債殖利率(百分比)",202206,3.14]
["CA15 美國十年期公債殖利率(百分比)",202207,2.9]
["CA15 美國十年期公債殖利率(百分比)",202208,2.9]
["CA15 美國十年期公債殖利率(百分比)",202209,3.52]
["CA15 美國十年期公債殖利率(百分比)",202210,3.98]
["CA15 美國十年期公債殖利率(百分比)",202211,3.89]
["CA15 美國十年期公債殖利率(百分比)",202212,3.62]
["CA15 美國十年期公債殖利率(百分比)",202301,3.53]
["CA15 美國十年期公債殖利率(百分比)",202302,3.75]
["CA15 美國十年期公債殖利率(百分比)",202303,3.66]
["CA15 美國十年期公債殖利率(百分比)",202304,3.46]

{"sheet":"消費者物價指數ＣＰＩ","index":5,"n_rows":30,"n_cols":5,"rows_kept":30,"cut":false,"hidden":false,"merged":[]}
["台灣CPI",null,null,"美國CPI"]
["2021/01-2023/03"]
["統計期","總指數",null,"統計期","總指數"]
["2021-01-01",-0.19,{"$f":"B4/100","v":-1.9E-3},"2021-01-01",3.0000000000000001E-3]
["2021-02-01",1.38,{"$f":"B5/100","v":1.38E-2},"2021-02-01",4.0000000000000001E-3]
["2021-03-01",1.22,1.2199999999999999E-2,"2021-03-01",2.5999999999999999E-2]
["2021-04-01",2.11,2.1099999999999997E-2,"2021-04-01",4.2000000000000003E-2]
["2021-05-01",2.4500000000000002,2.4500000000000001E-2,"2021-05-01",0.05]
["2021-06-01",1.83,1.83E-2,"2021-06-01",5.3999999999999999E-2]
["2021-07-01",1.91,1.9099999999999999E-2,"2021-07-01",5.3999999999999999E-2]
["2021-08-01",2.34,2.3399999999999997E-2,"2021-08-01",5.2999999999999999E-2]
["2021-09-01",2.6,2.6000000000000002E-2,"2021-09-01",5.3999999999999999E-2]
["2021-10-01",2.5499999999999998,2.5499999999999998E-2,"2021-10-01",6.2E-2]
["2021-11-01",2.84,2.8399999999999998E-2,"2021-11-01",6.8000000000000005E-2]
["2021-12-01",2.63,2.63E-2,"2021-12-01",7.0000000000000007E-2]
["2022-01-01",2.83,2.8300000000000002E-2,"2022-01-01",7.4999999999999997E-2]
["2022-02-01",2.33,2.3300000000000001E-2,"2022-02-01",7.9000000000000001E-2]
["2022-03-01",3.27,3.27E-2,"2022-03-01",8.5000000000000006E-2]
["2022-04-01",3.37,3.3700000000000001E-2,"2022-04-01",8.3000000000000004E-2]
["2022-05-01",3.39,3.39E-2,"2022-05-01",8.5999999999999993E-2]
["2022-06-01",3.59,3.5900000000000001E-2,"2022-06-01",9.0999999999999998E-2]
["2022-07-01",3.35,3.3500000000000002E-2,"2022-07-01",8.5000000000000006E-2]
["2022-08-01",2.68,2.6800000000000001E-2,"2022-08-01",8.3000000000000004E-2]
["2022-09-01",2.76,2.76E-2,"2022-09-01",8.2000000000000003E-2]
["2022-10-01",2.74,2.7400000000000001E-2,"2022-10-01",7.6999999999999999E-2]
["2022-11-01",2.35,2.35E-2,"2022-11-01",7.0999999999999994E-2]
["2022-12-01",2.71,2.7099999999999999E-2,"2022-12-01",6.5000000000000002E-2]
["2023-01-01",3.05,3.0499999999999999E-2,"2023-01-01",6.4000000000000001E-2]
["2023-02-01",2.42,2.4199999999999999E-2,"2023-02-01",0.06]
["2023-03-01",2.35,2.35E-2,"2023-03-01",0.05]

{"sheet":"PPP","index":6,"n_rows":28,"n_cols":30,"rows_kept":28,"cut":false,"hidden":false,"merged":[]}
["變動匯率","台灣CPI","美國CPI","(Id-If)/(1+If)","變動匯率",null,null,null,null,null,null,null,null,null,null,null,null,null,null,null,null,"摘要輸出"]
[3.730817964240395E-3,-1.9E-3,3.0000000000000001E-3,{"$f":"(B2-C2)/(1+C2)","v":-4.8853439680957133E-3},3.730817964240395E-3]
[-7.9488447678936567E-3,1.38E-2,4.0000000000000001E-3,{"$f":"(B3-C3)/(1+C3)","v":9.7609561752988044E-3},-7.9488447678936567E-3,null,null,null,null,null,null,null,null,null,null,null,null,null,null,null,null,"迴歸統計"]
[2.0363814797939066E-2,1.2199999999999999E-2,2.5999999999999999E-2,-1.3450292397660818E-2,2.0363814797939066E-2,null,null,null,null,null,null,null,null,null,null,null,null,null,null,null,null,"R 的倍數",0.29015828644376623]
[1.0483005366726271E-2,2.1099999999999997E-2,4.2000000000000003E-2,-2.0057581573896359E-2,1.0483005366726271E-2,null,null,null,null,null,null,null,null,null,null,null,null,null,null,null,null,"R 平方",8.4191831191982702E-2]
[-7.7014860613949798E-3,2.4500000000000001E-2,0.05,-2.4285714285714285E-2,-7.7014860613949798E-3,null,null,null,null,null,null,null,null,null,null,null,null,null,null,null,null,"調整的 R 平方",4.7559504439662011E-2]
[-3.4445640473627585E-3,1.83E-2,5.3999999999999999E-2,-3.387096774193548E-2,-3.4445640473627585E-3,null,null,null,null,null,null,null,null,null,null,null,null,null,null,null,null,"標準誤",1.6502189196118507E-2]
[6.9369949224058714E-3,1.9099999999999999E-2,5.3999999999999999E-2,-3.3111954459203036E-2,6.9369949224058714E-3,null,null,null,null,null,null,null,null,null,null,null,null,null,null,null,null,"觀察值個數",27]
[-3.3847040184358779E-3,2.3399999999999997E-2,5.2999999999999999E-2,-2.8110161443494781E-2,-3.3847040184358779E-3]
[1.6507571951481868E-3,2.6000000000000002E-2,5.3999999999999999E-2,-2.656546489563567E-2,1.6507571951481868E-3,null,null,null,null,null,null,null,null,null,null,null,null,null,null,null,null,"ANOVA"]
[3.5945363048172404E-4,2.5499999999999998E-2,6.2E-2,-3.4369114877589459E-2,3.5945363048172404E-4,null,null,null,null,null,null,null,null,null,null,null,null,null,null,null,null,null,"自由度","SS","MS","F","顯著值"]
[4.3149946062566507E-3,2.8399999999999998E-2,6.8000000000000005E-2,-3.7078651685393267E-2,4.3149946062566507E-3,null,null,null,null,null,null,null,null,null,null,null,null,null,null,null,null,"迴歸",1,6.2587639902651586E-4,6.2587639902651586E-4,2.2982933014662814,0.1420597242506117]
[-4.9837486457204091E-3,2.63E-2,7.0000000000000007E-2,-4.08411214953271E-2,-4.9837486457204091E-3,null,null,null,null,null,null,null,null,null,null,null,null,null,null,null,null,"殘差",25,6.8080562066122592E-3,2.7232224826449037E-4]
[-6.935460687077814E-3,2.8300000000000002E-2,7.4999999999999997E-2,-4.3441860465116271E-2,-6.935460687077814E-3,null,null,null,null,null,null,null,null,null,null,null,null,null,null,null,null,"總和",26,7.4339326056387751E-3]
[-2.1448199564612223E-2,2.3300000000000001E-2,7.9000000000000001E-2,-5.1621872103799815E-2,-2.1448199564612223E-2]
[-2.9976940814757897E-2,3.27E-2,8.5000000000000006E-2,-4.820276497695853E-2,-2.9976940814757897E-2,null,null,null,null,null,null,null,null,null,null,null,null,null,null,null,null,null,"係數","標準誤","t 統計","P-值","下限 95%","上限 95%","下限 95.0%","上限 95.0%"]
[1.4077340569877854E-2,3.3700000000000001E-2,8.3000000000000004E-2,-4.5521698984302868E-2,1.4077340569877854E-2,null,null,null,null,null,null,null,null,null,null,null,null,null,null,null,null,"截距",8.481643498786981E-3,8.1226107012482701E-3,1.0442016502752662,0.30638446142768294,-8.2471863894403308E-3,2.5210473387014293E-2,-8.2471863894403308E-3,2.5210473387014293E-2]
[-2.2742129709272245E-2,3.39E-2,8.5999999999999993E-2,-4.7974217311233879E-2,-2.2742129709272245E-2,null,null,null,null,null,null,null,null,null,null,null,null,null,null,null,null,"(Id-If)/(1+IF)",0.32545469163396518,0.21467813360598473,1.5160123025445023,0.14205972425061136,-0.11668320096068369,0.76759258422861398,-0.11668320096068369,0.76759258422861398]
[-7.1318038081141007E-3,3.5900000000000001E-2,9.0999999999999998E-2,-5.050412465627864E-2,-7.1318038081141007E-3]
[-1.6600975349054709E-2,3.3500000000000002E-2,8.5000000000000006E-2,-4.7465437788018441E-2,-1.6600975349054709E-2]
[-4.2976835879743713E-2,2.6800000000000001E-2,8.3000000000000004E-2,-5.1892890120036936E-2,-4.2976835879743713E-2]
[-1.4711904986926325E-2,2.76E-2,8.2000000000000003E-2,-5.0277264325323479E-2,-1.4711904986926325E-2]
[4.0608506674945664E-2,2.7400000000000001E-2,7.6999999999999999E-2,-4.6053853296193131E-2,4.0608506674945664E-2]
[6.2779108148340755E-3,2.35E-2,7.0999999999999994E-2,-4.4351073762838464E-2,6.2779108148340755E-3]
[2.1362511397681347E-2,2.7099999999999999E-2,6.5000000000000002E-2,-3.5586854460093902E-2,2.1362511397681347E-2]
[-1.4241980567017198E-2,3.0499999999999999E-2,6.4000000000000001E-2,-3.1484962406015039E-2,-1.4241980567017198E-2]
[8.5301837270340556E-4,2.4199999999999999E-2,0.06,-3.3773584905660375E-2,8.5301837270340556E-4]
[-3.7958888815919282E-3,2.35E-2,0.05,-2.523809523809524E-2,-3.7958888815919282E-3]

{"sheet":"UIRP","index":7,"n_rows":29,"n_cols":22,"rows_kept":29,"cut":false,"hidden":false,"merged":[]}
["變動匯率","台灣重貼現率","美國十年期公債殖利率","(rd-rf)/(1+rf)","變動匯率",null,null,null,null,null,null,null,null,"摘要輸出"]
[3.730817964240395E-3,1.125,1.08,{"$f":"(B2-C2)/(1+C2)","v":2.1634615384615349E-2},3.730817964240395E-3]
[-7.9488447678936567E-3,1.125,1.26,{"$f":"(B3-C3)/(1+C3)","v":-5.9734513274336293E-2},-7.9488447678936567E-3,null,null,null,null,null,null,null,null,"迴歸統計"]
[2.0363814797939066E-2,1.125,1.61,-0.18582375478927204,2.0363814797939066E-2,null,null,null,null,null,null,null,null,"R 的倍數",1.0631989550100794E-2]
[1.0483005366726271E-2,1.125,1.64,-0.19507575757575757,1.0483005366726271E-2,null,null,null,null,null,null,null,null,"R 平方",1.130392017934525E-4]
[-7.7014860613949798E-3,1.125,1.62,-0.1889312977099237,-7.7014860613949798E-3,null,null,null,null,null,null,null,null,"調整的 R 平方",-3.9882439230134813E-2]
[-3.4445640473627585E-3,1.125,1.52,-0.15674603174603174,-3.4445640473627585E-3,null,null,null,null,null,null,null,null,"標準誤",1.7243076616231624E-2]
[6.9369949224058714E-3,1.125,1.32,-8.405172413793105E-2,6.9369949224058714E-3,null,null,null,null,null,null,null,null,"觀察值個數",27]
[-3.3847040184358779E-3,1.125,1.28,-6.798245614035088E-2,-3.3847040184358779E-3]
[1.6507571951481868E-3,1.125,1.37,-0.10337552742616038,1.6507571951481868E-3,null,null,null,null,null,null,null,null,"ANOVA"]
[3.5945363048172404E-4,1.125,1.58,-0.17635658914728686,3.5945363048172404E-4,null,null,null,null,null,null,null,null,null,"自由度","SS","MS","F","顯著值"]
[4.3149946062566507E-3,1.125,1.56,-0.16992187500000003,4.3149946062566507E-3,null,null,null,null,null,null,null,null,"迴歸",1,8.403258079277276E-7,8.403258079277276E-7,2.8262995274789277E-3,0.95802461800871486]
[-4.9837486457204091E-3,1.125,1.47,-0.1396761133603239,-4.9837486457204091E-3,null,null,null,null,null,null,null,null,"殘差",25,7.4330922798308474E-3,2.9732369119323389E-4]
[-6.935460687077814E-3,1.125,1.76,-0.23007246376811596,-6.935460687077814E-3,null,null,null,null,null,null,null,null,"總和",26,7.4339326056387751E-3]
[-2.1448199564612223E-2,1.125,1.93,-0.27474402730375425,-2.1448199564612223E-2]
[-2.9976940814757897E-2,1.375,2.13,-0.24121405750798719,-2.9976940814757897E-2,null,null,null,null,null,null,null,null,null,"係數","標準誤","t 統計","P-值","下限 95%","上限 95%","下限 95.0%","上限 95.0%"]
[1.4077340569877854E-2,1.375,2.75,-0.36666666666666664,1.4077340569877854E-2,null,null,null,null,null,null,null,null,"截距",-2.5207541964361916E-3,7.0607887076980531E-3,-0.35700745352823393,0.72408215778578688,-1.7062720752785466E-2,1.2021212359913084E-2,-1.7062720752785466E-2,1.2021212359913084E-2]
[-2.2742129709272245E-2,1.375,2.9,-0.39102564102564102,-2.2742129709272245E-2,null,null,null,null,null,null,null,null,"(rd-rf)/(1+rf)",1.263382232744412E-3,2.3764335337495522E-2,5.3162952584288749E-2,0.95802461800871197,-4.7680182575385165E-2,5.0206947040873993E-2,-4.7680182575385165E-2,5.0206947040873993E-2]
[-7.1318038081141007E-3,1.5,3.14,-0.39613526570048307,-7.1318038081141007E-3]
[-1.6600975349054709E-2,1.5,2.9,-0.35897435897435898,-1.6600975349054709E-2]
[-4.2976835879743713E-2,1.5,2.9,-0.35897435897435898,-4.2976835879743713E-2]
[-1.4711904986926325E-2,1.625,3.52,-0.41924778761061954,-1.4711904986926325E-2]
[4.0608506674945664E-2,1.625,3.98,-0.47289156626506018,4.0608506674945664E-2]
[6.2779108148340755E-3,1.625,3.89,-0.46319018404907975,6.2779108148340755E-3]
[2.1362511397681347E-2,1.75,3.62,-0.40476190476190477,2.1362511397681347E-2]
[-1.4241980567017198E-2,1.75,3.53,-0.39293598233995586,-1.4241980567017198E-2]
[8.5301837270340556E-4,1.75,3.75,-0.42105263157894735,8.5301837270340556E-4]
[-3.7958888815919282E-3,1.875,3.66,-0.38304721030042921,-3.7958888815919282E-3]
[null,null,"\\"]